BEGIN:VCALENDAR
VERSION:2.0
PRODID:-//Kamloops Vineyard Church - ECPv6.15.16//NONSGML v1.0//EN
CALSCALE:GREGORIAN
METHOD:PUBLISH
X-ORIGINAL-URL:https://kamloopsvineyard.com
X-WR-CALDESC:Events for Kamloops Vineyard Church
REFRESH-INTERVAL;VALUE=DURATION:PT1H
X-Robots-Tag:noindex
X-PUBLISHED-TTL:PT1H
BEGIN:VTIMEZONE
TZID:America/Vancouver
BEGIN:DAYLIGHT
TZOFFSETFROM:-0800
TZOFFSETTO:-0700
TZNAME:PDT
DTSTART:20210314T100000
END:DAYLIGHT
BEGIN:STANDARD
TZOFFSETFROM:-0700
TZOFFSETTO:-0800
TZNAME:PST
DTSTART:20211107T090000
END:STANDARD
BEGIN:DAYLIGHT
TZOFFSETFROM:-0800
TZOFFSETTO:-0700
TZNAME:PDT
DTSTART:20220313T100000
END:DAYLIGHT
BEGIN:STANDARD
TZOFFSETFROM:-0700
TZOFFSETTO:-0800
TZNAME:PST
DTSTART:20221106T090000
END:STANDARD
BEGIN:DAYLIGHT
TZOFFSETFROM:-0800
TZOFFSETTO:-0700
TZNAME:PDT
DTSTART:20230312T100000
END:DAYLIGHT
BEGIN:STANDARD
TZOFFSETFROM:-0700
TZOFFSETTO:-0800
TZNAME:PST
DTSTART:20231105T090000
END:STANDARD
END:VTIMEZONE
BEGIN:VEVENT
DTSTART;VALUE=DATE:20220603
DTEND;VALUE=DATE:20220604
DTSTAMP:20260423T200446
CREATED:20220417T153349Z
LAST-MODIFIED:20220527T221116Z
UID:3514-1654214400-1654300799@kamloopsvineyard.com
SUMMARY:Sacred Rhythms Course. Session 4. Friday June 3rd @ 7 pm. (Northshore)
DESCRIPTION:Welcome to the Vineyard’s Sacred Rhythms Course.\nSix Sessions over Six Weeks. \n\n\n\n\nThe Kamloops Vineyard welcomes the teaching and practice of ‘Sacred Rhythms – Arranging Our Lives for Spiritual Transformation’. \nDo you long for a deep\, fundamental change in your life with God?\nDo you desire a greater intimacy with Him? Do you wonder how you might truly live your life as God created you to live it? \nSpiritual disciplines are activities that open us to God’s transforming love and into changes that only God can bring about in our lives. Reflective of valued practices and ancient pathways\, Monastic traditions welcomed the creation of a “rule of life” with the singular purpose to create space for ongoing encounter with God. \nIn her book and study guide\, Sacred Rhythms\, Ruth Haley Barton presents us with well- thought-out offerings of wisdom and practical exercises—seven core disciplines that we can meaningfully weave into our everyday life. Ultimately\, our goal is to take everything learned to help fashion a rule for living that welcomes spiritual transformation in our personal lives. \n\nFor more information on this and other groups meeting at other locations and to include your name on a list of people planning to take this course in the FALL\, please contact please contact Debbie Tombe\, debbie@kamloopsvineyard.com\, 250-828-1690.
URL:https://kamloopsvineyard.com/event/sacred-rhythms-course-session-5-friday-may-20th-7-pm-northshore/
LOCATION:MacLeod’s Home\, 1265 Barrier Drive\, Kamloops\, BC\, V2B 3Y3\, Canada
ATTACH;FMTTYPE=image/jpeg:https://kamloopsvineyard.com/wp-content/uploads/2022/04/SacredRhythms_02@1000.jpeg
END:VEVENT
BEGIN:VEVENT
DTSTART;VALUE=DATE:20220605
DTEND;VALUE=DATE:20220606
DTSTAMP:20260423T200446
CREATED:20220527T223535Z
LAST-MODIFIED:20220527T223535Z
UID:3689-1654387200-1654473599@kamloopsvineyard.com
SUMMARY:Sunday Worship Service. June 5th @ 2 pm. (Communion Sunday)
DESCRIPTION:Join us Sunday June 5th @ 2 pm.\nGateway City Church\, Valleyview. \nFollowing corporate worship the children break out for Kids’ Church on the 2nd and 4th Sundays of every month. \nWe’re Streaming LIVE\nIF you can’t meet with us in-person\, join us ONLINE.\nFacebook Public\nFacebook Group\nYouTube \nMany hands help lighten the workload. We’re looking for people to help with setup\, takedown\, cleanup\, greeting. Please contact Connie Smith and Debbie Tombe to find out how you can help serve. Please email\, info@kamloopsvineyard.com or call the office at 250-828-1690.
URL:https://kamloopsvineyard.com/event/sunday-worship-service-june-5th-2-pm-communion-sunday/
LOCATION:British Columbia
CATEGORIES:In-Person Worship Service,Streaming LIVE,Sunday In-Person Worship
ATTACH;FMTTYPE=image/jpeg:https://kamloopsvineyard.com/wp-content/uploads/2021/10/SundayWorship@1000.jpeg
END:VEVENT
BEGIN:VEVENT
DTSTART;VALUE=DATE:20220607
DTEND;VALUE=DATE:20220608
DTSTAMP:20260423T200446
CREATED:20220417T152021Z
LAST-MODIFIED:20220527T221339Z
UID:3495-1654560000-1654646399@kamloopsvineyard.com
SUMMARY:Sacred Rhythms Course. POTLUCK and Final Session 6. Tuesday June @ 7 pm. (Barnhartvale)
DESCRIPTION:Welcome to the Vineyard’s Sacred Rhythms Course.\nSix Sessions over Six Weeks. \n\n\n\n\nThe Kamloops Vineyard welcomes the teaching and practice of ‘Sacred Rhythms – Arranging Our Lives for Spiritual Transformation’. \nDo you long for a deep\, fundamental change in your life with God?\nDo you desire a greater intimacy with Him? Do you wonder how you might truly live your life as God created you to live it? \nSpiritual disciplines are activities that open us to God’s transforming love and into changes that only God can bring about in our lives. Reflective of valued practices and ancient pathways\, Monastic traditions welcomed the creation of a “rule of life” with the singular purpose to create space for ongoing encounter with God. \nIn her book and study guide\, Sacred Rhythms\, Ruth Haley Barton presents us with well- thought-out offerings of wisdom and practical exercises—seven core disciplines that we can meaningfully weave into our everyday life. Ultimately\, our goal is to take everything learned to help fashion a rule for living that welcomes spiritual transformation in our personal lives. \n\nFor more information on this and other groups meeting at other locations and to include your name on a list of people planning to take this course in the FALL\, please contact please contact Debbie Tombe\, debbie@kamloopsvineyard.com\, 250-828-1690.
URL:https://kamloopsvineyard.com/event/sacred-rhythms-course-session-6-tues-may-31th-7-pm-barnhartvale/
LOCATION:Tombe’s Home\, 1266 Pine Grove Rd\, Kamloops\, British Columbia\, V2C 6V6\, Canada
ATTACH;FMTTYPE=image/jpeg:https://kamloopsvineyard.com/wp-content/uploads/2022/04/SacredRhythms_02@1000.jpeg
END:VEVENT
BEGIN:VEVENT
DTSTART;VALUE=DATE:20220607
DTEND;VALUE=DATE:20220608
DTSTAMP:20260423T200446
CREATED:20220527T224323Z
LAST-MODIFIED:20220527T224323Z
UID:3697-1654560000-1654646399@kamloopsvineyard.com
SUMMARY:Band of Brothers 'AM Company' Tuesday June 7th @ 8:30 am.
DESCRIPTION:Band of Brothers is a group of men connecting IN-PERSON and ONLINE. Our primary purpose is to support one another in life and faith. \n“We’re called to journey together because we’re not supposed to do it alone.” \nTo be included in a weekly ZOOM invitation to the please email David Tombe.\ndavid@kamloopsvineyard.com
URL:https://kamloopsvineyard.com/event/band-of-brothers-am-company-tuesday-june-7th-830-am/
LOCATION:VIDEO CONFERENCING Kamloops Vineyard Church\, Kamloops\, British Columbia\, Canada
CATEGORIES:Men's Fellowship,Video Conferencing
ATTACH;FMTTYPE=image/jpeg:https://kamloopsvineyard.com/wp-content/uploads/2021/04/BandofBrotherImage@350AM.jpg
END:VEVENT
BEGIN:VEVENT
DTSTART;VALUE=DATE:20220610
DTEND;VALUE=DATE:20220611
DTSTAMP:20260423T200446
CREATED:20220417T154519Z
LAST-MODIFIED:20220527T221445Z
UID:3527-1654819200-1654905599@kamloopsvineyard.com
SUMMARY:Sacred Rhythms Course. Session 5. Friday June 10th @ 7 pm. (Northshore)
DESCRIPTION:Welcome to the Vineyard’s Sacred Rhythms Course.\nSix Sessions over Six Weeks. \n\n\n\n\nThe Kamloops Vineyard welcomes the teaching and practice of ‘Sacred Rhythms – Arranging Our Lives for Spiritual Transformation’. \nDo you long for a deep\, fundamental change in your life with God?\nDo you desire a greater intimacy with Him? Do you wonder how you might truly live your life as God created you to live it? \nSpiritual disciplines are activities that open us to God’s transforming love and into changes that only God can bring about in our lives. Reflective of valued practices and ancient pathways\, Monastic traditions welcomed the creation of a “rule of life” with the singular purpose to create space for ongoing encounter with God. \nIn her book and study guide\, Sacred Rhythms\, Ruth Haley Barton presents us with well- thought-out offerings of wisdom and practical exercises—seven core disciplines that we can meaningfully weave into our everyday life. Ultimately\, our goal is to take everything learned to help fashion a rule for living that welcomes spiritual transformation in our personal lives. \n\nFor more information on this and other groups meeting at other locations and to include your name on a list of people planning to take this course in the FALL\, please contact please contact Debbie Tombe\, debbie@kamloopsvineyard.com\, 250-828-1690.
URL:https://kamloopsvineyard.com/event/sacred-rhythms-course-session-6-friday-may-27th-7-pm-northshore/
LOCATION:MacLeod’s Home\, 1265 Barrier Drive\, Kamloops\, BC\, V2B 3Y3\, Canada
ATTACH;FMTTYPE=image/jpeg:https://kamloopsvineyard.com/wp-content/uploads/2022/04/SacredRhythms_02@1000.jpeg
END:VEVENT
BEGIN:VEVENT
DTSTART;VALUE=DATE:20220612
DTEND;VALUE=DATE:20220613
DTSTAMP:20260423T200446
CREATED:20220527T223655Z
LAST-MODIFIED:20220527T223655Z
UID:3691-1654992000-1655078399@kamloopsvineyard.com
SUMMARY:Sunday Worship Service. June 12th @ 2 pm.
DESCRIPTION:Join us Sunday June 12th @ 2 pm.\nGateway City Church\, Valleyview. \nFollowing corporate worship the children break out for Kids’ Church on the 2nd and 4th Sundays of every month. \nWe’re Streaming LIVE\nIF you can’t meet with us in-person\, join us ONLINE.\nFacebook Public\nFacebook Group\nYouTube \nMany hands help lighten the workload. We’re looking for people to help with setup\, takedown\, cleanup\, greeting. Please contact Connie Smith and Debbie Tombe to find out how you can help serve. Please email\, info@kamloopsvineyard.com or call the office at 250-828-1690.
URL:https://kamloopsvineyard.com/event/sunday-worship-service-june-12th-2-pm/
LOCATION:British Columbia
CATEGORIES:In-Person Worship Service,Streaming LIVE,Sunday In-Person Worship
ATTACH;FMTTYPE=image/jpeg:https://kamloopsvineyard.com/wp-content/uploads/2021/10/SundayWorship@1000.jpeg
END:VEVENT
BEGIN:VEVENT
DTSTART;VALUE=DATE:20220614
DTEND;VALUE=DATE:20220615
DTSTAMP:20260423T200446
CREATED:20220527T224414Z
LAST-MODIFIED:20220527T224414Z
UID:3698-1655164800-1655251199@kamloopsvineyard.com
SUMMARY:Band of Brothers 'AM Company' Tuesday June 14th @ 8:30 am.
DESCRIPTION:Band of Brothers is a group of men connecting IN-PERSON and ONLINE. Our primary purpose is to support one another in life and faith. \n“We’re called to journey together because we’re not supposed to do it alone.” \nTo be included in a weekly ZOOM invitation to the please email David Tombe.\ndavid@kamloopsvineyard.com
URL:https://kamloopsvineyard.com/event/band-of-brothers-am-company-tuesday-june-14th-830-am/
LOCATION:VIDEO CONFERENCING Kamloops Vineyard Church\, Kamloops\, British Columbia\, Canada
CATEGORIES:Men's Fellowship,Video Conferencing
ATTACH;FMTTYPE=image/jpeg:https://kamloopsvineyard.com/wp-content/uploads/2021/04/BandofBrotherImage@350AM.jpg
END:VEVENT
BEGIN:VEVENT
DTSTART;VALUE=DATE:20220617
DTEND;VALUE=DATE:20220618
DTSTAMP:20260423T200446
CREATED:20220427T182848Z
LAST-MODIFIED:20220527T221519Z
UID:3581-1655424000-1655510399@kamloopsvineyard.com
SUMMARY:Sacred Rhythms Course. Session 6. Friday June 17th @ 7 pm. (Northshore)
DESCRIPTION:Welcome to the Vineyard’s Sacred Rhythms Course.\nSix Sessions over Six Weeks. \n\n\n\n\nThe Kamloops Vineyard welcomes the teaching and practice of ‘Sacred Rhythms – Arranging Our Lives for Spiritual Transformation’. \nDo you long for a deep\, fundamental change in your life with God?\nDo you desire a greater intimacy with Him? Do you wonder how you might truly live your life as God created you to live it? \nSpiritual disciplines are activities that open us to God’s transforming love and into changes that only God can bring about in our lives. Reflective of valued practices and ancient pathways\, Monastic traditions welcomed the creation of a “rule of life” with the singular purpose to create space for ongoing encounter with God. \nIn her book and study guide\, Sacred Rhythms\, Ruth Haley Barton presents us with well- thought-out offerings of wisdom and practical exercises—seven core disciplines that we can meaningfully weave into our everyday life. Ultimately\, our goal is to take everything learned to help fashion a rule for living that welcomes spiritual transformation in our personal lives. \n\nFor more information on this and other groups meeting at other locations and to include your name on a list of people planning to take this course in the FALL\, please contact please contact Debbie Tombe\, debbie@kamloopsvineyard.com\, 250-828-1690.
URL:https://kamloopsvineyard.com/event/sacred-rhythms-course-session-6-friday-june-3rd-7-pm-northshore/
LOCATION:MacLeod’s Home\, 1265 Barrier Drive\, Kamloops\, BC\, V2B 3Y3\, Canada
ATTACH;FMTTYPE=image/jpeg:https://kamloopsvineyard.com/wp-content/uploads/2022/04/SacredRhythms_02@1000.jpeg
END:VEVENT
BEGIN:VEVENT
DTSTART;VALUE=DATE:20220619
DTEND;VALUE=DATE:20220620
DTSTAMP:20260423T200446
CREATED:20220527T222902Z
LAST-MODIFIED:20220617T153730Z
UID:3686-1655596800-1655683199@kamloopsvineyard.com
SUMMARY:Father's Day Picnic. Sunday June 19th. (Third Sunday)
DESCRIPTION:THIS Sunday June 19th @ 11 am.\nWestsyde Centennial Park. \n\nThis 3rd Sunday we are NOT gathering at Gateway City Church but we are joining at Westsyde Centennial Park to celebrate DADs.\nFamily picnic and games from 11 am to 2 pm. \nPlease bring a picnic for your family\, drinks\, chairs or picnic blankets\, and sports equipment if you would like. \nThis is NOT a shared meal however ice cream cake will be provided for everyone. There is a playground\, petting zoo\, water park\, soccer fields and baseball diamonds. We’d love to see our dads and kids (young and old) play a game of baseball\, soccer\, frisbee\, etc. \nCome join us for some family fun to honour our superhero dads\, grandpas\, and all the men in our lives. \nFor more information please contact event coordinators:\nKaren Enns\, karen@kamloopsvineyard.com\nAmanda Kleywegt\, kleywegt@hotmail.ca \n\nLocation: Westsyde Centennial Park\, 705 Franklin Rd\, Kamloops\, BC V2B 6G5
URL:https://kamloopsvineyard.com/event/fathers-day-picnic-third-sunday-of-the-month-sunday-june-19th/
LOCATION:British Columbia
CATEGORIES:Outdoor Gathering,Special Event
ATTACH;FMTTYPE=image/jpeg:https://kamloopsvineyard.com/wp-content/uploads/2022/05/43e3343e-4b22-5790-3bff-3663adf5ec58-1.jpg
END:VEVENT
BEGIN:VEVENT
DTSTART;VALUE=DATE:20220621
DTEND;VALUE=DATE:20220622
DTSTAMP:20260423T200446
CREATED:20220527T224624Z
LAST-MODIFIED:20220527T224624Z
UID:3701-1655769600-1655855999@kamloopsvineyard.com
SUMMARY:Band of Brothers 'AM Company' Tuesday June 21st @ 8:30 am.
DESCRIPTION:Band of Brothers is a group of men connecting IN-PERSON and ONLINE. Our primary purpose is to support one another in life and faith. \n“We’re called to journey together because we’re not supposed to do it alone.” \nTo be included in a weekly ZOOM invitation to the please email David Tombe.\ndavid@kamloopsvineyard.com
URL:https://kamloopsvineyard.com/event/band-of-brothers-am-company-tuesday-june-21st-830-am/
LOCATION:VIDEO CONFERENCING Kamloops Vineyard Church\, Kamloops\, British Columbia\, Canada
CATEGORIES:Men's Fellowship,Video Conferencing
ATTACH;FMTTYPE=image/jpeg:https://kamloopsvineyard.com/wp-content/uploads/2021/04/BandofBrotherImage@350AM.jpg
END:VEVENT
BEGIN:VEVENT
DTSTART;VALUE=DATE:20220624
DTEND;VALUE=DATE:20220625
DTSTAMP:20260423T200446
CREATED:20220511T220446Z
LAST-MODIFIED:20220511T225259Z
UID:3620-1656028800-1656115199@kamloopsvineyard.com
SUMMARY:Worship. Waiting. Weighing Tour. (Chilliwack) Friday June 24th @ 7 pm.
DESCRIPTION:In anticipation of our National Celebration this coming July\, David and Anita Ruis\, will be traveling to across the country\, leading evenings of “Worship\, Waiting\, and Weighing”. \nWe want to lean into the Holy Spirit together after a long season of isolation and discern what He is speaking to us collectively.\nCheck in with the Chilliwack Vineyard for more information! \nAll are welcome!
URL:https://kamloopsvineyard.com/event/an-evening-of-worship-waiting-weighing/
LOCATION:British Columbia
CATEGORIES:Special Event
ATTACH;FMTTYPE=image/jpeg:https://kamloopsvineyard.com/wp-content/uploads/2022/05/WWW-Tour-Poster-2-@-1000.jpg
END:VEVENT
BEGIN:VEVENT
DTSTART;VALUE=DATE:20220626
DTEND;VALUE=DATE:20220627
DTSTAMP:20260423T200446
CREATED:20220527T224922Z
LAST-MODIFIED:20220527T224943Z
UID:3705-1656201600-1656287999@kamloopsvineyard.com
SUMMARY:Sunday Worship Service. June 26th @ 2 pm.
DESCRIPTION:Join us Sunday June 26th @ 2 pm.\nGateway City Church\, Valleyview. \nFollowing corporate worship the children break out for Kids’ Church on the 2nd and 4th Sundays of every month. \nWe’re Streaming LIVE\nIF you can’t meet with us in-person\, join us ONLINE.\nFacebook Public\nFacebook Group\nYouTube \nMany hands help lighten the workload. We’re looking for people to help with setup\, takedown\, cleanup\, greeting. Please contact Connie Smith and Debbie Tombe to find out how you can help serve. Please email\, info@kamloopsvineyard.com or call the office at 250-828-1690.
URL:https://kamloopsvineyard.com/event/sunday-worship-service-june-26th-2-pm/
LOCATION:British Columbia
CATEGORIES:In-Person Worship Service,Streaming LIVE,Sunday In-Person Worship
ATTACH;FMTTYPE=image/jpeg:https://kamloopsvineyard.com/wp-content/uploads/2021/10/SundayWorship@1000.jpeg
END:VEVENT
BEGIN:VEVENT
DTSTART;VALUE=DATE:20220628
DTEND;VALUE=DATE:20220629
DTSTAMP:20260423T200446
CREATED:20220527T224713Z
LAST-MODIFIED:20220527T224713Z
UID:3703-1656374400-1656460799@kamloopsvineyard.com
SUMMARY:Band of Brothers 'AM Company' Tuesday June 28th @ 8:30 am.
DESCRIPTION:Band of Brothers is a group of men connecting IN-PERSON and ONLINE. Our primary purpose is to support one another in life and faith. \n“We’re called to journey together because we’re not supposed to do it alone.” \nTo be included in a weekly ZOOM invitation to the please email David Tombe.\ndavid@kamloopsvineyard.com
URL:https://kamloopsvineyard.com/event/band-of-brothers-am-company-tuesday-june-28th-830-am/
LOCATION:VIDEO CONFERENCING Kamloops Vineyard Church\, Kamloops\, British Columbia\, Canada
CATEGORIES:Men's Fellowship,Video Conferencing
ATTACH;FMTTYPE=image/jpeg:https://kamloopsvineyard.com/wp-content/uploads/2021/04/BandofBrotherImage@350AM.jpg
END:VEVENT
END:VCALENDAR