BEGIN:VCALENDAR
VERSION:2.0
PRODID:-//Kamloops Vineyard Church - ECPv6.15.16//NONSGML v1.0//EN
CALSCALE:GREGORIAN
METHOD:PUBLISH
X-WR-CALNAME:Kamloops Vineyard Church
X-ORIGINAL-URL:https://kamloopsvineyard.com
X-WR-CALDESC:Events for Kamloops Vineyard Church
REFRESH-INTERVAL;VALUE=DURATION:PT1H
X-Robots-Tag:noindex
X-PUBLISHED-TTL:PT1H
BEGIN:VTIMEZONE
TZID:America/Vancouver
BEGIN:DAYLIGHT
TZOFFSETFROM:-0800
TZOFFSETTO:-0700
TZNAME:PDT
DTSTART:20210314T100000
END:DAYLIGHT
BEGIN:STANDARD
TZOFFSETFROM:-0700
TZOFFSETTO:-0800
TZNAME:PST
DTSTART:20211107T090000
END:STANDARD
BEGIN:DAYLIGHT
TZOFFSETFROM:-0800
TZOFFSETTO:-0700
TZNAME:PDT
DTSTART:20220313T100000
END:DAYLIGHT
BEGIN:STANDARD
TZOFFSETFROM:-0700
TZOFFSETTO:-0800
TZNAME:PST
DTSTART:20221106T090000
END:STANDARD
BEGIN:DAYLIGHT
TZOFFSETFROM:-0800
TZOFFSETTO:-0700
TZNAME:PDT
DTSTART:20230312T100000
END:DAYLIGHT
BEGIN:STANDARD
TZOFFSETFROM:-0700
TZOFFSETTO:-0800
TZNAME:PST
DTSTART:20231105T090000
END:STANDARD
END:VTIMEZONE
BEGIN:VEVENT
DTSTART;VALUE=DATE:20220802
DTEND;VALUE=DATE:20220803
DTSTAMP:20260423T161957
CREATED:20220709T173732Z
LAST-MODIFIED:20220709T173732Z
UID:3755-1659398400-1659484799@kamloopsvineyard.com
SUMMARY:Band of Brothers 'AM Company' Tuesday Aug 2nd @ 8:30 am.
DESCRIPTION:Band of Brothers is a group of men connecting IN-PERSON and ONLINE. Our primary purpose is to support one another in life and faith. \n“We’re called to journey together because we’re not supposed to do it alone.” \nTo be included in a weekly ZOOM invitation to the please email David Tombe.\ndavid@kamloopsvineyard.com
URL:https://kamloopsvineyard.com/event/band-of-brothers-am-company-tuesday-aug-2nd-830-am/
LOCATION:VIDEO CONFERENCING Kamloops Vineyard Church\, Kamloops\, British Columbia\, Canada
CATEGORIES:Men's Fellowship,Video Conferencing
ATTACH;FMTTYPE=image/jpeg:https://kamloopsvineyard.com/wp-content/uploads/2021/04/BandofBrotherImage@350AM.jpg
END:VEVENT
BEGIN:VEVENT
DTSTART;VALUE=DATE:20220807
DTEND;VALUE=DATE:20220808
DTSTAMP:20260423T161957
CREATED:20220709T175341Z
LAST-MODIFIED:20220709T175341Z
UID:3771-1659830400-1659916799@kamloopsvineyard.com
SUMMARY:Sunday Worship and Communion Service. August 7th @ 2 pm.
DESCRIPTION:Join us Sunday August 7th @ 2 pm.\nWorship and Communion Service.\nGateway City Church\, Valleyview.\n \nKids activity area and Kids Activity Bags will be made available to parents throughout the Summer months. \nWe’re Streaming LIVE\nIF you can’t meet with us in-person\, join us ONLINE.\nFacebook Public\nFacebook Group\nYouTube \nMany hands help lighten the workload. We’re looking for people to help with setup\, takedown\, cleanup\, greeting. Please contact Connie Smith and Debbie Tombe to find out how you can help serve. Please email\, info@kamloopsvineyard.com or call the office at 250-828-1690.
URL:https://kamloopsvineyard.com/event/sunday-worship-and-communion-service-august-7th-2-pm/
LOCATION:British Columbia
CATEGORIES:In-Person Worship Service,Streaming LIVE,Sunday In-Person Worship
ATTACH;FMTTYPE=image/jpeg:https://kamloopsvineyard.com/wp-content/uploads/2022/06/WorshipCommunion_001@1000.jpeg
END:VEVENT
BEGIN:VEVENT
DTSTART;VALUE=DATE:20220809
DTEND;VALUE=DATE:20220810
DTSTAMP:20260423T161957
CREATED:20220709T173923Z
LAST-MODIFIED:20220709T173923Z
UID:3757-1660003200-1660089599@kamloopsvineyard.com
SUMMARY:Band of Brothers 'AM Company' Tuesday Aug 9th @ 8:30 am.
DESCRIPTION:Band of Brothers is a group of men connecting IN-PERSON and ONLINE. Our primary purpose is to support one another in life and faith. \n“We’re called to journey together because we’re not supposed to do it alone.” \nTo be included in a weekly ZOOM invitation to the please email David Tombe.\ndavid@kamloopsvineyard.com
URL:https://kamloopsvineyard.com/event/band-of-brothers-am-company-tuesday-aug-9th-830-am/
LOCATION:VIDEO CONFERENCING Kamloops Vineyard Church\, Kamloops\, British Columbia\, Canada
CATEGORIES:Men's Fellowship,Video Conferencing
ATTACH;FMTTYPE=image/jpeg:https://kamloopsvineyard.com/wp-content/uploads/2021/04/BandofBrotherImage@350AM.jpg
END:VEVENT
BEGIN:VEVENT
DTSTART;VALUE=DATE:20220814
DTEND;VALUE=DATE:20220815
DTSTAMP:20260423T161957
CREATED:20220709T175515Z
LAST-MODIFIED:20220709T180032Z
UID:3773-1660435200-1660521599@kamloopsvineyard.com
SUMMARY:Sunday Worship Service. August 14th @ 2 pm.
DESCRIPTION:Join us Sunday August 14th @ 2 pm.\nGateway City Church\, Valleyview. \nKids activity area and Kids Activity Bags will be made available to parents throughout the Summer months. \nWe’re Streaming LIVE\nIF you can’t meet with us in-person\, join us ONLINE.\nFacebook Public\nFacebook Group\nYouTube \nMany hands help lighten the workload. We’re looking for people to help with setup\, takedown\, cleanup\, greeting. Please contact Connie Smith and Debbie Tombe to find out how you can help serve. Please email\, info@kamloopsvineyard.com or call the office at 250-828-1690.
URL:https://kamloopsvineyard.com/event/sunday-worship-service-august-14th-2-pm/
LOCATION:British Columbia
CATEGORIES:In-Person Worship Service,Streaming LIVE,Sunday In-Person Worship
ATTACH;FMTTYPE=image/jpeg:https://kamloopsvineyard.com/wp-content/uploads/2021/10/SundayWorship@1000.jpeg
END:VEVENT
BEGIN:VEVENT
DTSTART;VALUE=DATE:20220816
DTEND;VALUE=DATE:20220817
DTSTAMP:20260423T161957
CREATED:20220709T174013Z
LAST-MODIFIED:20220709T174013Z
UID:3759-1660608000-1660694399@kamloopsvineyard.com
SUMMARY:Band of Brothers 'AM Company' Tuesday Aug 16th @ 8:30 am.
DESCRIPTION:Band of Brothers is a group of men connecting IN-PERSON and ONLINE. Our primary purpose is to support one another in life and faith. \n“We’re called to journey together because we’re not supposed to do it alone.” \nTo be included in a weekly ZOOM invitation to the please email David Tombe.\ndavid@kamloopsvineyard.com
URL:https://kamloopsvineyard.com/event/band-of-brothers-am-company-tuesday-aug-16th-830-am/
LOCATION:VIDEO CONFERENCING Kamloops Vineyard Church\, Kamloops\, British Columbia\, Canada
CATEGORIES:Men's Fellowship,Video Conferencing
ATTACH;FMTTYPE=image/jpeg:https://kamloopsvineyard.com/wp-content/uploads/2021/04/BandofBrotherImage@350AM.jpg
END:VEVENT
BEGIN:VEVENT
DTSTART;VALUE=DATE:20220819
DTEND;VALUE=DATE:20220822
DTSTAMP:20260423T161957
CREATED:20220527T230804Z
LAST-MODIFIED:20220712T152958Z
UID:3707-1660867200-1661126399@kamloopsvineyard.com
SUMMARY:Let's Go Camping @ Herald Provincial Park. August 19th\, 20th and 21st. (Fri - Sun)
DESCRIPTION:We’re gathering at Herald Provincial Park\, August 19th – 21st!\nJoin us for an event\, a whole day\, or the whole weekend!!\nEveryone is welcome\, bring your friends\, neighbours\, and families and come join us for a hike\, some beach time\, worship or a group meal.If you plan to join us for the Shared Family Picnic please let Debbie or Karen know as burgers\, hotdogs\, buns and condiments will be provided. \nDebbie Tombe\, debbie@kamloopsvineyard.com\nKaren Enns\, karen@kamloopsvineyard.com \nFriday- August 19- 2:00 PM\nBeach and Water Games-Main beach by playground\nFun for young and old\, corn hole\, watermelon polo\, relay races\, giant bubbles and so much more.  Come join the fun or just come and watch. \nSaturday-August 20th 11:00 AM\nHike to Margaret Falls-Meet at the campground bridge \nJoin us for a leisurely hike to Margaret Falls and back\, bring your own snacks and water bottles\, if needed.  This is a beautiful short hike suitable for all skill levels and stroller friendly. \n\nSaturday-August 20th 4:00-5:00 PM\nBeachside Group Worship c/o Brent Bylsma-South end of main beach \nJoin us for a casual time of worship in the open air before our group picnic.\n\nSaturday-August 20th 5:30 PM\nShared Family Picnic-South end of main beach \nEveryone is welcome\, bring your friends\, bring your neighbours\, and bring something yummy to share.  Burgers\, hot dogs\, buns and condiments will be provided.  Please bring a side dish or two to share with everyone\, your own eating utensils\, drinks\, and chairs or picnic blankets. Please let Debbie or Karen know if you plan to participate in the group meal.\n\nDebbie Tombe\, debbie@kamloopsvineyard.com\nKaren Enns\, karen@kamloopsvineyard.com\n\nSaturday-August 20th 8:00 PM\nLate Night Campfire Snack-Site H1\nHomemade campfire Apple Fritters by Walter\, Sue\, and Karen.  Feel free to bring your own s’mores supplies or other treats to share if you want.\n\nClick here for a PDF copy of the Family Camp Schedule.\n\n____\n  \nContact people: \nKaren Enns\, karen@kamloopsvineyard.com\nAmanda Kleywegt\, kleywegt@hotmail.ca\n \nIMPORTANT: IF you’re camping please reserve your campsite in advance! Effective June 19th\, most of the camping sites had been reserved. Keep checking in to find a sites that may have open up due to cancellations!! \nhttps://bcparks.ca/explore/parkpgs/herald/ \n 
URL:https://kamloopsvineyard.com/event/lets-go-camping-herald-provincial-park-august-19th-20th-and-21st/
LOCATION:Herald Provincial Park\, 4861 Sunnybrae-Canoe Point Rd\, Tappen\, British Colmbia\, V0E 2X1\, Canada
CATEGORIES:Outdoor Service,Special Event,Vineyard Outdoors
ATTACH;FMTTYPE=image/jpeg:https://kamloopsvineyard.com/wp-content/uploads/2022/05/FamilyCamp2022@1000.jpeg
END:VEVENT
BEGIN:VEVENT
DTSTART;VALUE=DATE:20220820
DTEND;VALUE=DATE:20220821
DTSTAMP:20260423T161957
CREATED:20220630T175812Z
LAST-MODIFIED:20220709T172632Z
UID:3731-1660953600-1661039999@kamloopsvineyard.com
SUMMARY:Vineyard Picnic @ Herald Provincial Park. SATURDAY AUG 20th.
DESCRIPTION:Hello Church family! \nCircle your calendars for Saturday August 20th.\nCome enjoy a day at the park and at the beach.\nThere is plenty for everyone in the family to enjoy! \nFolks will be showing up throughout the morning and afternoon. \nSaturday-August 20th 11:00 AM\nHike to Margaret Falls-Meet at the campground bridge \nJoin us for a leisurely hike to Margaret Falls and back\, bring your own snacks and water bottles\, if needed.  This is a beautiful short hike suitable for all skill levels and stroller friendly. \n\nSaturday-August 20th 4:00-5:00 PM\nBeachside Group Worship c/o Brent Bylsma-South end of main beach \nJoin us for a casual time of worship in the open air before our group picnic.\n\nSaturday-August 20th 5:30 PM\nShared Family Picnic-South end of main beach \nEveryone is welcome\, bring your friends\, bring your neighbours\, and bring something yummy to share.  Burgers\, hot dogs\, buns and condiments will be provided.  Please bring a side dish or two to share with everyone\, your own eating utensils\, drinks\, and chairs or picnic blankets. Please let Debbie or Karen know if you plan to participate in the group meal.\n\nDebbie Tombe\, debbie@kamloopsvineyard.com\nKaren Enns\, karen@kamloopsvineyard.com\nClick on the map or links to visit\nHerald Provincial Park Facebook and Googlemaps for information and directions.
URL:https://kamloopsvineyard.com/event/vineyard-picnic-herald-provincial-park-early-afternoon-saturday-aug-20th/
LOCATION:Herald Provincial Park\, 4861 Sunnybrae-Canoe Point Rd\, Tappen\, British Colmbia\, V0E 2X1\, Canada
CATEGORIES:Outdoor Gathering,Special Event
ATTACH;FMTTYPE=image/jpeg:https://kamloopsvineyard.com/wp-content/uploads/2022/06/VineyardPicnic2022@1000.jpeg
END:VEVENT
BEGIN:VEVENT
DTSTART;VALUE=DATE:20220823
DTEND;VALUE=DATE:20220824
DTSTAMP:20260423T161957
CREATED:20220709T174103Z
LAST-MODIFIED:20220709T174103Z
UID:3761-1661212800-1661299199@kamloopsvineyard.com
SUMMARY:Band of Brothers 'AM Company' Tuesday Aug 23rd @ 8:30 am.
DESCRIPTION:Band of Brothers is a group of men connecting IN-PERSON and ONLINE. Our primary purpose is to support one another in life and faith. \n“We’re called to journey together because we’re not supposed to do it alone.” \nTo be included in a weekly ZOOM invitation to the please email David Tombe.\ndavid@kamloopsvineyard.com
URL:https://kamloopsvineyard.com/event/band-of-brothers-am-company-tuesday-aug-23rd-830-am/
LOCATION:VIDEO CONFERENCING Kamloops Vineyard Church\, Kamloops\, British Columbia\, Canada
CATEGORIES:Men's Fellowship,Video Conferencing
ATTACH;FMTTYPE=image/jpeg:https://kamloopsvineyard.com/wp-content/uploads/2021/04/BandofBrotherImage@350AM.jpg
END:VEVENT
BEGIN:VEVENT
DTSTART;VALUE=DATE:20220828
DTEND;VALUE=DATE:20220829
DTSTAMP:20260423T161957
CREATED:20220709T180129Z
LAST-MODIFIED:20220709T180139Z
UID:3775-1661644800-1661731199@kamloopsvineyard.com
SUMMARY:Sunday Worship Service. August 28th @ 2 pm.
DESCRIPTION:Join us Sunday August 28th @ 2 pm.\nGateway City Church\, Valleyview. \nKids activity area and Kids Activity Bags will be made available to parents throughout the Summer months. \nWe’re Streaming LIVE\nIF you can’t meet with us in-person\, join us ONLINE.\nFacebook Public\nFacebook Group\nYouTube \nMany hands help lighten the workload. We’re looking for people to help with setup\, takedown\, cleanup\, greeting. Please contact Connie Smith and Debbie Tombe to find out how you can help serve. Please email\, info@kamloopsvineyard.com or call the office at 250-828-1690.
URL:https://kamloopsvineyard.com/event/sunday-worship-service-august-28th-2-pm/
LOCATION:British Columbia
CATEGORIES:In-Person Worship Service,Streaming LIVE,Sunday In-Person Worship
ATTACH;FMTTYPE=image/jpeg:https://kamloopsvineyard.com/wp-content/uploads/2021/10/SundayWorship@1000.jpeg
END:VEVENT
BEGIN:VEVENT
DTSTART;VALUE=DATE:20220830
DTEND;VALUE=DATE:20220831
DTSTAMP:20260423T161957
CREATED:20220709T174212Z
LAST-MODIFIED:20220709T174212Z
UID:3763-1661817600-1661903999@kamloopsvineyard.com
SUMMARY:Band of Brothers 'AM Company' Tuesday Aug 30th @ 8:30 am.
DESCRIPTION:Band of Brothers is a group of men connecting IN-PERSON and ONLINE. Our primary purpose is to support one another in life and faith. \n“We’re called to journey together because we’re not supposed to do it alone.” \nTo be included in a weekly ZOOM invitation to the please email David Tombe.\ndavid@kamloopsvineyard.com
URL:https://kamloopsvineyard.com/event/band-of-brothers-am-company-tuesday-aug-30th-830-am/
LOCATION:VIDEO CONFERENCING Kamloops Vineyard Church\, Kamloops\, British Columbia\, Canada
CATEGORIES:Men's Fellowship,Video Conferencing
ATTACH;FMTTYPE=image/jpeg:https://kamloopsvineyard.com/wp-content/uploads/2021/04/BandofBrotherImage@350AM.jpg
END:VEVENT
END:VCALENDAR