BEGIN:VCALENDAR
VERSION:2.0
PRODID:-//Kamloops Vineyard Church - ECPv6.15.16//NONSGML v1.0//EN
CALSCALE:GREGORIAN
METHOD:PUBLISH
X-WR-CALNAME:Kamloops Vineyard Church
X-ORIGINAL-URL:https://kamloopsvineyard.com
X-WR-CALDESC:Events for Kamloops Vineyard Church
REFRESH-INTERVAL;VALUE=DURATION:PT1H
X-Robots-Tag:noindex
X-PUBLISHED-TTL:PT1H
BEGIN:VTIMEZONE
TZID:America/Vancouver
BEGIN:DAYLIGHT
TZOFFSETFROM:-0800
TZOFFSETTO:-0700
TZNAME:PDT
DTSTART:20210314T100000
END:DAYLIGHT
BEGIN:STANDARD
TZOFFSETFROM:-0700
TZOFFSETTO:-0800
TZNAME:PST
DTSTART:20211107T090000
END:STANDARD
BEGIN:DAYLIGHT
TZOFFSETFROM:-0800
TZOFFSETTO:-0700
TZNAME:PDT
DTSTART:20220313T100000
END:DAYLIGHT
BEGIN:STANDARD
TZOFFSETFROM:-0700
TZOFFSETTO:-0800
TZNAME:PST
DTSTART:20221106T090000
END:STANDARD
BEGIN:DAYLIGHT
TZOFFSETFROM:-0800
TZOFFSETTO:-0700
TZNAME:PDT
DTSTART:20230312T100000
END:DAYLIGHT
BEGIN:STANDARD
TZOFFSETFROM:-0700
TZOFFSETTO:-0800
TZNAME:PST
DTSTART:20231105T090000
END:STANDARD
END:VTIMEZONE
BEGIN:VEVENT
DTSTART;VALUE=DATE:20221204
DTEND;VALUE=DATE:20221205
DTSTAMP:20260423T090800
CREATED:20221117T155231Z
LAST-MODIFIED:20221117T160846Z
UID:4054-1670112000-1670198399@kamloopsvineyard.com
SUMMARY:FEAST SUNDAY. Dec 4th @ 2 pm. (1st Sunday of every month)
DESCRIPTION:Join us Sunday Dec 4th @ 2 pm.\nVineyard Feast Sunday\n1st Sunday of Every Month.\nwe continue to welcome a new expression of celebration and worship on the first Sunday of every month\, it’s called Feast Sunday. On this Sunday the team will include a short devotion and observation of Advent (preparing our hearts for the coming of the Christ Child as Saviour and King). \nIn the practical\, what are things going to look like? We will begin our gatherings with corporate worship\, interwoven with the reading of God’s word and a shortened message\, followed by Communion and a shared meal. \nThe meal will be potluck. IF you’re feeling particularly inspired\, drop Connie a quick note and let them know what you’re providing\, connie@kamloopsvineyard.com \n___ \nThank you for your online participation.\nRegrettably\, we will NOT Stream these in-person events. \n___ \nMany hands help lighten the workload. \nWe’re looking for people to help with setup\, takedown\, cleanup\, greeting. Please contact Connie Smith to find out how you can help serve. Please email\, connie@kamloopsvineyard.com
URL:https://kamloopsvineyard.com/event/feast-sunday-dec-4th-2-pm-1st-sunday-of-every-month/
LOCATION:British Columbia
CATEGORIES:Families,Feast Sunday,In-Person Worship Service,Sunday In-Person Worship
ATTACH;FMTTYPE=image/jpeg:https://kamloopsvineyard.com/wp-content/uploads/2022/09/FeastSunday_webimage@1000.jpeg
END:VEVENT
BEGIN:VEVENT
DTSTART;VALUE=DATE:20221206
DTEND;VALUE=DATE:20221207
DTSTAMP:20260423T090800
CREATED:20221117T161751Z
LAST-MODIFIED:20221117T161751Z
UID:4060-1670284800-1670371199@kamloopsvineyard.com
SUMMARY:Band of Brothers 'AM Company' Tuesday Dec 6th @ 8:30 am.
DESCRIPTION:Band of Brothers is a group of men connecting IN-PERSON and ONLINE. Our primary purpose is to support one another in life and faith. \n“We’re called to journey together because we’re not supposed to do it alone.” \nTo be included in a weekly ZOOM invitation to the please email David Tombe.\ndavid@kamloopsvineyard.com
URL:https://kamloopsvineyard.com/event/band-of-brothers-am-company-tuesday-dec-6th-830-am/
LOCATION:VIDEO CONFERENCING Kamloops Vineyard Church\, Kamloops\, British Columbia\, Canada
CATEGORIES:Men's Fellowship,Video Conferencing
ATTACH;FMTTYPE=image/jpeg:https://kamloopsvineyard.com/wp-content/uploads/2021/04/BandofBrotherImage@350AM.jpg
END:VEVENT
BEGIN:VEVENT
DTSTART;VALUE=DATE:20221211
DTEND;VALUE=DATE:20221212
DTSTAMP:20260423T090800
CREATED:20221117T161102Z
LAST-MODIFIED:20221117T161102Z
UID:4058-1670716800-1670803199@kamloopsvineyard.com
SUMMARY:Sunday Worship Service and Kids' Church. Dec 11th @ 2 pm.
DESCRIPTION:Join us Sunday @ 2 pm\, Nov 27th\, at Gateway City Church.\n\n\nFollowing corporate worship and Connections Cáfe the children break out for Kids’ Church (Kids’ Church runs on the 2nd and 4th Sundays of every month).\n\nWe’re Streaming LIVE on the 2nd\, 4th and 5th Sundays of every month. IF you can’t meet with us in-person\, join us ONLINE.\nFacebook Public\nFacebook Group\nYouTube\n\n\n\nMany hands lighten the workload. We’re looking for people to help with setup\, takedown\, cleanup\, greeting. Please contact Connie Smith and Debbie Tombe to find out how you can help serve. Please email\, info@kamloopsvineyard.com or call the office at 250-828-1690.
URL:https://kamloopsvineyard.com/event/sunday-worship-service-and-kids-church-dec-11th-2-pm/
LOCATION:British Columbia
CATEGORIES:In-Person Worship Service,Kids' Church,Streaming LIVE,Sunday In-Person Worship
ATTACH;FMTTYPE=image/jpeg:https://kamloopsvineyard.com/wp-content/uploads/2021/10/SundayWorship@1000.jpeg
END:VEVENT
BEGIN:VEVENT
DTSTART;VALUE=DATE:20221218
DTEND;VALUE=DATE:20221219
DTSTAMP:20260423T090800
CREATED:20221117T165220Z
LAST-MODIFIED:20221207T203658Z
UID:4064-1671321600-1671407999@kamloopsvineyard.com
SUMMARY:THIRD Sunday Dec 18th. Christmas Celebration.
DESCRIPTION:Vineyard Family Christmas Celebration and Open House.\nEveryone is invited! Sunday Dec 18th (Begins @ 2 pm) \nOutdoor skating and sledding opens to families @ 2 pm.*\nShared meal begins @ 4 pm. (Bring a main dish with dessert or salad to share).\nCarols and Advent Candle Lighting begins @ 5 pm. \n* weather and conditions permitting. \nHosted at the Enns and Hochstettler acreage and households in beautiful Raleigh. For directions\, please refer to the Google Map information linked below. \n— \nIf you have any questions please contact: \nVineyard Administration Team\ninfo@kamloopsvineyard.com\n250-828-1690
URL:https://kamloopsvineyard.com/event/third-sunday-dec-18th-vineyard-family-christmas-celebration/
LOCATION:British Columbia
CATEGORIES:Families,Special Event
ATTACH;FMTTYPE=image/jpeg:https://kamloopsvineyard.com/wp-content/uploads/2022/11/VineyardChristmasCelebration@1000b.jpeg
END:VEVENT
BEGIN:VEVENT
DTSTART;VALUE=DATE:20221220
DTEND;VALUE=DATE:20221221
DTSTAMP:20260423T090800
CREATED:20221215T200054Z
LAST-MODIFIED:20221215T200146Z
UID:4088-1671494400-1671580799@kamloopsvineyard.com
SUMMARY:Band of Brothers 'AM Company' Tuesday Dec 20th @ 8:30 am.
DESCRIPTION:Band of Brothers is a group of men connecting IN-PERSON and ONLINE. Our primary purpose is to support one another in life and faith. \n“We’re called to journey together because we’re not supposed to do it alone.” \nTo be included in a weekly ONLINE invitation to the please email David Tombe.\ndavid@kamloopsvineyard.com
URL:https://kamloopsvineyard.com/event/band-of-brothers-am-company-tuesday-dec-20th-830-am/
LOCATION:VIDEO CONFERENCING Kamloops Vineyard Church\, Kamloops\, British Columbia\, Canada
CATEGORIES:Men's Fellowship,Video Conferencing
ATTACH;FMTTYPE=image/jpeg:https://kamloopsvineyard.com/wp-content/uploads/2021/04/BandofBrotherImage@350AM.jpg
END:VEVENT
BEGIN:VEVENT
DTSTART;VALUE=DATE:20221224
DTEND;VALUE=DATE:20221225
DTSTAMP:20260423T090800
CREATED:20221117T220614Z
LAST-MODIFIED:20221215T202428Z
UID:4067-1671840000-1671926399@kamloopsvineyard.com
SUMMARY:Christmas Eve Service. Dec 24th @ 6:30 pm.
DESCRIPTION:‘Christmas Eve Service. Dec 24th @ 6:30 pm.\nKamloops Free Methodist and Vineyard Churches are joining to celebrate.\nEveryone is invited! \n‘Oh come let us adore Him.’ \n___ \nGooglemap link (see below) \nKamloops Free Methodist Church\n975 Windbreak St (Northshore)\nKamloops\, BC V2B 5P5
URL:https://kamloopsvineyard.com/event/christmas-eve-service-dec-24th-630-pm/
LOCATION:Kamloops Free Methodist Church\, 975 Windbreak St\, Kamloops\, BC\, V2B 5P5\, Canada
CATEGORIES:Christmas Eve,Families,In-Person Worship Service,Special Event
ATTACH;FMTTYPE=image/jpeg:https://kamloopsvineyard.com/wp-content/uploads/2022/11/ChristmasEve2022JointService@1000.jpeg
END:VEVENT
END:VCALENDAR