BEGIN:VCALENDAR
VERSION:2.0
PRODID:-//Kamloops Vineyard Church - ECPv6.15.16//NONSGML v1.0//EN
CALSCALE:GREGORIAN
METHOD:PUBLISH
X-ORIGINAL-URL:https://kamloopsvineyard.com
X-WR-CALDESC:Events for Kamloops Vineyard Church
REFRESH-INTERVAL;VALUE=DURATION:PT1H
X-Robots-Tag:noindex
X-PUBLISHED-TTL:PT1H
BEGIN:VTIMEZONE
TZID:America/Vancouver
BEGIN:DAYLIGHT
TZOFFSETFROM:-0800
TZOFFSETTO:-0700
TZNAME:PDT
DTSTART:20220313T100000
END:DAYLIGHT
BEGIN:STANDARD
TZOFFSETFROM:-0700
TZOFFSETTO:-0800
TZNAME:PST
DTSTART:20221106T090000
END:STANDARD
BEGIN:DAYLIGHT
TZOFFSETFROM:-0800
TZOFFSETTO:-0700
TZNAME:PDT
DTSTART:20230312T100000
END:DAYLIGHT
BEGIN:STANDARD
TZOFFSETFROM:-0700
TZOFFSETTO:-0800
TZNAME:PST
DTSTART:20231105T090000
END:STANDARD
BEGIN:DAYLIGHT
TZOFFSETFROM:-0800
TZOFFSETTO:-0700
TZNAME:PDT
DTSTART:20240310T100000
END:DAYLIGHT
BEGIN:STANDARD
TZOFFSETFROM:-0700
TZOFFSETTO:-0800
TZNAME:PST
DTSTART:20241103T090000
END:STANDARD
END:VTIMEZONE
BEGIN:VEVENT
DTSTART;VALUE=DATE:20230401
DTEND;VALUE=DATE:20230402
DTSTAMP:20260423T005009
CREATED:20230330T180349Z
LAST-MODIFIED:20230330T180349Z
UID:4431-1680307200-1680393599@kamloopsvineyard.com
SUMMARY:Men's Night.  Saturday April 1st @ 7:30 pm
DESCRIPTION:Men’s Night. Saturday April 1st @ 7:30 pm.\n1st Saturday of every month.\nIt’s looking like the men will be gathering around a table @ Tim Hortons on Rogers Way. Typically an evening of random fun and conversation . . . all of it with the intention to build up and encourage one another. ‘We’re better together!’ \nFor more details contact Monte Campbell at 778-220-3296 or montecampbell@gmail.com\nor Brent Bylsma brent@culturecare.ca.
URL:https://kamloopsvineyard.com/event/mens-night-saturday-april-1st-730-pm/
LOCATION:British Columbia
CATEGORIES:Men's Fellowship,Vineyard Life Group
ATTACH;FMTTYPE=image/jpeg:https://kamloopsvineyard.com/wp-content/uploads/2022/12/MensNight_Jan2023@1000.jpeg
END:VEVENT
BEGIN:VEVENT
DTSTART;VALUE=DATE:20230402
DTEND;VALUE=DATE:20230403
DTSTAMP:20260423T005009
CREATED:20230329T175141Z
LAST-MODIFIED:20230329T175153Z
UID:4426-1680393600-1680479999@kamloopsvineyard.com
SUMMARY:FEAST SUNDAY. Mar 5th. 4 pm @ Gateway City Church.
DESCRIPTION:Join us this Palm Sunday April 2nd @ 4 pm.\nVineyard Feast Sunday\n1st Sunday of Every Month.\nWe continue to welcome a new expression of celebration and worship on the first Sunday of every month. Setting our sights on Jesus — we lean into a short communal reflection from God’s Word\, corporate worship and a shared meal. \nInvite your friends\, extended family and neighbours.\nThe meal will be potluck. \nSignup! Can you share what you are hoping to bring?\nA main dish/salad\, and/or Dessert? \nMany hands help lighten the workload.\nWe’re looking for people to help with setup\, takedown\, or cleanup. \nPlease email Connie and Debbie.\nLet them know what you’re providing and where you might hope to provide some help.\ninfo@kamloopsvineyard.com
URL:https://kamloopsvineyard.com/event/feast-sunday-mar-5th-4-pm-gateway-city-church/
LOCATION:British Columbia
CATEGORIES:Families,Feast Sunday,In-Person Worship Service,Palm Sunday,Sunday In-Person Worship
ATTACH;FMTTYPE=image/jpeg:https://kamloopsvineyard.com/wp-content/uploads/2023/03/PalmFeastSundayApr2_2023@1000.jpeg
END:VEVENT
BEGIN:VEVENT
DTSTART;VALUE=DATE:20230404
DTEND;VALUE=DATE:20230405
DTSTAMP:20260423T005009
CREATED:20230203T211521Z
LAST-MODIFIED:20230317T184658Z
UID:4241-1680566400-1680652799@kamloopsvineyard.com
SUMMARY:Emotionally Healthy Discipleship Course. Tuesday Daytime Group. April 4th @ 2:30 pm. (Session 7)
DESCRIPTION:Emotionally Healthy Discipleship Course\nSession 7 of 8 \nMoving from Shallow Christianity to Deep Transformation \nDownload the KVC EHS Promotional Information Sheet\, click here. \nDavid and Debbie are opening up their home to lead a discipleship group over 2 months. It’s called Emotionally Healthy Spirituality (EHS). In a nutshell\, EHS offers us foundational training in discipleship and an important building block for aspiring leaders in our Vineyard community. The training is focused on growing in our love for God. \nThe course presents members with personal tools and session exercises to better explore the state of our hearts and God’s love for us. God cares about the maturing of our faith and emotional health. By understanding family roots\, making peace with the past\, and learning rhythms of going to God in a 1-on-1 conversation\, we’re hoping to foster an Emotionally Healthy Spirituality where our loving Father is at the forefront.
URL:https://kamloopsvineyard.com/event/emotionally-healthy-discipleship-course-tuesday-march-21st-7-pm/
LOCATION:Tombe’s Home\, 1266 Pine Grove Rd\, Kamloops\, British Columbia\, V2C 6V6\, Canada
CATEGORIES:Discipleship Course,In-House Connections,Vineyard Life Group
ATTACH;FMTTYPE=image/jpeg:https://kamloopsvineyard.com/wp-content/uploads/2023/01/EHS_KVCEventsPage@1000.jpeg
END:VEVENT
BEGIN:VEVENT
DTSTART;VALUE=DATE:20230404
DTEND;VALUE=DATE:20230405
DTSTAMP:20260423T005009
CREATED:20230224T192650Z
LAST-MODIFIED:20230317T184605Z
UID:4361-1680566400-1680652799@kamloopsvineyard.com
SUMMARY:Emotionally Healthy Discipleship Course. Tuesday Evening Group. April 4th @ 7 pm. (Session 7)
DESCRIPTION:Emotionally Healthy Discipleship Course\nSession 7 of 8 \nMoving from Shallow Christianity to Deep Transformation \nDownload the KVC EHS Promotional Information Sheet\, click here. \nDavid and Debbie are opening up their home to lead a discipleship group over 2 months. It’s called Emotionally Healthy Spirituality (EHS). In a nutshell\, EHS offers us foundational training in discipleship and an important building block for aspiring leaders in our Vineyard community. The training is focused on growing in our love for God. \nThe course presents members with personal tools and session exercises to better explore the state of our hearts and God’s love for us. God cares about the maturing of our faith and emotional health. By understanding family roots\, making peace with the past\, and learning rhythms of going to God in a 1-on-1 conversation\, we’re hoping to foster an Emotionally Healthy Spirituality where our loving Father is at the forefront.
URL:https://kamloopsvineyard.com/event/emotionally-healthy-discipleship-course-tuesday-evening-group-march-28th-7-pm-session-7/
LOCATION:Tombe’s Home\, 1266 Pine Grove Rd\, Kamloops\, British Columbia\, V2C 6V6\, Canada
CATEGORIES:Discipleship Course,In-House Connections,Vineyard Life Group
ATTACH;FMTTYPE=image/jpeg:https://kamloopsvineyard.com/wp-content/uploads/2023/01/EHS_KVCEventsPage@1000.jpeg
END:VEVENT
BEGIN:VEVENT
DTSTART;VALUE=DATE:20230407
DTEND;VALUE=DATE:20230408
DTSTAMP:20260423T005009
CREATED:20230321T201558Z
LAST-MODIFIED:20230321T204239Z
UID:4416-1680825600-1680911999@kamloopsvineyard.com
SUMMARY:Good Friday Shared Worship Service. April 7th @ 10:30 am. (Free Methodist\, Lighthouse and Vineyard)
DESCRIPTION:Good Friday Shared Worship Service.\nApril 7th @ 10:30 am with the Free Methodist\, Lighthouse and Vineyard Churches.\nVenue: The Kamloops Free Methodist Church (Brocklehurst) \nCome join us for a Good Friday Worship Service.\nInvite your family and friends.\nWorship. Prayer. Communion.
URL:https://kamloopsvineyard.com/event/good-friday-shared-worship-service-april-7th-1030-brocklehurst/
LOCATION:Kamloops Free Methodist Church\, 975 Windbreak St\, Kamloops\, BC\, V2B 5P5\, Canada
CATEGORIES:Good Friday,In-Person Worship Service,Special Event
ATTACH;FMTTYPE=image/jpeg:https://kamloopsvineyard.com/wp-content/uploads/2023/03/GoodFridayvs2_2023@1000.jpeg
END:VEVENT
BEGIN:VEVENT
DTSTART;VALUE=DATE:20230409
DTEND;VALUE=DATE:20230410
DTSTAMP:20260423T005009
CREATED:20230330T180644Z
LAST-MODIFIED:20230330T180644Z
UID:4433-1680998400-1681084799@kamloopsvineyard.com
SUMMARY:Easter Sunday Worship Service and Kids' Church. April 9th @ 4 pm.
DESCRIPTION:Easter Sunday Worship Service\nSame location: Gateway City Church.\n\n\nFollowing corporate worship and Connections Cáfe children will transition to a simple kids’ craft/activity in the sanctuary.\n\n\n\nMany hands lighten the workload. We’re looking for people to help with setup\, takedown\, cleanup\, greeting. Please contact Connie Smith and Debbie Tombe to find out how you can help serve. Please email\, info@kamloopsvineyard.com or call the office at 250-828-1690.
URL:https://kamloopsvineyard.com/event/easter-sunday-worship-service-and-kids-church-april-9th-4-pm/
LOCATION:British Columbia
CATEGORIES:In-Person Worship Service,Kids' Church,Streaming LIVE,Sunday In-Person Worship
ATTACH;FMTTYPE=image/jpeg:https://kamloopsvineyard.com/wp-content/uploads/2021/10/SundayWorship@1000.jpeg
END:VEVENT
BEGIN:VEVENT
DTSTART;VALUE=DATE:20230411
DTEND;VALUE=DATE:20230412
DTSTAMP:20260423T005009
CREATED:20230203T211616Z
LAST-MODIFIED:20230317T184323Z
UID:4243-1681171200-1681257599@kamloopsvineyard.com
SUMMARY:Emotionally Healthy Discipleship Course. Tuesday Daytime Group. April 11th @ 7 pm. (Session 8)
DESCRIPTION:Emotionally Healthy Discipleship Course\nSession 8 of 8 \nMoving from Shallow Christianity to Deep Transformation \nDownload the KVC EHS Promotional Information Sheet\, click here. \nDavid and Debbie are opening up their home to lead a discipleship group over 2 months. It’s called Emotionally Healthy Spirituality (EHS). In a nutshell\, EHS offers us foundational training in discipleship and an important building block for aspiring leaders in our Vineyard community. The training is focused on growing in our love for God. \nThe course presents members with personal tools and session exercises to better explore the state of our hearts and God’s love for us. God cares about the maturing of our faith and emotional health. By understanding family roots\, making peace with the past\, and learning rhythms of going to God in a 1-on-1 conversation\, we’re hoping to foster an Emotionally Healthy Spirituality where our loving Father is at the forefront.
URL:https://kamloopsvineyard.com/event/emotionally-healthy-discipleship-course-tuesday-march-28th-7-pm/
LOCATION:Tombe’s Home\, 1266 Pine Grove Rd\, Kamloops\, British Columbia\, V2C 6V6\, Canada
CATEGORIES:Discipleship Course,In-House Connections,Vineyard Life Group
ATTACH;FMTTYPE=image/jpeg:https://kamloopsvineyard.com/wp-content/uploads/2023/01/EHS_KVCEventsPage@1000.jpeg
END:VEVENT
BEGIN:VEVENT
DTSTART;VALUE=DATE:20230411
DTEND;VALUE=DATE:20230412
DTSTAMP:20260423T005009
CREATED:20230224T192853Z
LAST-MODIFIED:20230317T184250Z
UID:4364-1681171200-1681257599@kamloopsvineyard.com
SUMMARY:Emotionally Healthy Discipleship Course. Tuesday Evening Group. April 11th @ 7 pm. (Session 8)
DESCRIPTION:Emotionally Healthy Discipleship Course\nSession 8 of 8 \nMoving from Shallow Christianity to Deep Transformation \nDownload the KVC EHS Promotional Information Sheet\, click here. \nDavid and Debbie are opening up their home to lead a discipleship group over 2 months. It’s called Emotionally Healthy Spirituality (EHS). In a nutshell\, EHS offers us foundational training in discipleship and an important building block for aspiring leaders in our Vineyard community. The training is focused on growing in our love for God. \nThe course presents members with personal tools and session exercises to better explore the state of our hearts and God’s love for us. God cares about the maturing of our faith and emotional health. By understanding family roots\, making peace with the past\, and learning rhythms of going to God in a 1-on-1 conversation\, we’re hoping to foster an Emotionally Healthy Spirituality where our loving Father is at the forefront.
URL:https://kamloopsvineyard.com/event/emotionally-healthy-discipleship-course-tuesday-evening-group-april-4th-7-pm-session-8/
LOCATION:Tombe’s Home\, 1266 Pine Grove Rd\, Kamloops\, British Columbia\, V2C 6V6\, Canada
CATEGORIES:Discipleship Course,In-House Connections,Vineyard Life Group
ATTACH;FMTTYPE=image/jpeg:https://kamloopsvineyard.com/wp-content/uploads/2023/01/EHS_KVCEventsPage@1000.jpeg
END:VEVENT
BEGIN:VEVENT
DTSTART;VALUE=DATE:20230416
DTEND;VALUE=DATE:20230417
DTSTAMP:20260423T005009
CREATED:20230414T195808Z
LAST-MODIFIED:20230414T231245Z
UID:4450-1681603200-1681689599@kamloopsvineyard.com
SUMMARY:Third Sunday Vineyard House Church (Barnhartvale). April 16th @ 11:30 am.
DESCRIPTION:Address: 1266 Pine Grove Rd. Kamloops\, BC  V2C 6V6 \nEveryone is welcome.\nFood and worship with your Vineyard family.\nIt’s a pot-luck so bring whatever you would like to share together. Or just come! \nSunday April 16th @ 11:30 am\nThe Tombe’s home in Barnhartvale\nLunch serves @ 12 noon.\n(Shared Meal. Fellowship. Worship and Prayer). \nAre you planning to attend?\nDebbie would appreciate knowing that you are coming. Please email her at debbie@kamloopsvineyard.com. \n__________________________
URL:https://kamloopsvineyard.com/event/third-sunday-vineyard-house-church-barnhartvale-april-16th-1130-am/
LOCATION:Tombe’s Home\, 1266 Pine Grove Rd\, Kamloops\, British Columbia\, V2C 6V6\, Canada
CATEGORIES:Home Group,In-House Connections,Sunday In-Person Family Service,Third Sundays
ATTACH;FMTTYPE=image/jpeg:https://kamloopsvineyard.com/wp-content/uploads/2023/04/HouseChurchApr16_2023@1000.jpeg
END:VEVENT
BEGIN:VEVENT
DTSTART;VALUE=DATE:20230416
DTEND;VALUE=DATE:20230417
DTSTAMP:20260423T005009
CREATED:20230330T155218Z
LAST-MODIFIED:20230414T195541Z
UID:4429-1681603200-1681689599@kamloopsvineyard.com
SUMMARY:Vineyard Family Home Group (Knutsford). THIRD SUNDAY April 16th @ 10 am.
DESCRIPTION:Vineyard Family Home Group is meeting\non the 3rd Sunday in April.\n\nSunday April 16th 10am – 12pm\nat the Bylsma’s home in Knutsford.\nFamilies are gathering at the Bylsma’s home (2650 Long Lake Road) to share a brunch meal together.  After the meal\, a short time of worship is followed by prayer.  Kids spend some time outside playing while adults gather to learn practical tools in spiritually raising their families in their home environments.\n\n\nContact Bonnie Bylsma at 250-318-9377 or bonnie@kamloopsvineyard.com for more details and location information.\n 
URL:https://kamloopsvineyard.com/event/vineyard-family-home-group-knutsford-third-sunday-april-16th-10-am/
LOCATION:Bylsma’s Home\, 2650 Long Lake Rd\, Kamloops\, BC\, Canada
CATEGORIES:Families,Home Group,Third Sundays
ATTACH;FMTTYPE=image/jpeg:https://kamloopsvineyard.com/wp-content/uploads/2023/03/KVC_FamilyHomeGroup@1000.jpeg
END:VEVENT
BEGIN:VEVENT
DTSTART;VALUE=DATE:20230420
DTEND;VALUE=DATE:20230421
DTSTAMP:20260423T005009
CREATED:20230419T193533Z
LAST-MODIFIED:20230419T194544Z
UID:4456-1681948800-1682035199@kamloopsvineyard.com
SUMMARY:Worship and Media (WM) Community Life Group. Thursday April 20th @ 7 pm.
DESCRIPTION:Worship and Media Community Teams are invited to a night of worship\, joyful connections and collaboration @ our home here in Barnhartvale. \nDoors open @ 6:45 pm.\nSession starts @ 7 pm. \nTypically we meet on the 1st and 3rd Thursdays of every month\, This can be subject to change with the pressure of holidays and other schedules. For more information please contact David and Debbie\, david@kamloopsvineyard.com
URL:https://kamloopsvineyard.com/event/worship-and-media-wm-community-life-group-thursday-april-20th-7-pm/
LOCATION:Tombe’s Home\, 1266 Pine Grove Rd\, Kamloops\, British Columbia\, V2C 6V6\, Canada
CATEGORIES:Life Group,Media,Worship
ATTACH;FMTTYPE=image/jpeg:https://kamloopsvineyard.com/wp-content/uploads/2023/04/medium_Worship_33_1000.jpg
END:VEVENT
BEGIN:VEVENT
DTSTART;VALUE=DATE:20230421
DTEND;VALUE=DATE:20230422
DTSTAMP:20260423T005009
CREATED:20230409T025844Z
LAST-MODIFIED:20230420T173124Z
UID:4445-1682035200-1682121599@kamloopsvineyard.com
SUMMARY:The Power of Group Prayer. Book Study and Group Prayer. Session 1. Friday April 21st @ 10 am.
DESCRIPTION:We’re gathering for a daytime book study and group prayer\non the 1st and 3rd Fridays of every month\nbeginning April 21st @ 10 am.\nClick here to download Promotional Information Sheet! \nVenue: Connie Smith’s home on the South Shore\n \nContact Connie or Debbie for directions.\nconnie@kamloopsvineyard.com\ndebbie@kamloopsvineyard.com \nOrder your copy of ‘The Power of Group Prayer’ from Amazon \nI want you to join David and I for a shared read and a weekly in-person group study of Carolyn Carney’s book ‘The Power of Group Intercession.’ In her book Carolyn addressed how intercession transforms us and the world we live in. \nPlease email me with your communicated desire to join our daytime study or to include your name as a possibility for an evening study\, debbie@kamloopsvineyard.com. \nPrevious to each session we will read a chapter at home.\nComing together we will review 2 – 3 thoughtful questions\,\nfollowed a time of group prayer. \n_____ \nOur hearts are renewed and transformed when we pray.\nThe revival of whole communities begins when God’s people pray together.\n_____ \nChristians often dream about the possibility of revival. But revival doesn’t come because we wish or plan for it. Revival occurs when groups of people pray together. However\, praying together effectively doesn’t come easily\, and we’re often left wondering how to best engage in the work of intercession. \nCarolyn Carney offers a practical guide for those who want something more than just another prayer meeting. Drawing from decades of ministry experience\, The Power of Group Prayer includes stories and practices for corporate prayer\, reflection questions\, and supplemental resources to help build powerful intercession groups. Pastors\, small group leaders\, and campus ministry leaders–or anyone who wants a deeper prayer life will be equipped to lead others in the kind of prayer that is necessary for effective\, resilient ministry. \nPraying together has the power to transform you and the world around you. Come to a place of deep intimacy with God as you learn ways to pray in community. \nOrder your copy of ‘The Power of Group Prayer’ from Amazon \n_____ \nWhat about forming an evening group? \nIf you are unable to meet through the day\, but you are keen to join an evening study\, given enough names we can see about forming a second group. \nIn summary\, I am excited about this opportunity. It will be so good to grow in our aware of God’s presence and to experience the Spirit moving through us all. Please email me with your communicated desire to join our daytime study or to include your name as a possibility for an evening study\, debbie@kamloopsvineyard.com
URL:https://kamloopsvineyard.com/event/the-power-of-group-prayer-book-study-and-group-prayer-friday-april-21st-10-am/
LOCATION:British Columbia
CATEGORIES:Home Group,Prayer
ATTACH;FMTTYPE=image/jpeg:https://kamloopsvineyard.com/wp-content/uploads/2023/04/ThePowerOfGroupPrayer_withDebbie@1000.jpeg
END:VEVENT
BEGIN:VEVENT
DTSTART;VALUE=DATE:20230423
DTEND;VALUE=DATE:20230424
DTSTAMP:20260423T005009
CREATED:20230330T180757Z
LAST-MODIFIED:20230330T180757Z
UID:4435-1682208000-1682294399@kamloopsvineyard.com
SUMMARY:Sunday Worship Service and Kids' Church. April 23rd @ 4 pm.
DESCRIPTION:Sunday Worship Service\nVenue: Gateway City Church.\n\n\nFollowing corporate worship and Connections Cáfe children will transition to a simple kids’ craft/activity in the sanctuary.\n\n\n\nMany hands lighten the workload. We’re looking for people to help with setup\, takedown\, cleanup\, greeting. Please contact Connie Smith and Debbie Tombe to find out how you can help serve. Please email\, info@kamloopsvineyard.com or call the office at 250-828-1690.
URL:https://kamloopsvineyard.com/event/sunday-worship-service-and-kids-church-april-23rd-4-pm/
LOCATION:British Columbia
CATEGORIES:In-Person Worship Service,Kids' Church,Streaming LIVE,Sunday In-Person Worship
ATTACH;FMTTYPE=image/jpeg:https://kamloopsvineyard.com/wp-content/uploads/2021/10/SundayWorship@1000.jpeg
END:VEVENT
BEGIN:VEVENT
DTSTART;VALUE=DATE:20230430
DTEND;VALUE=DATE:20230501
DTSTAMP:20260423T005009
CREATED:20230330T183012Z
LAST-MODIFIED:20230429T015154Z
UID:4437-1682812800-1682899199@kamloopsvineyard.com
SUMMARY:Vineyard Town Hall Meeting @ St Andrews On the Square. Sunday Apr 30th @ 3 pm.
DESCRIPTION:Kamloops Vineyard Town Hall Meeting\nSunday April 30th @ 3 pm\nVenue: St Andrews On the Square (downtown) \nCelebrating faith\, community and provision. \nDo you have a vested interest in the life and transitions of this Vineyard family? We invite you to join us! Come with open hearts. Come prepared to remember the past\, be thankful for the present and trust God for the future. Come prepared to listen and willing to share\, not only about the past and present\, but about the future of our Vineyard family. We are an ever changing\, living organism\, a unique expression of the church in this city\, and we believe God has so much still in store for us as we partner with God and with one another to see God’s kingdom come in our lives and in those God is calling us to reach. We hope to see you there! \nThe Elders and Directors of the Kamloops Vineyard \nSt Andrews On the Square\n159 Seymour Street\, Kamloops\, BC V2C 2C6\nFor Google Maps directions\, click here.
URL:https://kamloopsvineyard.com/event/community-life-vineyard-town-hall-meeting-sunday-apr-30th-4-pm/
LOCATION:St Andrews On the Square\, 159 Seymour Street\, Kamloops\, BC\, V2C 2C6\, Canada
ATTACH;FMTTYPE=image/jpeg:https://kamloopsvineyard.com/wp-content/uploads/2023/03/Apr02_Announcements-images.011.jpeg
END:VEVENT
END:VCALENDAR