BEGIN:VCALENDAR
VERSION:2.0
PRODID:-//Kamloops Vineyard Church - ECPv6.15.16//NONSGML v1.0//EN
CALSCALE:GREGORIAN
METHOD:PUBLISH
X-ORIGINAL-URL:https://kamloopsvineyard.com
X-WR-CALDESC:Events for Kamloops Vineyard Church
REFRESH-INTERVAL;VALUE=DURATION:PT1H
X-Robots-Tag:noindex
X-PUBLISHED-TTL:PT1H
BEGIN:VTIMEZONE
TZID:America/Vancouver
BEGIN:DAYLIGHT
TZOFFSETFROM:-0800
TZOFFSETTO:-0700
TZNAME:PDT
DTSTART:20220313T100000
END:DAYLIGHT
BEGIN:STANDARD
TZOFFSETFROM:-0700
TZOFFSETTO:-0800
TZNAME:PST
DTSTART:20221106T090000
END:STANDARD
BEGIN:DAYLIGHT
TZOFFSETFROM:-0800
TZOFFSETTO:-0700
TZNAME:PDT
DTSTART:20230312T100000
END:DAYLIGHT
BEGIN:STANDARD
TZOFFSETFROM:-0700
TZOFFSETTO:-0800
TZNAME:PST
DTSTART:20231105T090000
END:STANDARD
BEGIN:DAYLIGHT
TZOFFSETFROM:-0800
TZOFFSETTO:-0700
TZNAME:PDT
DTSTART:20240310T100000
END:DAYLIGHT
BEGIN:STANDARD
TZOFFSETFROM:-0700
TZOFFSETTO:-0800
TZNAME:PST
DTSTART:20241103T090000
END:STANDARD
END:VTIMEZONE
BEGIN:VEVENT
DTSTART;VALUE=DATE:20230505
DTEND;VALUE=DATE:20230506
DTSTAMP:20260422T225202
CREATED:20230420T173024Z
LAST-MODIFIED:20230420T174151Z
UID:4471-1683244800-1683331199@kamloopsvineyard.com
SUMMARY:The Power of Group Prayer. Book Study and Group Prayer. Session 2. Friday May 5th @ 10 am.
DESCRIPTION:We’re gathering for a daytime book study and group prayer\non the 1st and 3rd Fridays of every month @ 10 am.\nClick here to download Promotional Information Sheet! \nVenue: Connie Smith’s home on the South Shore\n \nContact Connie or Debbie for directions.\nconnie@kamloopsvineyard.com\ndebbie@kamloopsvineyard.com \nOrder your copy of ‘The Power of Group Prayer’ from Amazon \nI want you to join David and I for a shared read and a weekly in-person group study of Carolyn Carney’s book ‘The Power of Group Intercession.’ In her book Carolyn addressed how intercession transforms us and the world we live in. \nPlease email me with your communicated desire to join our daytime study or to include your name as a possibility for an evening study\, debbie@kamloopsvineyard.com. \nPrevious to each session we will read a chapter at home.\nComing together we will review 2 – 3 thoughtful questions\,\nfollowed a time of group prayer. \n_____ \nOur hearts are renewed and transformed when we pray.\nThe revival of whole communities begins when God’s people pray together.\n_____ \nChristians often dream about the possibility of revival. But revival doesn’t come because we wish or plan for it. Revival occurs when groups of people pray together. However\, praying together effectively doesn’t come easily\, and we’re often left wondering how to best engage in the work of intercession. \nCarolyn Carney offers a practical guide for those who want something more than just another prayer meeting. Drawing from decades of ministry experience\, The Power of Group Prayer includes stories and practices for corporate prayer\, reflection questions\, and supplemental resources to help build powerful intercession groups. Pastors\, small group leaders\, and campus ministry leaders–or anyone who wants a deeper prayer life will be equipped to lead others in the kind of prayer that is necessary for effective\, resilient ministry. \nPraying together has the power to transform you and the world around you. Come to a place of deep intimacy with God as you learn ways to pray in community. \nOrder your copy of ‘The Power of Group Prayer’ from Amazon \n_____ \nWhat about forming an evening group? \nIf you are unable to meet through the day\, but you are keen to join an evening study\, given enough names we can see about forming a second group. \nIn summary\, I am excited about this opportunity. It will be so good to grow in our aware of God’s presence and to experience the Spirit moving through us all. Please email me with your communicated desire to join our daytime study or to include your name as a possibility for an evening study\, debbie@kamloopsvineyard.com
URL:https://kamloopsvineyard.com/event/the-power-of-group-prayer-book-study-and-group-prayer-session-2-friday-may-5th-10-am/
LOCATION:British Columbia
CATEGORIES:Home Group,Prayer
ATTACH;FMTTYPE=image/jpeg:https://kamloopsvineyard.com/wp-content/uploads/2023/04/ThePowerOfGroupPrayer_withDebbie@1000.jpeg
END:VEVENT
BEGIN:VEVENT
DTSTART;VALUE=DATE:20230506
DTEND;VALUE=DATE:20230507
DTSTAMP:20260422T225202
CREATED:20230421T221631Z
LAST-MODIFIED:20230421T221631Z
UID:4476-1683331200-1683417599@kamloopsvineyard.com
SUMMARY:Men's Night.  Saturday May 6th @ 7:30 pm
DESCRIPTION:Men’s Night. Saturday May 6th @ 7:30 pm.\n1st Saturday of every month.\nIt’s looking like the men will be gathering around a table @ Tim Hortons on Rogers Way. But you’d be well advised to check in with Monte before you set out to connect with everyone. Typically it’s an evening of random fun and conversation . . . all of it with the intention to build up and encourage one another. ‘We’re better together!’ \nFor more details contact Monte Campbell at 778-220-3296 or montecampbell@gmail.com
URL:https://kamloopsvineyard.com/event/mens-night-saturday-may-6th-730-pm/
LOCATION:British Columbia
CATEGORIES:Men's Fellowship,Vineyard Life Group
ATTACH;FMTTYPE=image/jpeg:https://kamloopsvineyard.com/wp-content/uploads/2022/12/MensNight_Jan2023@1000.jpeg
END:VEVENT
BEGIN:VEVENT
DTSTART;VALUE=DATE:20230507
DTEND;VALUE=DATE:20230508
DTSTAMP:20260422T225202
CREATED:20230420T171120Z
LAST-MODIFIED:20230420T171636Z
UID:4465-1683417600-1683503999@kamloopsvineyard.com
SUMMARY:Kamloops Vineyard begins meeting in Brocklehurst. Sundays afternoons @ 3:30 pm.
DESCRIPTION:We’re celebrating our move into a NEW HOME.\nBeginning Sunday May 7th the Kamloops Vineyard begins meeting every Sunday afternoon at the Free Methodist Church in Brocklehurst on the City’s Northshore. Click here for directions. \nSunday afternoons at the Kamloops Free Methodist Church\n975 Windbreak St\, Kamloops\, BC V2B 5P5 \nEffective Sunday May 7th Connections Cáfe is opening up for pre-service beverages in the fellowship hall @ 3:15 pm. Our Worship Service begins @ 3:30 pm.
URL:https://kamloopsvineyard.com/event/kamloops-vineyard-begins-meeting-in-brocklehurst-sundays-afternoons-330-pm/
LOCATION:Kamloops Free Methodist Church\, 975 Windbreak St\, Kamloops\, BC\, V2B 5P5\, Canada
CATEGORIES:In-Person Worship Service,Kids' Church,Prayer,Sunday In-Person Worship,Worship
ATTACH;FMTTYPE=image/jpeg:https://kamloopsvineyard.com/wp-content/uploads/2023/04/May7_NewWorshipPlaceTime@1000.jpeg
END:VEVENT
BEGIN:VEVENT
DTSTART;VALUE=DATE:20230507
DTEND;VALUE=DATE:20230508
DTSTAMP:20260422T225202
CREATED:20230506T205620Z
LAST-MODIFIED:20230506T205620Z
UID:4542-1683417600-1683503999@kamloopsvineyard.com
SUMMARY:Feast Sunday May 7th @ 3:30 pm. Free Methodist Church (Brocklehurst). NEW LOCATION. NEW TIME.
DESCRIPTION:Connections Cáfe @ 3:15 pm\n(attend a little early to connect over a beverage)\nWorship Service begins @ 3:30 pm \nAppropriately it’s time to gather around the table. We welcome an evolving time of celebration and worship on the first Sunday of every month. Setting our sights on Jesus — we lean into a short communal reflection from God’s Word\, corporate worship and a shared meal.\n\n\n\n\n\nInvite your friends\, extended family and neighbours.\nThe meal will be potluck.\n\n\n\nSignup! Can you share what you are hoping to bring?\nA main dish/salad\, and/or Dessert?\n_________________\n\n\n\nMany hands help lighten the workload.\nWe’re looking for people to help with setup\, takedown\, or cleanup.\n\n\n\nPlease email Connie and Debbie. Let them know what you’re providing and where you might hope to provide some help\, info@kamloopsvineyard.com
URL:https://kamloopsvineyard.com/event/feast-sunday-may-7th-330-pm-free-methodist-church-brocklehurst-new-location-new-time/
LOCATION:Kamloops Free Methodist Church\, 975 Windbreak St\, Kamloops\, BC\, V2B 5P5\, Canada
ATTACH;FMTTYPE=image/jpeg:https://kamloopsvineyard.com/wp-content/uploads/2022/09/FeastSunday_webimage@1000.jpeg
END:VEVENT
BEGIN:VEVENT
DTSTART;VALUE=DATE:20230512
DTEND;VALUE=DATE:20230513
DTSTAMP:20260422T225202
CREATED:20230506T170026Z
LAST-MODIFIED:20230506T170026Z
UID:4526-1683849600-1683935999@kamloopsvineyard.com
SUMMARY:The Power of Group Prayer. Book Study and Group Prayer. Session 3. Friday May 12th @ 10 am.
DESCRIPTION:We’re gathering for a daytime book study and group prayer\non the 1st and 3rd Fridays of every month @ 10 am.\nClick here to download Promotional Information Sheet! \nVenue: Connie Smith’s home on the South Shore\n \nContact Connie or Debbie for directions.\nconnie@kamloopsvineyard.com\ndebbie@kamloopsvineyard.com \nOrder your copy of ‘The Power of Group Prayer’ from Amazon \nI want you to join David and I for a shared read and a weekly in-person group study of Carolyn Carney’s book ‘The Power of Group Intercession.’ In her book Carolyn addressed how intercession transforms us and the world we live in. \nPlease email me with your communicated desire to join our daytime study or to include your name as a possibility for an evening study\, debbie@kamloopsvineyard.com. \nPrevious to each session we will read a chapter at home.\nComing together we will review 2 – 3 thoughtful questions\,\nfollowed a time of group prayer. \n_____ \nOur hearts are renewed and transformed when we pray.\nThe revival of whole communities begins when God’s people pray together.\n_____ \nChristians often dream about the possibility of revival. But revival doesn’t come because we wish or plan for it. Revival occurs when groups of people pray together. However\, praying together effectively doesn’t come easily\, and we’re often left wondering how to best engage in the work of intercession. \nCarolyn Carney offers a practical guide for those who want something more than just another prayer meeting. Drawing from decades of ministry experience\, The Power of Group Prayer includes stories and practices for corporate prayer\, reflection questions\, and supplemental resources to help build powerful intercession groups. Pastors\, small group leaders\, and campus ministry leaders–or anyone who wants a deeper prayer life will be equipped to lead others in the kind of prayer that is necessary for effective\, resilient ministry. \nPraying together has the power to transform you and the world around you. Come to a place of deep intimacy with God as you learn ways to pray in community. \nOrder your copy of ‘The Power of Group Prayer’ from Amazon \n_____ \nWhat about forming an evening group? \nIf you are unable to meet through the day\, but you are keen to join an evening study\, given enough names we can see about forming a second group. \nIn summary\, I am excited about this opportunity. It will be so good to grow in our aware of God’s presence and to experience the Spirit moving through us all. Please email me with your communicated desire to join our daytime study or to include your name as a possibility for an evening study\, debbie@kamloopsvineyard.com
URL:https://kamloopsvineyard.com/event/the-power-of-group-prayer-book-study-and-group-prayer-session-3-friday-may-12th-10-am/
LOCATION:British Columbia
CATEGORIES:Home Group,Prayer
ATTACH;FMTTYPE=image/jpeg:https://kamloopsvineyard.com/wp-content/uploads/2023/04/ThePowerOfGroupPrayer_withDebbie@1000.jpeg
END:VEVENT
BEGIN:VEVENT
DTSTART;VALUE=DATE:20230514
DTEND;VALUE=DATE:20230515
DTSTAMP:20260422T225202
CREATED:20230506T204813Z
LAST-MODIFIED:20230506T210228Z
UID:4537-1684022400-1684108799@kamloopsvineyard.com
SUMMARY:Mothers' Day Tea and Treat Party following Sunday's SPECIAL Worship Service
DESCRIPTION:Hello Everyone\, \nWe are having a very special service on Sunday afternoon after which we’re inviting Mom’s (everyone) of all ages to join us for a Mothers’ Day Tea and Treat celebration in the fellowship hall. \nConnections Cáfe begins @ 3:15 am.\nSpecial music and worship led by our special friends Brian West and the Wild Westers* begins @ 3:30 pm.\nChildren break out for Kids’ Church shortly after 4 pm.\nLocal residents and full-time missionaries to Thailand\, Brian and Karen Shaben* share on their work among the Hill Tribe and Thai people while the kids prepare Tea and Treat for the Mothers’ Day party that follows our celebrations. \nFor more information on the Mothers’ Day Tea and Treat celebration please contact Bonnie Bylsma\, bonnie@kamloopsvineyard.com\, or for more general inquiries on our SPECIAL MUSIC and MISSIONS to Thailand presentation please contact David or Debbie\, info@kamloopsvineyard.com. \n  \n* World Wide Life Humanitarian Partnership Society (WWLHPS)\, for information on their organization please click here.
URL:https://kamloopsvineyard.com/event/mothers-day-tea-and-treat-following-sundays-worship-service-and-missiona/
LOCATION:Kamloops Free Methodist Church\, 975 Windbreak St\, Kamloops\, BC\, V2B 5P5\, Canada
CATEGORIES:Special Event,Sunday In-Person Family Service,Sunday In-Person Worship,Worship
ATTACH;FMTTYPE=image/jpeg:https://kamloopsvineyard.com/wp-content/uploads/2023/05/MotherDay2023@1000.jpeg
END:VEVENT
BEGIN:VEVENT
DTSTART;VALUE=DATE:20230514
DTEND;VALUE=DATE:20230515
DTSTAMP:20260422T225202
CREATED:20230421T224932Z
LAST-MODIFIED:20230511T170352Z
UID:4496-1684022400-1684108799@kamloopsvineyard.com
SUMMARY:Worship Service with Special Guests. May 14th @ 3:30pm.
DESCRIPTION:Worship Service and Kids Church (Mothers’ Day) May 14th @ 3:30 pm\nVenue: Free Methodist Church in Brocklehurst.\nConnections Cáfe are serving up hot beverages and meaningful connections pre-service @ 3:15 pm. \nStay tuned for more information on the events surrounding ‘out-of-town’ and local friends and guests joining us to welcoming local missionaries to Thailand ministers Brian and Karen Shaben\, along with Brian West from Freshwind Ministries\, Abbottsford\, BC. \n\n\nMany hands lighten the workload. We’re looking for people to help with setup\, takedown\, cleanup\, greeting. Please contact Connie Smith and Debbie Tombe to find out how you can help serve. Please email\, info@kamloopsvineyard.com or call the office at 250-828-1690.
URL:https://kamloopsvineyard.com/event/worship-service-with-special-guests-the-free-methodist-church-may-14th-330pm/
LOCATION:Kamloops Free Methodist Church\, 975 Windbreak St\, Kamloops\, BC\, V2B 5P5\, Canada
CATEGORIES:In-Person Worship Service,Kids' Church,Streaming LIVE,Sunday In-Person Worship
ATTACH;FMTTYPE=image/jpeg:https://kamloopsvineyard.com/wp-content/uploads/2023/04/SundayWorship_16.9@1000.jpeg
END:VEVENT
BEGIN:VEVENT
DTSTART;VALUE=DATE:20230521
DTEND;VALUE=DATE:20230522
DTSTAMP:20260422T225202
CREATED:20230511T170830Z
LAST-MODIFIED:20230511T170830Z
UID:4549-1684627200-1684713599@kamloopsvineyard.com
SUMMARY:Sunday Worship Service. May 21st @ 3:30 pm.
DESCRIPTION:Sunday Worship Service begins @ 3:30 pm\nConnections Cáfe begins serving @ 3:15 pm\nEveryone is welcome!\nVenue: Free Methodist Church\n\n\nMany hands lighten the workload. We’re looking for people to help with setup\, takedown\, cleanup\, greeting. Please contact Connie Smith and Debbie Tombe to find out how you can help serve. Please email\, info@kamloopsvineyard.com or call the office at 250-828-1690.
URL:https://kamloopsvineyard.com/event/sunday-worship-service-may-21st-330-pm/
LOCATION:Kamloops Free Methodist Church\, 975 Windbreak St\, Kamloops\, BC\, V2B 5P5\, Canada
CATEGORIES:In-Person Worship Service,Streaming LIVE,Sunday In-Person Worship
ATTACH;FMTTYPE=image/jpeg:https://kamloopsvineyard.com/wp-content/uploads/2023/04/SundayWorship_16.9@1000.jpeg
END:VEVENT
BEGIN:VEVENT
DTSTART;VALUE=DATE:20230521
DTEND;VALUE=DATE:20230522
DTSTAMP:20260422T225202
CREATED:20230511T164530Z
LAST-MODIFIED:20230511T164556Z
UID:4546-1684627200-1684713599@kamloopsvineyard.com
SUMMARY:Vineyard Family Home Group (Knutsford). SUNDAY May 21st @ 10 am.
DESCRIPTION:Vineyard Family Home Group ‘generally’ meets on the Third Sunday of each month.\n\nFamilies are gathering at the Bylsma’s home (2650 Long Lake Road) to share a brunch meal together.  After the meal\, a short time of worship is followed by prayer.  Kids spend some time outside playing while adults gather to learn practical tools in spiritually raising their families in their home environments.\n\n\nContact Bonnie Bylsma at 250-318-9377 or bonnie@kamloopsvineyard.com for more details and location information.\n 
URL:https://kamloopsvineyard.com/event/vineyard-family-home-group-knutsford-sunday-may-21st-10-am/
LOCATION:Bylsma’s Home\, 2650 Long Lake Rd\, Kamloops\, BC\, Canada
CATEGORIES:Families,Home Group,Third Sundays
ATTACH;FMTTYPE=image/jpeg:https://kamloopsvineyard.com/wp-content/uploads/2023/03/KVC_FamilyHomeGroup@1000.jpeg
END:VEVENT
BEGIN:VEVENT
DTSTART;VALUE=DATE:20230526
DTEND;VALUE=DATE:20230527
DTSTAMP:20260422T225202
CREATED:20230506T170217Z
LAST-MODIFIED:20230506T170217Z
UID:4528-1685059200-1685145599@kamloopsvineyard.com
SUMMARY:The Power of Group Prayer. Book Study and Group Prayer. Session 4. Friday May 26th @ 10 am.
DESCRIPTION:We’re gathering for a daytime book study and group prayer\non the 1st and 3rd Fridays of every month @ 10 am.\nClick here to download Promotional Information Sheet! \nVenue: Connie Smith’s home on the South Shore\n \nContact Connie or Debbie for directions.\nconnie@kamloopsvineyard.com\ndebbie@kamloopsvineyard.com \nOrder your copy of ‘The Power of Group Prayer’ from Amazon \nI want you to join David and I for a shared read and a weekly in-person group study of Carolyn Carney’s book ‘The Power of Group Intercession.’ In her book Carolyn addressed how intercession transforms us and the world we live in. \nPlease email me with your communicated desire to join our daytime study or to include your name as a possibility for an evening study\, debbie@kamloopsvineyard.com. \nPrevious to each session we will read a chapter at home.\nComing together we will review 2 – 3 thoughtful questions\,\nfollowed a time of group prayer. \n_____ \nOur hearts are renewed and transformed when we pray.\nThe revival of whole communities begins when God’s people pray together.\n_____
URL:https://kamloopsvineyard.com/event/the-power-of-group-prayer-book-study-and-group-prayer-session-4-friday-may-26th-10-am/
LOCATION:British Columbia
CATEGORIES:Home Group,Prayer
ATTACH;FMTTYPE=image/jpeg:https://kamloopsvineyard.com/wp-content/uploads/2023/04/ThePowerOfGroupPrayer_withDebbie@1000.jpeg
END:VEVENT
BEGIN:VEVENT
DTSTART;VALUE=DATE:20230528
DTEND;VALUE=DATE:20230529
DTSTAMP:20260422T225202
CREATED:20230524T224538Z
LAST-MODIFIED:20230524T224612Z
UID:4632-1685232000-1685318399@kamloopsvineyard.com
SUMMARY:Sunday Worship Service and Kids' Church. May 28th @ 3:30 pm.
DESCRIPTION:Sunday Worship Service and Kids’ Church begins @ 3:30 pm\nConnections Cáfe begins serving @ 3:15 pm\nEveryone is welcome!\nVenue: Free Methodist Church\n\n\nMany hands lighten the workload. We’re looking for people to help with setup\, takedown\, cleanup\, greeting. Please contact Connie Smith and Debbie Tombe to find out how you can help serve. Please email\, info@kamloopsvineyard.com or call the office at 250-828-1690.
URL:https://kamloopsvineyard.com/event/sunday-worship-service-and-kids-church-may-28th-330-pm-2/
LOCATION:Kamloops Free Methodist Church\, 975 Windbreak St\, Kamloops\, BC\, V2B 5P5\, Canada
CATEGORIES:In-Person Worship Service,Streaming LIVE,Sunday In-Person Worship
ATTACH;FMTTYPE=image/jpeg:https://kamloopsvineyard.com/wp-content/uploads/2023/05/Sundays@330pm_16x9@1000.jpeg
END:VEVENT
END:VCALENDAR