BEGIN:VCALENDAR
VERSION:2.0
PRODID:-//Kamloops Vineyard Church - ECPv6.15.16//NONSGML v1.0//EN
CALSCALE:GREGORIAN
METHOD:PUBLISH
X-ORIGINAL-URL:https://kamloopsvineyard.com
X-WR-CALDESC:Events for Kamloops Vineyard Church
REFRESH-INTERVAL;VALUE=DURATION:PT1H
X-Robots-Tag:noindex
X-PUBLISHED-TTL:PT1H
BEGIN:VTIMEZONE
TZID:America/Vancouver
BEGIN:DAYLIGHT
TZOFFSETFROM:-0800
TZOFFSETTO:-0700
TZNAME:PDT
DTSTART:20220313T100000
END:DAYLIGHT
BEGIN:STANDARD
TZOFFSETFROM:-0700
TZOFFSETTO:-0800
TZNAME:PST
DTSTART:20221106T090000
END:STANDARD
BEGIN:DAYLIGHT
TZOFFSETFROM:-0800
TZOFFSETTO:-0700
TZNAME:PDT
DTSTART:20230312T100000
END:DAYLIGHT
BEGIN:STANDARD
TZOFFSETFROM:-0700
TZOFFSETTO:-0800
TZNAME:PST
DTSTART:20231105T090000
END:STANDARD
BEGIN:DAYLIGHT
TZOFFSETFROM:-0800
TZOFFSETTO:-0700
TZNAME:PDT
DTSTART:20240310T100000
END:DAYLIGHT
BEGIN:STANDARD
TZOFFSETFROM:-0700
TZOFFSETTO:-0800
TZNAME:PST
DTSTART:20241103T090000
END:STANDARD
END:VTIMEZONE
BEGIN:VEVENT
DTSTART;VALUE=DATE:20230702
DTEND;VALUE=DATE:20230703
DTSTAMP:20260422T185827
CREATED:20230628T164738Z
LAST-MODIFIED:20230628T164738Z
UID:4823-1688256000-1688342399@kamloopsvineyard.com
SUMMARY:Feast Sunday July 2nd @ 3:30 pm. Free Methodist Church (Brocklehurst).
DESCRIPTION:Connections Cáfe @ 3:15 pm\n(attend a little early to connect over a beverage)\nWorship Service begins @ 3:30 pm \nAppropriately it’s time to gather around the table. We welcome an evolving time of celebration and worship on the first Sunday of every month. Setting our sights on Jesus — we lean into a short communal reflection from God’s Word\, corporate worship and a shared meal.\n\n\n\n\n\nInvite your friends\, extended family and neighbours.\nThe meal will be potluck.\n\n\n\nSignup! Can you share what you are hoping to bring?\nA main dish/salad\, and/or Dessert?\n_________________\n\n\n\nMany hands help lighten the workload.\nWe’re looking for people to help with setup\, takedown\, or cleanup.\n\n\n\nPlease email Connie and Debbie. Let them know what you’re providing and where you might hope to provide some help\, info@kamloopsvineyard.com
URL:https://kamloopsvineyard.com/event/feast-sunday-july-2nd-330-pm-free-methodist-church-brocklehurst/
LOCATION:Kamloops Free Methodist Church\, 975 Windbreak St\, Kamloops\, BC\, V2B 5P5\, Canada
ATTACH;FMTTYPE=image/jpeg:https://kamloopsvineyard.com/wp-content/uploads/2023/01/FeastSunday@1000.jpeg
END:VEVENT
BEGIN:VEVENT
DTSTART;VALUE=DATE:20230709
DTEND;VALUE=DATE:20230710
DTSTAMP:20260422T185827
CREATED:20230614T180204Z
LAST-MODIFIED:20230628T174957Z
UID:4672-1688860800-1688947199@kamloopsvineyard.com
SUMMARY:Sunday afternoon Worship Service @ 3:30 pm.
DESCRIPTION:Sunday Worship Service begins @ 3:30 pm\nConnections Cáfe begins serving @ 3:15 pm\nEveryone is welcome!\nVenue: Free Methodist Church\n\n\nKids’ Church will be taking a break through the Summer (July – Sept 3\, 2023) . . .\nKids’ will remain the responsibility of parents and guardians.\nActivity Bags will be made available upon request.\n\nMany hands lighten the workload. We’re looking for people to help with setup\, takedown\, cleanup\, greeting. Please contact Connie Smith and Debbie Tombe to find out how you can help serve. Please email\, info@kamloopsvineyard.com or call the office at 250-828-1690.
URL:https://kamloopsvineyard.com/event/sunday-afternoon-worship-service-330-pm-2023-07-09/2023-07-09/
LOCATION:Kamloops Free Methodist Church\, 975 Windbreak St\, Kamloops\, BC\, V2B 5P5\, Canada
CATEGORIES:In-Person Worship Service,Streaming LIVE,Sunday In-Person Worship
ATTACH;FMTTYPE=image/jpeg:https://kamloopsvineyard.com/wp-content/uploads/2023/05/Sundays@330pm_16x9@1000.jpeg
END:VEVENT
BEGIN:VEVENT
DTSTART;VALUE=DATE:20230723
DTEND;VALUE=DATE:20230724
DTSTAMP:20260422T185827
CREATED:20230707T163559Z
LAST-MODIFIED:20230707T164016Z
UID:4890-1690070400-1690156799@kamloopsvineyard.com
SUMMARY:Community Connections. Overlanders Day 2023. Sunday July 23rd 10 am to 3 pm.
DESCRIPTION:Hello Vineyard family\, \nWe’ve been praying for open doors to begin connecting with the people in our new home in Brocklehurst. The Free Methodist Church and Young Life have invited us to stand alongside them in a meet and greet at the Interior Savings Outlanders Day Event in Brocklehurst. What a great opportunity to simply connect\, to mingle with the people in our new neighbourhood! Please join us. \nFor more information on the event itself\, please click here. \nHave you got questions for us? Please email us at info@kamloopsvineyard.com. \n___ \nInterior Savings Overlanders Day 2023\n\nPresented By: North Shore Business Improvement Association\nDates: July 23\, 2023\nLocation: Brocklehurst Park\nAddress: 2470 Fleetwood Ave\,\nTime: 10:00 AM to 3:00 PM\nPrice: Free\n\nThe 8th annual Overlanders Day Community event has something for everyone! There will be a Food Expo of 10 well known & loved Vendors\, Entertainment Stage that has performers that go non stop all day along with Emcee Nick Carter. They will have an even bigger Kidz Zone that will take up the entire end of the Park with a 45’ Obstacle Course\, Slide & bouncy castle\, facepainting\, crafts\, games\, golf\, clown\, & more in the works\, Business & Community Expo with 90+ vendors of crafts artisans & local businesses\, Animal Corner of 10 Vendors covering all sorts of animals!\, Cake-eating contest sponsored by Harvest Moon Bakery for kids 6yrs to 17yrs & adults 18+ with medals to be won\, dunk tank\, mascots\, fire truck\, there will be a new contest this year where kids will be timed & they will be painting their dads face with prizes to be won as well as Doxie Dog Races. There is so much to see & do!!
URL:https://kamloopsvineyard.com/event/community-connections-overlanders-day-2023-sunday-july-23rd-10-am-to-3-pm/
LOCATION:Brocklehurst Park\, 2470 Fleetwood Ave\, Kamloops\, BC\, Canada
ATTACH;FMTTYPE=image/jpeg:https://kamloopsvineyard.com/wp-content/uploads/2023/07/KVC_OverlandersDay2023@1000.jpeg
END:VEVENT
END:VCALENDAR