BEGIN:VCALENDAR
VERSION:2.0
PRODID:-//Kamloops Vineyard Church - ECPv6.15.16//NONSGML v1.0//EN
CALSCALE:GREGORIAN
METHOD:PUBLISH
X-ORIGINAL-URL:https://kamloopsvineyard.com
X-WR-CALDESC:Events for Kamloops Vineyard Church
REFRESH-INTERVAL;VALUE=DURATION:PT1H
X-Robots-Tag:noindex
X-PUBLISHED-TTL:PT1H
BEGIN:VTIMEZONE
TZID:America/Vancouver
BEGIN:DAYLIGHT
TZOFFSETFROM:-0800
TZOFFSETTO:-0700
TZNAME:PDT
DTSTART:20220313T100000
END:DAYLIGHT
BEGIN:STANDARD
TZOFFSETFROM:-0700
TZOFFSETTO:-0800
TZNAME:PST
DTSTART:20221106T090000
END:STANDARD
BEGIN:DAYLIGHT
TZOFFSETFROM:-0800
TZOFFSETTO:-0700
TZNAME:PDT
DTSTART:20230312T100000
END:DAYLIGHT
BEGIN:STANDARD
TZOFFSETFROM:-0700
TZOFFSETTO:-0800
TZNAME:PST
DTSTART:20231105T090000
END:STANDARD
BEGIN:DAYLIGHT
TZOFFSETFROM:-0800
TZOFFSETTO:-0700
TZNAME:PDT
DTSTART:20240310T100000
END:DAYLIGHT
BEGIN:STANDARD
TZOFFSETFROM:-0700
TZOFFSETTO:-0800
TZNAME:PST
DTSTART:20241103T090000
END:STANDARD
END:VTIMEZONE
BEGIN:VEVENT
DTSTART;VALUE=DATE:20230818
DTEND;VALUE=DATE:20230821
DTSTAMP:20260422T170530
CREATED:20230629T231351Z
LAST-MODIFIED:20230820T155336Z
UID:4828-1692316800-1692575999@kamloopsvineyard.com
SUMMARY:Family Camping @ Herald Provincial Park. August 18th\, 19th and 20th. (Fri - Sun) CANCELLED JUNE 18th DUE TO FIRES.
DESCRIPTION:CANCELLED FRIDAY JUNE 18th DUE TO FIRES.\nHey\, some of our families are gathering at Herald Provincial Park\, August 18th – 2oth!\nVisit us for the day or join us for the weekend!!\nEveryone is welcome\, bring your friends\, neighbours\, and families and come join us for a hike\, some beach time\, worship and a group meal. \nDebbie Tombe\, debbie@kamloopsvineyard.com \nMore information to be posted. Check back soon. \n____\nIMPORTANT: IF you’re thinking that you’d love to camp and haven’t already booked a campsite we encourage you to keep checking in to find a site that may have opened up due to cancellations!! \nhttps://bcparks.ca/explore/parkpgs/herald/
URL:https://kamloopsvineyard.com/event/family-camping-herald-provincial-park-august-18th-19th-and-20th-fri-sun/
LOCATION:Herald Provincial Park\, 4861 Sunnybrae-Canoe Point Rd\, Tappen\, British Colmbia\, V0E 2X1\, Canada
CATEGORIES:Outdoor Service,Special Event,Vineyard Outdoors
ATTACH;FMTTYPE=image/jpeg:https://kamloopsvineyard.com/wp-content/uploads/2023/06/FamilyCamping_2023@1000.jpeg
END:VEVENT
BEGIN:VEVENT
DTSTART;VALUE=DATE:20230819
DTEND;VALUE=DATE:20230820
DTSTAMP:20260422T170530
CREATED:20230629T223928Z
LAST-MODIFIED:20230820T155439Z
UID:4825-1692403200-1692489599@kamloopsvineyard.com
SUMMARY:Vineyard Picnic @ Herald Provincial Park. SATURDAY AUG 19th. CANCELLED FRIDAY JUNE 18th DUE TO FIRES.
DESCRIPTION:CANCELLED FRIDAY JUNE 18th DUE TO FIRES.\n___ \nHello Church family! \nCircle your calendars for Saturday August 19th.\nCome enjoy a laid back day at the park and at the beach.\nThere is plenty for everyone in the family to enjoy! \nSome of our church family will already be camping on sites throughout the parks.\nOthers will be showing up throughout the morning and afternoon. \nCheck back in to learn about the details of our day! \nDebbie Tombe\, debbie@kamloopsvineyard.com\nClick on the map or links to visit\nHerald Provincial Park Facebook and Googlemaps for information and directions.
URL:https://kamloopsvineyard.com/event/vineyard-picnic-herald-provincial-park-saturday-aug-19th/
LOCATION:Herald Provincial Park\, 4861 Sunnybrae-Canoe Point Rd\, Tappen\, British Colmbia\, V0E 2X1\, Canada
CATEGORIES:Outdoor Gathering,Special Event
ATTACH;FMTTYPE=image/jpeg:https://kamloopsvineyard.com/wp-content/uploads/2023/06/VineyardPicnic_2023@1000.jpeg
END:VEVENT
BEGIN:VEVENT
DTSTART;VALUE=DATE:20230827
DTEND;VALUE=DATE:20230828
DTSTAMP:20260422T170530
CREATED:20230614T180204Z
LAST-MODIFIED:20230824T230736Z
UID:4679-1693094400-1693180799@kamloopsvineyard.com
SUMMARY:Sunday afternoon Worship Service @ 3:30 pm.
DESCRIPTION:Sunday Worship Service begins @ 3:30 pm\nConnections Cáfe begins serving @ 3:15 pm\nEveryone is welcome!\nVenue: Free Methodist Church\n\n\nKids’ Church will be taking a break through the Summer (July – Sept 3\, 2023) . . .\nKids’ will remain the responsibility of parents and guardians.\nActivity Bags will be made available upon request.\n\nMany hands lighten the workload. We’re looking for people to help with setup\, takedown\, cleanup\, greeting. Please contact Connie Smith and Debbie Tombe to find out how you can help serve. Please email\, info@kamloopsvineyard.com or call the office at 250-828-1690.
URL:https://kamloopsvineyard.com/event/sunday-afternoon-worship-service-330-pm-2023-08-27/
LOCATION:Kamloops Free Methodist Church\, 975 Windbreak St\, Kamloops\, BC\, V2B 5P5\, Canada
CATEGORIES:In-Person Worship Service,Streaming LIVE,Sunday In-Person Worship
ATTACH;FMTTYPE=image/jpeg:https://kamloopsvineyard.com/wp-content/uploads/2023/06/ComeAsYouAreSundays@330_2023@1000.jpeg
END:VEVENT
END:VCALENDAR