BEGIN:VCALENDAR
VERSION:2.0
PRODID:-//Kamloops Vineyard Church - ECPv6.15.16//NONSGML v1.0//EN
CALSCALE:GREGORIAN
METHOD:PUBLISH
X-ORIGINAL-URL:https://kamloopsvineyard.com
X-WR-CALDESC:Events for Kamloops Vineyard Church
REFRESH-INTERVAL;VALUE=DURATION:PT1H
X-Robots-Tag:noindex
X-PUBLISHED-TTL:PT1H
BEGIN:VTIMEZONE
TZID:America/Vancouver
BEGIN:DAYLIGHT
TZOFFSETFROM:-0800
TZOFFSETTO:-0700
TZNAME:PDT
DTSTART:20220313T100000
END:DAYLIGHT
BEGIN:STANDARD
TZOFFSETFROM:-0700
TZOFFSETTO:-0800
TZNAME:PST
DTSTART:20221106T090000
END:STANDARD
BEGIN:DAYLIGHT
TZOFFSETFROM:-0800
TZOFFSETTO:-0700
TZNAME:PDT
DTSTART:20230312T100000
END:DAYLIGHT
BEGIN:STANDARD
TZOFFSETFROM:-0700
TZOFFSETTO:-0800
TZNAME:PST
DTSTART:20231105T090000
END:STANDARD
BEGIN:DAYLIGHT
TZOFFSETFROM:-0800
TZOFFSETTO:-0700
TZNAME:PDT
DTSTART:20240310T100000
END:DAYLIGHT
BEGIN:STANDARD
TZOFFSETFROM:-0700
TZOFFSETTO:-0800
TZNAME:PST
DTSTART:20241103T090000
END:STANDARD
END:VTIMEZONE
BEGIN:VEVENT
DTSTART;VALUE=DATE:20230903
DTEND;VALUE=DATE:20230904
DTSTAMP:20260422T151131
CREATED:20230614T180204Z
LAST-MODIFIED:20230824T234048Z
UID:4680-1693699200-1693785599@kamloopsvineyard.com
SUMMARY:Vineyard Feast Sunday. September 3rd @ 3:30 pm.
DESCRIPTION:Feast Sunday. September 3rd @ 3:30 pm.\nConnections Cáfe begins serving @ 3:15 pm.\nEveryone is welcome! Invite your friends and neighbours.\nVenue: Free Methodist Church\n\n\n\n\nIt’s time to gather for Feast Sunday Worship and Meal.\nWe welcome you to join us in an time of celebration and worship on the first Sunday of every month. Setting our sights on Jesus — we lean into a short communal reflection from God’s Word\, corporate worship and a shared meal.\n\n\n\n\n\nInvite your friends\, extended family and neighbours.\nThe meal will be potluck.\n\n\n\nSignup! Can you share what you are hoping to bring?\nA main dish/salad\, and/or Dessert?\n_________________\n\n\n\nMany hands help lighten the workload.\nWe’re looking for people to help with setup\, takedown\, or cleanup.\n\n\n\nPlease email Connie Smith. Let them know what you’re providing and where you might hope to provide some help\, info@kamloopsvineyard.com
URL:https://kamloopsvineyard.com/event/sunday-afternoon-worship-service-330-pm-2023-09-03/
LOCATION:Kamloops Free Methodist Church\, 975 Windbreak St\, Kamloops\, BC\, V2B 5P5\, Canada
CATEGORIES:In-Person Worship Service,Streaming LIVE,Sunday In-Person Worship
ATTACH;FMTTYPE=image/jpeg:https://kamloopsvineyard.com/wp-content/uploads/2023/06/FeastSundaySept3_2023@1000b.jpeg
END:VEVENT
BEGIN:VEVENT
DTSTART;VALUE=DATE:20230908
DTEND;VALUE=DATE:20230909
DTSTAMP:20260422T151131
CREATED:20230506T170400Z
LAST-MODIFIED:20230825T210552Z
UID:4532-1694131200-1694217599@kamloopsvineyard.com
SUMMARY:The Power of Group Prayer. Book Study and Group Prayer. Chapters 1-5 Review. Friday Sept 8th @ 10 am.
DESCRIPTION:We’re gathering for a daytime book study and group prayer\nClick here to download Promotional Information Sheet! \nVenue: Connie Smith’s home on the South Shore\n \nContact Connie or Debbie for directions.\nconnie@kamloopsvineyard.com\ndebbie@kamloopsvineyard.com \n_____ \nOur hearts are renewed and transformed when we pray.\nThe revival of whole communities begins when God’s people pray together.\n_____
URL:https://kamloopsvineyard.com/event/the-power-of-group-prayer-book-study-and-group-prayer-session-5-friday-july-14th-10-am/
LOCATION:British Columbia
CATEGORIES:Home Group,Prayer
ATTACH;FMTTYPE=image/jpeg:https://kamloopsvineyard.com/wp-content/uploads/2023/04/ThePowerOfGroupPrayer_withDebbie@1000.jpeg
END:VEVENT
BEGIN:VEVENT
DTSTART;VALUE=DATE:20230910
DTEND;VALUE=DATE:20230911
DTSTAMP:20260422T151131
CREATED:20230901T154207Z
LAST-MODIFIED:20230901T154922Z
UID:5181-1694304000-1694390399@kamloopsvineyard.com
SUMMARY:Kids' Church Every 2nd\, 4th and 5th Sunday @ 3:30 pm.
DESCRIPTION:Hello Vineyard family and new-comers\, \nWe’re excited to\, once again\, offer a breakout session for Kids’ Church on the 2nd\, 4th and 5th Sunday of every month. \nSnack-makers\, teachers\, and helpers are already taking shape. For more information on how you can enroll your children and/or help participate with our team please contact our leaders and organizers\, \nConnie Smith\, Kid’s Church Overseer\nconnie@kamloopsvineyard.com\n(250) 319-6831‬ \nDebbie Tombe\, Kids’ Church Registrations and Snack-coordinator\ndebbie@kamloopsvineyard.com\n(250) 320-4563
URL:https://kamloopsvineyard.com/event/kids-church-every-2nd-4th-and-5th-sunday-330-pm/
LOCATION:Kamloops Free Methodist Church\, 975 Windbreak St\, Kamloops\, BC\, V2B 5P5\, Canada
CATEGORIES:Children,Kids' Church,Sunday In-Person Family Service,Sunday In-Person Worship
ATTACH;FMTTYPE=image/jpeg:https://kamloopsvineyard.com/wp-content/uploads/2023/09/KidsChurch_16x9@1000.jpeg
END:VEVENT
BEGIN:VEVENT
DTSTART;VALUE=DATE:20230910
DTEND;VALUE=DATE:20230911
DTSTAMP:20260422T151131
CREATED:20230824T234512Z
LAST-MODIFIED:20230901T155747Z
UID:5141-1694304000-1694390399@kamloopsvineyard.com
SUMMARY:Worship Service and Kids' Church. Sunday Sept 10th @ 3:30 pm.
DESCRIPTION:Sunday Worship Service and Kids’ Church begins @ 3:30 pm\nConnections Cáfe begins serving @ 3:15 pm\nEveryone is welcome!\nVenue: Free Methodist Church\n\n\nKids’ Church begins an ‘all new season of fun!’ We can’t wait to welcome you.\n\n\nMany hands lighten the workload. We’re looking for people to help with setup\, takedown\, cleanup\, greeting. Please contact Connie Smith and Debbie Tombe to find out how you can help serve. Please email\, info@kamloopsvineyard.com or call the office at 250-828-1690.
URL:https://kamloopsvineyard.com/event/sunday-worship-service-and-kids-church-330-pm/
LOCATION:Kamloops Free Methodist Church\, 975 Windbreak St\, Kamloops\, BC\, V2B 5P5\, Canada
CATEGORIES:In-Person Worship Service,Streaming LIVE,Sunday In-Person Worship
ATTACH;FMTTYPE=image/jpeg:https://kamloopsvineyard.com/wp-content/uploads/2023/06/ComeAsYouAreSundays@330_2023@1000.jpeg
END:VEVENT
BEGIN:VEVENT
DTSTART;VALUE=DATE:20230917
DTEND;VALUE=DATE:20230918
DTSTAMP:20260422T151131
CREATED:20230824T235612Z
LAST-MODIFIED:20230901T155921Z
UID:5145-1694908800-1694995199@kamloopsvineyard.com
SUMMARY:Worship and Communion Service. Sunday Sept 17th @ 3:30 pm.
DESCRIPTION:Sunday Worship and Communion Service @ 3:30 pm.\nConnections Cáfe begins serving @ 3:15 pm\nVenue: Free Methodist Church\n\n\nKids’ activity bags are available upon request.\n\n\nEvery Third Sunday we gather to focus our affections toward JESUS and to the worship of our LORD through song\, reflective reading and testimony\, Communion and prayer. Please join us in welcoming one another and strangers to the fellowship.
URL:https://kamloopsvineyard.com/event/sunday-worship-and-communion-service-september-17th-330-pm/
LOCATION:Kamloops Free Methodist Church\, 975 Windbreak St\, Kamloops\, BC\, V2B 5P5\, Canada
CATEGORIES:In-Person Worship Service,Streaming LIVE,Sunday In-Person Worship
ATTACH;FMTTYPE=image/jpeg:https://kamloopsvineyard.com/wp-content/uploads/2023/06/ComeAsYouAreSundays@330_2023@1000.jpeg
END:VEVENT
BEGIN:VEVENT
DTSTART;VALUE=DATE:20230924
DTEND;VALUE=DATE:20230925
DTSTAMP:20260422T151131
CREATED:20230901T154406Z
LAST-MODIFIED:20230901T155004Z
UID:5184-1695513600-1695599999@kamloopsvineyard.com
SUMMARY:Kids' Church Every 2nd\, 4th and 5th Sunday @ 3:30 pm.
DESCRIPTION:Hello Vineyard family and new-comers\, \nWe’re excited to\, once again\, offer a breakout session for Kids’ Church on the 2nd\, 4th and 5th Sunday of every month. \nSnack-makers\, teachers\, and helpers are already taking shape. For more information on how you can enroll your children and/or help participate with our team please contact our leaders and organizers\, \nConnie Smith\, Kid’s Church Overseer\nconnie@kamloopsvineyard.com\n(250) 319-6831‬ \nDebbie Tombe\, Kids’ Church Registrations and Snack-coordinator\ndebbie@kamloopsvineyard.com\n(250) 320-4563
URL:https://kamloopsvineyard.com/event/kids-church-every-2nd-4th-and-5th-sunday-330-pm-2/
LOCATION:Kamloops Free Methodist Church\, 975 Windbreak St\, Kamloops\, BC\, V2B 5P5\, Canada
CATEGORIES:Children,Families,In-Person Worship Service,Kids' Church,Sunday In-Person Family Service,Sunday In-Person Worship
ATTACH;FMTTYPE=image/jpeg:https://kamloopsvineyard.com/wp-content/uploads/2023/09/KidsChurch_16x9@1000.jpeg
END:VEVENT
BEGIN:VEVENT
DTSTART;VALUE=DATE:20230924
DTEND;VALUE=DATE:20230925
DTSTAMP:20260422T151131
CREATED:20230824T234701Z
LAST-MODIFIED:20230901T155705Z
UID:5143-1695513600-1695599999@kamloopsvineyard.com
SUMMARY:Worship Service and Kids' Church. Sunday Sept 24th @ 3:30 pm.
DESCRIPTION:Sunday Worship Service and Kids’ Church begins @ 3:30 pm\nConnections Cáfe begins serving @ 3:15 pm\nEveryone is welcome!\nVenue: Free Methodist Church\n\n\nKids’ Church begins an ‘all new season of fun!’\n\n\nMany hands lighten the workload. We’re looking for people to help with setup\, takedown\, cleanup\, greeting. Please contact Connie Smith and Debbie Tombe to find out how you can help serve. Please email\, info@kamloopsvineyard.com or call the office at 250-828-1690.
URL:https://kamloopsvineyard.com/event/sunday-worship-service-and-kids-church-330-pm-2/
LOCATION:Kamloops Free Methodist Church\, 975 Windbreak St\, Kamloops\, BC\, V2B 5P5\, Canada
CATEGORIES:In-Person Worship Service,Streaming LIVE,Sunday In-Person Worship
ATTACH;FMTTYPE=image/jpeg:https://kamloopsvineyard.com/wp-content/uploads/2023/06/ComeAsYouAreSundays@330_2023@1000.jpeg
END:VEVENT
BEGIN:VEVENT
DTSTART;VALUE=DATE:20230929
DTEND;VALUE=DATE:20230930
DTSTAMP:20260422T151131
CREATED:20230506T170503Z
LAST-MODIFIED:20230830T231744Z
UID:4534-1695945600-1696031999@kamloopsvineyard.com
SUMMARY:The Power of Group Prayer. Book Study and Group Prayer. Session 6. Friday Sept 29th @ 10 am.
DESCRIPTION:We’re gathering for a daytime book study and group prayer\non the 1st and 3rd Fridays of every month @ 10 am.\nClick here to download Promotional Information Sheet! \nVenue: Connie Smith’s home on the South Shore\n \nContact Connie or Debbie for directions.\nconnie@kamloopsvineyard.com\ndebbie@kamloopsvineyard.com \n_____ \nOur hearts are renewed and transformed when we pray.\nThe revival of whole communities begins when God’s people pray together.\n_____
URL:https://kamloopsvineyard.com/event/the-power-of-group-prayer-book-study-and-group-prayer-session-6-friday-sept-29th-10-am/
LOCATION:British Columbia
CATEGORIES:Home Group,Prayer
ATTACH;FMTTYPE=image/jpeg:https://kamloopsvineyard.com/wp-content/uploads/2023/04/ThePowerOfGroupPrayer_withDebbie@1000.jpeg
END:VEVENT
END:VCALENDAR