BEGIN:VCALENDAR
VERSION:2.0
PRODID:-//Kamloops Vineyard Church - ECPv6.15.16//NONSGML v1.0//EN
CALSCALE:GREGORIAN
METHOD:PUBLISH
X-WR-CALNAME:Kamloops Vineyard Church
X-ORIGINAL-URL:https://kamloopsvineyard.com
X-WR-CALDESC:Events for Kamloops Vineyard Church
REFRESH-INTERVAL;VALUE=DURATION:PT1H
X-Robots-Tag:noindex
X-PUBLISHED-TTL:PT1H
BEGIN:VTIMEZONE
TZID:America/Vancouver
BEGIN:DAYLIGHT
TZOFFSETFROM:-0800
TZOFFSETTO:-0700
TZNAME:PDT
DTSTART:20220313T100000
END:DAYLIGHT
BEGIN:STANDARD
TZOFFSETFROM:-0700
TZOFFSETTO:-0800
TZNAME:PST
DTSTART:20221106T090000
END:STANDARD
BEGIN:DAYLIGHT
TZOFFSETFROM:-0800
TZOFFSETTO:-0700
TZNAME:PDT
DTSTART:20230312T100000
END:DAYLIGHT
BEGIN:STANDARD
TZOFFSETFROM:-0700
TZOFFSETTO:-0800
TZNAME:PST
DTSTART:20231105T090000
END:STANDARD
BEGIN:DAYLIGHT
TZOFFSETFROM:-0800
TZOFFSETTO:-0700
TZNAME:PDT
DTSTART:20240310T100000
END:DAYLIGHT
BEGIN:STANDARD
TZOFFSETFROM:-0700
TZOFFSETTO:-0800
TZNAME:PST
DTSTART:20241103T090000
END:STANDARD
END:VTIMEZONE
BEGIN:VEVENT
DTSTART;VALUE=DATE:20231001
DTEND;VALUE=DATE:20231002
DTSTAMP:20260422T131636
CREATED:20230825T221447Z
LAST-MODIFIED:20230901T160033Z
UID:5172-1696118400-1696204799@kamloopsvineyard.com
SUMMARY:Shared Worship Service and Meal. The Vineyard and Free Methodist Churches. Sunday Morning Oct 1st @ 10:30 am.
DESCRIPTION:Shared WORSHIP SERVICE and MEAL.\nSUNDAY OCT 1st @ 10:30 am\nThe Vineyard joins the Free Methodist Church for a special service.\nWorship begins @ 10:30 pm\nLunch serves @ approx. 12 noon.\n\nVenue: Free Methodist Church\n\n\n\n\nWe welcome you to join us in an time of celebration and worship with our friends at the Free Methodist Church.\n\n\n\n\n\nInvite your friends\, extended family and neighbours. The meal will be potluck. Some organizational efforts will be made to coordinate our meals. We’re thinking a main dish/salad\, and/or Dessert? MORE information to come.\n\n\n\n\nMany hands help lighten the workload. We’re looking for people to help with setup\, takedown\, or cleanup. We need a volunteers to help with setup and to provide Kids’ oversight with the Free Methodist Kids’ Ministry Team. Contact Connie and Debbie to find out where you could provide help\, info@kamloopsvineyard.com\n\n_________________
URL:https://kamloopsvineyard.com/event/shared-worship-service-and-meal-the-vineyard-and-free-methodist-churches-october-1st-1030-am/
LOCATION:Kamloops Free Methodist Church\, 975 Windbreak St\, Kamloops\, BC\, V2B 5P5\, Canada
CATEGORIES:In-Person Worship Service,Special Event,Streaming LIVE,Sunday In-Person Family Service,Sunday In-Person Worship
ATTACH;FMTTYPE=image/jpeg:https://kamloopsvineyard.com/wp-content/uploads/2023/08/SharedWorshipServiceandMeal_Oct2023@1000.jpeg
END:VEVENT
BEGIN:VEVENT
DTSTART;VALUE=DATE:20231008
DTEND;VALUE=DATE:20231009
DTSTAMP:20260422T131636
CREATED:20230901T154505Z
LAST-MODIFIED:20230901T154833Z
UID:5186-1696723200-1696809599@kamloopsvineyard.com
SUMMARY:Kids' Church Every 2nd\, 4th and 5th Sunday @ 3:30 pm.
DESCRIPTION:Hello Vineyard family and new-comers\, \nWe’re excited to\, once again\, offer a breakout session for Kids’ Church on the 2nd\, 4th and 5th Sunday of every month. \nSnack-makers\, teachers\, and helpers are already taking shape. For more information on how you can enroll your children and/or help participate with our team please contact our leaders and organizers\, \nConnie Smith\, Kid’s Church Overseer\nconnie@kamloopsvineyard.com\n(250) 319-6831‬ \nDebbie Tombe\, Kids’ Church Registrations and Snack-coordinator\ndebbie@kamloopsvineyard.com\n(250) 320-4563
URL:https://kamloopsvineyard.com/event/kids-church-every-2nd-4th-and-5th-sunday-330-pm-3/
LOCATION:Kamloops Free Methodist Church\, 975 Windbreak St\, Kamloops\, BC\, V2B 5P5\, Canada
CATEGORIES:Children,Families,Kids' Church,Sunday In-Person Family Service,Sunday In-Person Worship
ATTACH;FMTTYPE=image/jpeg:https://kamloopsvineyard.com/wp-content/uploads/2023/09/KidsChurch_16x9@1000.jpeg
END:VEVENT
BEGIN:VEVENT
DTSTART;VALUE=DATE:20231008
DTEND;VALUE=DATE:20231009
DTSTAMP:20260422T131636
CREATED:20230901T155600Z
LAST-MODIFIED:20230901T155634Z
UID:5192-1696723200-1696809599@kamloopsvineyard.com
SUMMARY:Worship Service and Kids' Church. Sunday Oct 8th @ 3:30 pm.
DESCRIPTION:Sunday Worship Service and Kids’ Church begins @ 3:30 pm\nConnections Cáfe begins serving @ 3:15 pm\nEveryone is welcome!\nVenue: Free Methodist Church\n\n\nKids’ Church begins an ‘all new season of fun!’\n\n\nMany hands lighten the workload. We’re looking for people to help with setup\, takedown\, cleanup\, greeting. Please contact Connie Smith and Debbie Tombe to find out how you can help serve. Please email\, info@kamloopsvineyard.com or call the office at 250-828-1690.
URL:https://kamloopsvineyard.com/event/worship-service-and-kids-church-sunday-oct-8th-330-pm/
LOCATION:Kamloops Free Methodist Church\, 975 Windbreak St\, Kamloops\, BC\, V2B 5P5\, Canada
CATEGORIES:In-Person Worship Service,Streaming LIVE,Sunday In-Person Worship
ATTACH;FMTTYPE=image/jpeg:https://kamloopsvineyard.com/wp-content/uploads/2023/06/ComeAsYouAreSundays@330_2023@1000.jpeg
END:VEVENT
BEGIN:VEVENT
DTSTART;VALUE=DATE:20231011
DTEND;VALUE=DATE:20231012
DTSTAMP:20260422T131636
CREATED:20230824T163401Z
LAST-MODIFIED:20231010T233227Z
UID:5111-1696982400-1697068799@kamloopsvineyard.com
SUMMARY:Community Prayer (transitions). Beginning Wednesday Oct 11th @ 7 pm we're gathering at the Lighthouse Christian Fellowship.
DESCRIPTION:Community Prayer is Transitioning.\nBeginning Wed Oct 11th @ 7 pm we’re gathering at the Lighthouse Christian Fellowship for Worship and Prayer.\n\nSince the onset of the Pandemic in 2020 we’ve represented an important collective of people who’ve gathered online to intercede for our fellowship\, for this city and for our nation. Effective Wednesday Oct 11th 2023\, at least for a season\, we are transitioning our gatherings.The Vineyard has been invited to partner with the Lighthouse Christian Fellowship and to conjointly steward a weeknight gathering of God’s people to foster his manifest presence and to pray for him to heal and revive our hearts\, our city and the nation(s). Psalm 46:4 — “There is a river whose streams make glad the city of God\, the holy place where the Most High dwells.” \nWhere to start? We’re going to begin by honouring the foundation of worship and prayer that the Lighthouse has laid. Our first act as the Vineyard is to come alongside what God is already doing and to love and serve Brandon and Danae Linse however we can. \n\n\nTogether we will worship and pray. Together we will help to facilitate ministry to the LORD and one-to-another. And together we will pursue and partner with JESUS who leads us on. \n\n\nIF you have any questions about how you can be involved\, please reach out to info@kamloopsvineyard.com. \n\nIn grace and love\,\nDavid and Debbie Tombe
URL:https://kamloopsvineyard.com/event/community-prayer-wednesday-evenings-7-pm/
LOCATION:Lighthouse Christian Fellowship\, 702 Columbia St\, Kamloops\, British Columbia\, V2C 2V4\, Canada
CATEGORIES:Community Prayer,Video ONLINE Conferencing
ATTACH;FMTTYPE=image/jpeg:https://kamloopsvineyard.com/wp-content/uploads/2021/01/CommunityPrayer.jpg
END:VEVENT
BEGIN:VEVENT
DTSTART;VALUE=DATE:20231013
DTEND;VALUE=DATE:20231014
DTSTAMP:20260422T131636
CREATED:20230825T205751Z
LAST-MODIFIED:20230825T205955Z
UID:5165-1697155200-1697241599@kamloopsvineyard.com
SUMMARY:The Power of Group Prayer. Book Study and Group Prayer. Session 7. Friday Oct 13th @ 10 am.
DESCRIPTION:We’re gathering for a daytime book study and group prayer\non the 1st and 3rd Fridays of every month @ 10 am.\nClick here to download Promotional Information Sheet! \nVenue: Connie Smith’s home on the South Shore\n \nContact Connie or Debbie for directions.\nconnie@kamloopsvineyard.com\ndebbie@kamloopsvineyard.com \n_____ \nOur hearts are renewed and transformed when we pray.\nThe revival of whole communities begins when God’s people pray together.\n_____
URL:https://kamloopsvineyard.com/event/the-power-of-group-prayer-book-study-and-group-prayer-session-7-friday-oct-13th-10-am/
LOCATION:British Columbia
CATEGORIES:Home Group,Prayer
ATTACH;FMTTYPE=image/jpeg:https://kamloopsvineyard.com/wp-content/uploads/2023/04/ThePowerOfGroupPrayer_withDebbie@1000.jpeg
END:VEVENT
BEGIN:VEVENT
DTSTART;VALUE=DATE:20231015
DTEND;VALUE=DATE:20231016
DTSTAMP:20260422T131636
CREATED:20230901T160209Z
LAST-MODIFIED:20231010T234501Z
UID:5198-1697328000-1697414399@kamloopsvineyard.com
SUMMARY:Worship and Communion Service. Sunday Oct 15th @ 3 pm (NEW TIME)
DESCRIPTION:Sunday Worship and Communion Service @ 3 pm (NEW TIME)\nConnections Cáfe begins serving @ 2:45 pm\nVenue: Free Methodist Church\n\n\nKids’ activity table will be setup at the back of the sanctuary.\n\n\nEvery Third Sunday we gather to focus our affections toward JESUS and to the worship of our LORD through song\, reflective reading and testimony\, Communion and prayer. Please join us in welcoming one another and strangers to the fellowship.
URL:https://kamloopsvineyard.com/event/worship-and-communion-service-sunday-oct-15th-330-pm/
LOCATION:Kamloops Free Methodist Church\, 975 Windbreak St\, Kamloops\, BC\, V2B 5P5\, Canada
CATEGORIES:In-Person Worship Service,Streaming LIVE,Sunday In-Person Worship
ATTACH;FMTTYPE=image/jpeg:https://kamloopsvineyard.com/wp-content/uploads/2023/09/KVC_NewMeetingTimeSundays@3pm@1000.jpeg
END:VEVENT
BEGIN:VEVENT
DTSTART;VALUE=DATE:20231019
DTEND;VALUE=DATE:20231020
DTSTAMP:20260422T131636
CREATED:20230928T162818Z
LAST-MODIFIED:20231003T232636Z
UID:5217-1697673600-1697759999@kamloopsvineyard.com
SUMMARY:Emotionally Healthy Discipleship Course.  'ON HOLD'
DESCRIPTION:Emotionally Healthy Relationship Discipleship Course (On Hold)\nEight (8) sessions over eight (8) weeks. \nHello Vineyard family\, \nWhile there has been communicated interest for participating in our FALL 2023 EH Relationships Course*\, the feedback from interested parties has revealed both personal and work-related hurdles to set aside time(s) to gather\, enough candidates that it constitutes us having to take a step back. \nWe remain committed to the teaching and principals taught through Emotionally Healthy Discipleship (EHD). EHD training and materials present us with some important cultural and faith-lived-out practices that promote health in our relationship to God and one another. With this in mind\, I share that we are (a) visiting an option to hosting a larger venue gathering with our Free Methodist Church partners in the New Year\, AND/or (b) presenting this as a Sunday teaching series\, that said\, I might suggest this doesn’t represent the best option to things taught. God willing\, He will open up an opportunity for us to offer this training in the New Year. \n\n* Fall 2023 represents our second time visiting this course since Spring 2021.\n\n__ \nEmotionally Healthy Relationship Discipleship Course involves an investment of your time.\nEight (8) sessions over eight (8) weeks. \nMoving from Shallow Christianity to Deep Transformation \nWould you like to be involved in this important journey of discipleship? \nThree steps to involving yourselves in the\nEmotionally Healthy Relationships Course; \n\nEmail Debbie and tell her that you want to attend\, debbie@kamloopsvineyard.com. Once we’ve confirmed the numbers of people intent on joining the group\, we’ll confirm the dates and times for our meetings\, after which you can order your materials.\nReview the EHR Participant’s Pack offered through amazon.\nAmazon Books (click here).\nIf after we’ve confirmed a date to commence with the course\, immerse yourself in the course and curriculum\, it’s an investment that keeps paying forward:\n\n\n\n\nSet aside time to practice Daily Office\n(practice the Day-By-Day prayer and devotional\, 10 – 15 min.\, 2 times a day).\nRead the EHR workbook introductions in tandem and attend 8 sessions.\n\n\n\nFor more information and directions please contact David and Debbie Tombe\ndebbie@kamloopsvineyard.com\ndavid@kamloopsvineyard.com\noffice: 250-828-1690.
URL:https://kamloopsvineyard.com/event/emotionally-healthy-discipleship-course-thurs-evening-oct-19th-7-pm/
LOCATION:Tombe’s Home\, 1266 Pine Grove Rd\, Kamloops\, British Columbia\, V2C 6V6\, Canada
CATEGORIES:Discipleship Course,In-House Connections,Vineyard Life Group
ATTACH;FMTTYPE=image/jpeg:https://kamloopsvineyard.com/wp-content/uploads/2023/09/EHR_EventsHeader@1000.jpeg
END:VEVENT
BEGIN:VEVENT
DTSTART;VALUE=DATE:20231022
DTEND;VALUE=DATE:20231023
DTSTAMP:20260422T131636
CREATED:20230901T154606Z
LAST-MODIFIED:20231010T234737Z
UID:5188-1697932800-1698019199@kamloopsvineyard.com
SUMMARY:Kids' Church Every 2nd\, 4th and 5th Sunday @ 3 pm.
DESCRIPTION:Hello Vineyard family and new-comers\, \nWe’re excited to\, once again\, offer a breakout session for Kids’ Church on the 2nd\, 4th and 5th Sunday of every month. \nSnack-makers\, teachers\, and helpers are already taking shape. For more information on how you can enroll your children and/or help participate with our team please contact our leaders and organizers\, \nConnie Smith\, Kid’s Church Overseer\nconnie@kamloopsvineyard.com\n(250) 319-6831‬ \nDebbie Tombe\, Kids’ Church Registrations and Snack-coordinator\ndebbie@kamloopsvineyard.com\n(250) 320-4563
URL:https://kamloopsvineyard.com/event/kids-church-every-2nd-4th-and-5th-sunday-330-pm-4/
LOCATION:Kamloops Free Methodist Church\, 975 Windbreak St\, Kamloops\, BC\, V2B 5P5\, Canada
CATEGORIES:Children,Families,Kids' Church,Sunday In-Person Family Service,Sunday In-Person Worship
ATTACH;FMTTYPE=image/jpeg:https://kamloopsvineyard.com/wp-content/uploads/2023/09/KidsChurch_16x9@1000.jpeg
END:VEVENT
BEGIN:VEVENT
DTSTART;VALUE=DATE:20231022
DTEND;VALUE=DATE:20231023
DTSTAMP:20260422T131636
CREATED:20230901T160416Z
LAST-MODIFIED:20231010T234344Z
UID:5200-1697932800-1698019199@kamloopsvineyard.com
SUMMARY:Worship Service and Kids' Church. Sunday Oct 22nd @ 3 pm (NEW TIME).
DESCRIPTION:Sunday Worship Service and Kids’ Church begins @ 3 pm (NEW TIME)\nConnections Cáfe begins serving @ 2:45 pm\nEveryone is welcome!\nVenue: Free Methodist Church\n\n\nKids’ Church begins an ‘all new season of fun!’\n\n\nMany hands lighten the workload. We’re looking for people to help with setup\, takedown\, cleanup\, greeting. Please contact Connie Smith and Debbie Tombe to find out how you can help serve. Please email\, info@kamloopsvineyard.com or call the office at 250-828-1690.
URL:https://kamloopsvineyard.com/event/worship-service-and-kids-church-sunday-oct-22nd-330-pm/
LOCATION:Kamloops Free Methodist Church\, 975 Windbreak St\, Kamloops\, BC\, V2B 5P5\, Canada
CATEGORIES:In-Person Worship Service,Streaming LIVE,Sunday In-Person Worship
ATTACH;FMTTYPE=image/jpeg:https://kamloopsvineyard.com/wp-content/uploads/2023/09/KVC_NewMeetingTimeSundays@3pm@1000.jpeg
END:VEVENT
BEGIN:VEVENT
DTSTART;VALUE=DATE:20231025
DTEND;VALUE=DATE:20231026
DTSTAMP:20260422T131636
CREATED:20231011T233644Z
LAST-MODIFIED:20231123T002259Z
UID:5309-1698192000-1698278399@kamloopsvineyard.com
SUMMARY:The Lighthouse and Vineyard Host Worship and Prayer. Every Wednesday @ 7 pm.
DESCRIPTION:We’re gathering at the Lighthouse Christian Fellowship for Worship and Prayer. Wednesday Evenings.\n7 pm @ the Lighthouse Church\nEVERYONE is invited\n\nThe Vineyard has been invited to partner with the Lighthouse Christian Fellowship and to conjointly steward a weekly gathering of God’s people. Our hope is to foster our Father’s manifest presence and invite the SPIRIT to lead us in praying for the healing of our hearts\, our city and the nation(s).\n\nPsalm 46:4 — “There is a river whose streams make glad the city of God\, the holy place where the Most High dwells.”\n\nWhere to start? We’re going to begin by honouring the foundation of worship and prayer that the Lighthouse has laid.\n\nTogether we will worship and pray. Together we will help to facilitate ministry to the LORD and one-to-another. And together we will pursue and partner with JESUS who leads us on.\n\n\nIF you have any questions about how you can be involved\, please reach out to david@kamloopsvineyard.com\, debbie@kamloopsvineyard.com. \nIn grace and love\,\nDavid and Debbie Tombe \nThe Lighthouse Christian Fellowship\n702 Columbia St\, Kamloops\, BC V2C 2V4
URL:https://kamloopsvineyard.com/event/the-lighthouse-and-vineyard-host-worship-and-prayer-every-wednesday-7-pm/2023-10-25/
LOCATION:Lighthouse Christian Fellowship\, 702 Columbia St\, Kamloops\, British Columbia\, V2C 2V4\, Canada
CATEGORIES:Renewal,Video ONLINE Conferencing,Worship and Prayer
ATTACH;FMTTYPE=image/jpeg:https://kamloopsvineyard.com/wp-content/uploads/2023/10/KVCLCF_WorshipPrayer_Nov2023@1000.jpeg
END:VEVENT
BEGIN:VEVENT
DTSTART;VALUE=DATE:20231027
DTEND;VALUE=DATE:20231028
DTSTAMP:20260422T131636
CREATED:20230825T210210Z
LAST-MODIFIED:20230825T210210Z
UID:5167-1698364800-1698451199@kamloopsvineyard.com
SUMMARY:The Power of Group Prayer. Book Study and Group Prayer. Session 8. Friday Oct 27th @ 10 am.
DESCRIPTION:We’re gathering for a daytime book study and group prayer\non the 1st and 3rd Fridays of every month @ 10 am.\nClick here to download Promotional Information Sheet! \nVenue: Connie Smith’s home on the South Shore\n \nContact Connie or Debbie for directions.\nconnie@kamloopsvineyard.com\ndebbie@kamloopsvineyard.com \n_____ \nOur hearts are renewed and transformed when we pray.\nThe revival of whole communities begins when God’s people pray together.\n_____
URL:https://kamloopsvineyard.com/event/the-power-of-group-prayer-book-study-and-group-prayer-session-8-friday-oct-27th-10-am/
LOCATION:British Columbia
CATEGORIES:Home Group,Prayer
ATTACH;FMTTYPE=image/jpeg:https://kamloopsvineyard.com/wp-content/uploads/2023/04/ThePowerOfGroupPrayer_withDebbie@1000.jpeg
END:VEVENT
BEGIN:VEVENT
DTSTART;VALUE=DATE:20231029
DTEND;VALUE=DATE:20231030
DTSTAMP:20260422T131636
CREATED:20230901T154703Z
LAST-MODIFIED:20231010T235016Z
UID:5190-1698537600-1698623999@kamloopsvineyard.com
SUMMARY:Kids' Church Every 2nd\, 4th and 5th Sunday @ 3 pm.
DESCRIPTION:Hello Vineyard family and new-comers\, \nWe’re excited to\, once again\, offer a breakout session for Kids’ Church on the 2nd\, 4th and 5th Sunday of every month. \nSnack-makers\, teachers\, and helpers are already taking shape. For more information on how you can enroll your children and/or help participate with our team please contact our leaders and organizers\, \nConnie Smith\, Kid’s Church Overseer\nconnie@kamloopsvineyard.com\n(250) 319-6831‬ \nDebbie Tombe\, Kids’ Church Registrations and Snack-coordinator\ndebbie@kamloopsvineyard.com\n(250) 320-4563
URL:https://kamloopsvineyard.com/event/kids-church-every-2nd-4th-and-5th-sunday-330-pm-5/
LOCATION:Kamloops Free Methodist Church\, 975 Windbreak St\, Kamloops\, BC\, V2B 5P5\, Canada
CATEGORIES:Children,Families,Kids' Church
ATTACH;FMTTYPE=image/jpeg:https://kamloopsvineyard.com/wp-content/uploads/2023/09/KidsChurch_16x9@1000.jpeg
END:VEVENT
BEGIN:VEVENT
DTSTART;VALUE=DATE:20231029
DTEND;VALUE=DATE:20231030
DTSTAMP:20260422T131636
CREATED:20230901T160517Z
LAST-MODIFIED:20231011T000908Z
UID:5202-1698537600-1698623999@kamloopsvineyard.com
SUMMARY:Worship Service and Kids' Church. Sunday Oct 29th @ 3 pm (NEW TIME)
DESCRIPTION:Sunday Worship Service and Kids’ Church begins @ 3 pm\nConnections Cáfe begins serving @ 2:45 pm\nEveryone is welcome!\nVenue: Free Methodist Church\n\n\nKids’ Church begins an ‘all new season of fun!’\n\n\nMany hands lighten the workload. We’re looking for people to help with setup\, takedown\, cleanup\, greeting. Please contact Connie Smith and Debbie Tombe to find out how you can help serve. Please email\, info@kamloopsvineyard.com or call the office at 250-828-1690.
URL:https://kamloopsvineyard.com/event/worship-service-and-kids-church-sunday-oct-29th-330-pm/
LOCATION:Kamloops Free Methodist Church\, 975 Windbreak St\, Kamloops\, BC\, V2B 5P5\, Canada
CATEGORIES:In-Person Worship Service,Streaming LIVE,Sunday In-Person Worship
ATTACH;FMTTYPE=image/jpeg:https://kamloopsvineyard.com/wp-content/uploads/2023/09/KVC_NewMeetingTimeSundays@3pm@1000.jpeg
END:VEVENT
END:VCALENDAR