BEGIN:VCALENDAR
VERSION:2.0
PRODID:-//Kamloops Vineyard Church - ECPv6.15.16//NONSGML v1.0//EN
CALSCALE:GREGORIAN
METHOD:PUBLISH
X-ORIGINAL-URL:https://kamloopsvineyard.com
X-WR-CALDESC:Events for Kamloops Vineyard Church
REFRESH-INTERVAL;VALUE=DURATION:PT1H
X-Robots-Tag:noindex
X-PUBLISHED-TTL:PT1H
BEGIN:VTIMEZONE
TZID:America/Vancouver
BEGIN:DAYLIGHT
TZOFFSETFROM:-0800
TZOFFSETTO:-0700
TZNAME:PDT
DTSTART:20230312T100000
END:DAYLIGHT
BEGIN:STANDARD
TZOFFSETFROM:-0700
TZOFFSETTO:-0800
TZNAME:PST
DTSTART:20231105T090000
END:STANDARD
BEGIN:DAYLIGHT
TZOFFSETFROM:-0800
TZOFFSETTO:-0700
TZNAME:PDT
DTSTART:20240310T100000
END:DAYLIGHT
BEGIN:STANDARD
TZOFFSETFROM:-0700
TZOFFSETTO:-0800
TZNAME:PST
DTSTART:20241103T090000
END:STANDARD
BEGIN:DAYLIGHT
TZOFFSETFROM:-0800
TZOFFSETTO:-0700
TZNAME:PDT
DTSTART:20250309T100000
END:DAYLIGHT
BEGIN:STANDARD
TZOFFSETFROM:-0700
TZOFFSETTO:-0800
TZNAME:PST
DTSTART:20251102T090000
END:STANDARD
END:VTIMEZONE
BEGIN:VEVENT
DTSTART;VALUE=DATE:20240204
DTEND;VALUE=DATE:20240205
DTSTAMP:20260422T051209
CREATED:20231228T195127Z
LAST-MODIFIED:20240103T221001Z
UID:5820-1707004800-1707091199@kamloopsvineyard.com
SUMMARY:Vineyard Feast Sunday. Feb 4th @ 3 pm.
DESCRIPTION:Feast Sunday. Feb 4th @ 3 pm.\nConnections Cáfe begins serving @ 2:45 pm.\nEveryone is welcome! Invite your friends and neighbours.\nVenue: Free Methodist Church\n\n\n\n\nWe welcome you to join us in an time of celebration and worship on the first Sunday of every month. Setting our sights on Jesus — we lean into a short communal reflection from God’s Word\, corporate worship and a shared meal.\n\n\n\n\n\nInvite your friends\, extended family and neighbours.\nThe meal will be potluck.\n\n\n\nSignup! Can you share what you are hoping to bring?\nA main dish/salad\, and/or Dessert?\n_________________\n\n\n\nMany hands help lighten the workload.\nWe’re looking for people to help with setup\, takedown\, or cleanup.\n\n\n\nPlease email Connie Smith. Let them know what you’re providing and where you might hope to provide some help\, info@kamloopsvineyard.com
URL:https://kamloopsvineyard.com/event/first-of-2024-vineyard-feast-sunday-feb-14th-3-pm/
LOCATION:Kamloops Free Methodist Church\, 975 Windbreak St\, Kamloops\, BC\, V2B 5P5\, Canada
CATEGORIES:Feast Sunday,In-Person Worship Service,Streaming LIVE,Sunday In-Person Worship
ATTACH;FMTTYPE=image/jpeg:https://kamloopsvineyard.com/wp-content/uploads/2023/12/FeastSunday_Feb4@1000.jpeg
END:VEVENT
BEGIN:VEVENT
DTSTART;VALUE=DATE:20240211
DTEND;VALUE=DATE:20240212
DTSTAMP:20260422T051209
CREATED:20231228T190743Z
LAST-MODIFIED:20231228T190743Z
UID:5812-1707609600-1707695999@kamloopsvineyard.com
SUMMARY:Kids' Church Every 2nd and 4th Sunday @ 3 pm.
DESCRIPTION:Hello Vineyard family and new-comers\, \nWe’re excited to offer a breakout session for Kids’ Church on the 2nd and 4th Sunday of every month. For more information on how you can enroll your children and/or help participate with our team of snack-makers\, teachers\, and helpers please contact our leaders and organizers\, \nConnie Smith\, Kid’s Church Overseer\nconnie@kamloopsvineyard.com\n(250) 319-6831‬ \nDebbie Tombe\, Kids’ Church Registrations and Snack-coordinator\ndebbie@kamloopsvineyard.com\n(250) 320-4563
URL:https://kamloopsvineyard.com/event/kids-church-every-2nd-and-4th-sunday-3-pm-5/
LOCATION:Kamloops Free Methodist Church\, 975 Windbreak St\, Kamloops\, BC\, V2B 5P5\, Canada
CATEGORIES:Children,Families,Kids' Church
ATTACH;FMTTYPE=image/png:https://kamloopsvineyard.com/wp-content/uploads/2022/09/KidsChurch_2022_BANNER@1000.png
END:VEVENT
BEGIN:VEVENT
DTSTART;VALUE=DATE:20240211
DTEND;VALUE=DATE:20240212
DTSTAMP:20260422T051209
CREATED:20231228T185841Z
LAST-MODIFIED:20231228T185841Z
UID:5800-1707609600-1707695999@kamloopsvineyard.com
SUMMARY:Worship Service and Kids' Church. Sunday Feb 11th @ 3 pm.
DESCRIPTION:Sunday Worship Service and Kids’ Church begins @ 3 pm\nConnections Cáfe begins serving @ 2:45 pm\nEveryone is welcome!\nVenue: Free Methodist Church\n\n\nKids’ Church breaks out to meet following corporate worship and finishes up at the close of the message (typically 40 min) and during the close of any shared testimonies or corporate ministry.\n\n\nMany hands lighten the workload. We’re looking for people to help with setup\, takedown\, cleanup\, greeting. Please contact Connie Smith and Debbie Tombe to find out how you can help serve. Please email\, info@kamloopsvineyard.com or call the office at 250-828-1690.
URL:https://kamloopsvineyard.com/event/worship-service-and-kids-church-sunday-feb-11th-3-pm/
LOCATION:Kamloops Free Methodist Church\, 975 Windbreak St\, Kamloops\, BC\, V2B 5P5\, Canada
CATEGORIES:In-Person Worship Service,Streaming LIVE,Sunday In-Person Worship
ATTACH;FMTTYPE=image/jpeg:https://kamloopsvineyard.com/wp-content/uploads/2023/09/Sunday@3pm_brocklehurst@1000.jpeg
END:VEVENT
BEGIN:VEVENT
DTSTART;VALUE=DATE:20240214
DTEND;VALUE=DATE:20240215
DTSTAMP:20260422T051209
CREATED:20231223T013051Z
LAST-MODIFIED:20240203T180805Z
UID:5757-1707868800-1707955199@kamloopsvineyard.com
SUMMARY:The Lighthouse and Vineyard. Worship and Prayer. Wednesday Nights @ 7 pm. (CANCELLED ONE NIGHT ONLY — FEB 14th)
DESCRIPTION:Wednesday Evenings.\n7 pm @ the Lighthouse Church\nEVERYONE is invited\n\nThe Lighthouse Christian Fellowship and Vineyard Church conjointly steward a weekly gathering of God’s people. Our hope is to foster our Father’s manifest presence and invite the SPIRIT to lead us in praying for the healing of our hearts\, our city and the nation(s).\n\nPsalm 46:4 — “There is a river whose streams make glad the city of God\, the holy place where the Most High dwells.”\n\nHonouring the foundation of worship and prayer that the Lighthouse has laid\, together we will worship and pray\, together we will help to facilitate ministry to the LORD and one-to-another\, and together we will  partner with JESUS who leads us on.\n\nIF you have any questions about how you can be involved\, please reach out to david@kamloopsvineyard.com\, debbie@kamloopsvineyard.com. \nIn grace and love\,\nDavid and Debbie Tombe \nThe Lighthouse Christian Fellowship\n702 Columbia St\, Kamloops\, BC V2C 2V4
URL:https://kamloopsvineyard.com/event/the-lighthouse-and-vineyard-worship-and-prayer-wednesday-nights-7-pm-2024-02-14/
LOCATION:Lighthouse Christian Fellowship\, 702 Columbia St\, Kamloops\, British Columbia\, V2C 2V4\, Canada
CATEGORIES:Renewal,Video ONLINE Conferencing,Worship and Prayer
ATTACH;FMTTYPE=image/jpeg:https://kamloopsvineyard.com/wp-content/uploads/2023/12/WedWorshipPrayer_Jan2024@1000.jpeg
END:VEVENT
BEGIN:VEVENT
DTSTART;VALUE=DATE:20240216
DTEND;VALUE=DATE:20240217
DTSTAMP:20260422T051209
CREATED:20240215T225630Z
LAST-MODIFIED:20240215T225630Z
UID:5927-1708041600-1708127999@kamloopsvineyard.com
SUMMARY:The Power of Group Prayer. Book Study and Group Prayer. Session 14 of 14. Friday Feb 16th @ 10 am.
DESCRIPTION:We’re gathering for our windup study and prayer\, session 14 of 14.\nEveryone is invited to stay afterwards for a shared lunch.\nVenue: Connie Smith’s home on the South Shore\n \nContact Connie or Debbie for directions.\nconnie@kamloopsvineyard.com\ndebbie@kamloopsvineyard.com \n_____ \nOur hearts are renewed and transformed when we pray.\nThe revival of whole communities begins when God’s people pray together.\n_____
URL:https://kamloopsvineyard.com/event/the-power-of-group-prayer-book-study-and-group-prayer-session-14-of-14-friday-feb-16th-10-am/
LOCATION:British Columbia
CATEGORIES:Home Group,Prayer
ATTACH;FMTTYPE=image/jpeg:https://kamloopsvineyard.com/wp-content/uploads/2023/04/ThePowerOfGroupPrayer_withDebbie@1000.jpeg
END:VEVENT
BEGIN:VEVENT
DTSTART;VALUE=DATE:20240217
DTEND;VALUE=DATE:20240218
DTSTAMP:20260422T051209
CREATED:20240208T213819Z
LAST-MODIFIED:20240208T213840Z
UID:5918-1708128000-1708214399@kamloopsvineyard.com
SUMMARY:Men's Night.  Saturday Feb 17th @ 7:30 pm
DESCRIPTION:Men’s Night. Typically we meet one (1) Saturday night a month.\nMen of all ages gathering in a home\, around a fire\, or somewhere out in nature. Typically an evening of random fun\, snacks and conversation . . . all of it with the intention to build up and encourage one another. ‘We’re better together!’ \nFor more details contact Monte Campbell at 778-220-3296 or montecampbell@gmail.com
URL:https://kamloopsvineyard.com/event/mens-night-saturday-feb-17th-730-pm/
LOCATION:Fast’s Home\, 1660 Mt Dufferin Drive\, Kamloops\, British Columbia\, V2E 1A2\, Canada
CATEGORIES:Men's Fellowship,Vineyard Life Group
END:VEVENT
BEGIN:VEVENT
DTSTART;VALUE=DATE:20240218
DTEND;VALUE=DATE:20240219
DTSTAMP:20260422T051209
CREATED:20231228T183540Z
LAST-MODIFIED:20231228T200304Z
UID:5771-1708214400-1708300799@kamloopsvineyard.com
SUMMARY:Kids Activity Table. Every 3rd and 5th Sunday @ 3 pm.
DESCRIPTION:Hello Vineyard family and new-comers\, \nWe’re presenting creative activities to involve families every Sunday of the month. \nWe’re excited to share that we’re setting a Kids Activity Table @ the rear\nof the sanctuary on the 3rd and 5th Sunday of every month. \nMaybe you can share in the oversight of the table from time-to-time\, or simply enjoy the opportunity to participate in any given worship service. \nConnie Smith\, Kid’s Church Overseer\nconnie@kamloopsvineyard.com\n(250) 319-6831‬ \nDebbie Tombe\, Kids’ Church Registrations and Snack-coordinator\ndebbie@kamloopsvineyard.com\n(250) 320-4563
URL:https://kamloopsvineyard.com/event/kids-activity-table-every-3rd-and-5th-sunday-3-pm-5/
LOCATION:Kamloops Free Methodist Church\, 975 Windbreak St\, Kamloops\, BC\, V2B 5P5\, Canada
CATEGORIES:Children,Families,Kids' Church
ATTACH;FMTTYPE=image/jpeg:https://kamloopsvineyard.com/wp-content/uploads/2023/11/KidsActivityTable@1000.jpg
END:VEVENT
BEGIN:VEVENT
DTSTART;VALUE=DATE:20240218
DTEND;VALUE=DATE:20240219
DTSTAMP:20260422T051209
CREATED:20231228T184727Z
LAST-MODIFIED:20231228T184847Z
UID:5790-1708214400-1708300799@kamloopsvineyard.com
SUMMARY:Worship and Communion Service. Feb 18th @ 3 pm
DESCRIPTION:Sunday Worship and Communion Service @ 3 pm\nConnections Cáfe begins serving @ 2:45 pm\nVenue: Free Methodist Church\n\n\nKids’ activity table will be setup at the back of the sanctuary.\n\n\nWhile the Communion Table is present every Sunday but the 1st Sunday of every month\, on the 3rd Sunday we gather to focus our affections toward JESUS and to the worship of our LORD through corporate song\, Communion and prayer.
URL:https://kamloopsvineyard.com/event/worship-and-communion-service-feb-18st-3-pm/
LOCATION:Kamloops Free Methodist Church\, 975 Windbreak St\, Kamloops\, BC\, V2B 5P5\, Canada
CATEGORIES:In-Person Worship Service,Streaming LIVE,Sunday In-Person Worship
ATTACH;FMTTYPE=image/jpeg:https://kamloopsvineyard.com/wp-content/uploads/2023/09/Sunday@3pm_brocklehurst@1000.jpeg
END:VEVENT
BEGIN:VEVENT
DTSTART;VALUE=DATE:20240225
DTEND;VALUE=DATE:20240226
DTSTAMP:20260422T051209
CREATED:20231228T190821Z
LAST-MODIFIED:20231228T190821Z
UID:5814-1708819200-1708905599@kamloopsvineyard.com
SUMMARY:Kids' Church Every 2nd and 4th Sunday @ 3 pm.
DESCRIPTION:Hello Vineyard family and new-comers\, \nWe’re excited to offer a breakout session for Kids’ Church on the 2nd and 4th Sunday of every month. For more information on how you can enroll your children and/or help participate with our team of snack-makers\, teachers\, and helpers please contact our leaders and organizers\, \nConnie Smith\, Kid’s Church Overseer\nconnie@kamloopsvineyard.com\n(250) 319-6831‬ \nDebbie Tombe\, Kids’ Church Registrations and Snack-coordinator\ndebbie@kamloopsvineyard.com\n(250) 320-4563
URL:https://kamloopsvineyard.com/event/kids-church-every-2nd-and-4th-sunday-3-pm-6/
LOCATION:Kamloops Free Methodist Church\, 975 Windbreak St\, Kamloops\, BC\, V2B 5P5\, Canada
CATEGORIES:Children,Families,Kids' Church
ATTACH;FMTTYPE=image/png:https://kamloopsvineyard.com/wp-content/uploads/2022/09/KidsChurch_2022_BANNER@1000.png
END:VEVENT
BEGIN:VEVENT
DTSTART;VALUE=DATE:20240225
DTEND;VALUE=DATE:20240226
DTSTAMP:20260422T051209
CREATED:20231228T185928Z
LAST-MODIFIED:20231228T185939Z
UID:5802-1708819200-1708905599@kamloopsvineyard.com
SUMMARY:Worship Service and Kids' Church. Sunday Feb 25th @ 3 pm.
DESCRIPTION:Sunday Worship Service and Kids’ Church begins @ 3 pm\nConnections Cáfe begins serving @ 2:45 pm\nEveryone is welcome!\nVenue: Free Methodist Church\n\n\nKids’ Church breaks out to meet following corporate worship and finishes up at the close of the message (typically 40 min) and during the close of any shared testimonies or corporate ministry.\n\n\nMany hands lighten the workload. We’re looking for people to help with setup\, takedown\, cleanup\, greeting. Please contact Connie Smith and Debbie Tombe to find out how you can help serve. Please email\, info@kamloopsvineyard.com or call the office at 250-828-1690.
URL:https://kamloopsvineyard.com/event/worship-service-and-kids-church-sunday-feb-25th-3-pm/
LOCATION:Kamloops Free Methodist Church\, 975 Windbreak St\, Kamloops\, BC\, V2B 5P5\, Canada
CATEGORIES:In-Person Worship Service,Streaming LIVE,Sunday In-Person Worship
ATTACH;FMTTYPE=image/jpeg:https://kamloopsvineyard.com/wp-content/uploads/2023/09/Sunday@3pm_brocklehurst@1000.jpeg
END:VEVENT
END:VCALENDAR