BEGIN:VCALENDAR
VERSION:2.0
PRODID:-//Kamloops Vineyard Church - ECPv6.15.16//NONSGML v1.0//EN
CALSCALE:GREGORIAN
METHOD:PUBLISH
X-WR-CALNAME:Kamloops Vineyard Church
X-ORIGINAL-URL:https://kamloopsvineyard.com
X-WR-CALDESC:Events for Kamloops Vineyard Church
REFRESH-INTERVAL;VALUE=DURATION:PT1H
X-Robots-Tag:noindex
X-PUBLISHED-TTL:PT1H
BEGIN:VTIMEZONE
TZID:America/Vancouver
BEGIN:DAYLIGHT
TZOFFSETFROM:-0800
TZOFFSETTO:-0700
TZNAME:PDT
DTSTART:20230312T100000
END:DAYLIGHT
BEGIN:STANDARD
TZOFFSETFROM:-0700
TZOFFSETTO:-0800
TZNAME:PST
DTSTART:20231105T090000
END:STANDARD
BEGIN:DAYLIGHT
TZOFFSETFROM:-0800
TZOFFSETTO:-0700
TZNAME:PDT
DTSTART:20240310T100000
END:DAYLIGHT
BEGIN:STANDARD
TZOFFSETFROM:-0700
TZOFFSETTO:-0800
TZNAME:PST
DTSTART:20241103T090000
END:STANDARD
BEGIN:DAYLIGHT
TZOFFSETFROM:-0800
TZOFFSETTO:-0700
TZNAME:PDT
DTSTART:20250309T100000
END:DAYLIGHT
BEGIN:STANDARD
TZOFFSETFROM:-0700
TZOFFSETTO:-0800
TZNAME:PST
DTSTART:20251102T090000
END:STANDARD
END:VTIMEZONE
BEGIN:VEVENT
DTSTART;VALUE=DATE:20240801
DTEND;VALUE=DATE:20240802
DTSTAMP:20260421T173703
CREATED:20240725T155224Z
LAST-MODIFIED:20240725T155328Z
UID:6366-1722470400-1722556799@kamloopsvineyard.com
SUMMARY:Vineyard Elders and Directors Meal and Meeting. Thurs August 1st @ 6 pm.
DESCRIPTION:Kamloops Vineyard Elders meet (on average) once a month. This month we’re welcoming our Directors to join us for a meal and meeting. If you have any questions please reach out to lead pastors and elders\, David and Debbie Tombe\, 250-828-1690. \nDavid Tombe\ndavid@kamloopsvineyard.com \nDebbie Tombe\ndebbie@kamloopsvineyard.com
URL:https://kamloopsvineyard.com/event/vineyard-elders-and-directors-meal-and-meeting-thurs-august-st-6-pm/
LOCATION:Bylsma’s Home\, 2650 Long Lake Rd\, Kamloops\, BC\, Canada
ATTACH;FMTTYPE=image/jpeg:https://kamloopsvineyard.com/wp-content/uploads/2024/04/Elders@1000.jpeg
END:VEVENT
BEGIN:VEVENT
DTSTART;VALUE=DATE:20240804
DTEND;VALUE=DATE:20240805
DTSTAMP:20260421T173703
CREATED:20240626T193011Z
LAST-MODIFIED:20240626T193011Z
UID:6282-1722729600-1722815999@kamloopsvineyard.com
SUMMARY:Vineyard House Church @ the Tombe's. Sunday August 4th @ 10 am.
DESCRIPTION:Kamloops Vineyard House Church\nSunday mornings @ 10 am\n\n\n\n\nHello everyone! Thru this Summer we’re gathering in home.  Continue checking in for more information to be released! If you’re not already receiving a weekly update (Vineyard newsletter called the Vineline) then we encourage you to contact us @ info@kamloopsvineyard.com or call us @ 250-828-1690 and tell us that you want to be included in our weekly updates. Otherwise\, keep checking in on our calendar of events to stay current with information on events taking place through the week.\n\n\nPlease include your full name\, email address and\, optionally\, your telephone information.
URL:https://kamloopsvineyard.com/event/vineyard-house-church-the-tombes-sunday-august-4th-10-am/
LOCATION:Tombe’s Home\, 1266 Pine Grove Rd\, Kamloops\, British Columbia\, V2C 6V6\, Canada
CATEGORIES:Families,In-House Connections,In-Person Worship Service,Sunday In-Person Worship,Vineyard House Church
ATTACH;FMTTYPE=image/jpeg:https://kamloopsvineyard.com/wp-content/uploads/2024/05/KVCHouseChurch_2024@1000.jpeg
END:VEVENT
BEGIN:VEVENT
DTSTART;VALUE=DATE:20240806
DTEND;VALUE=DATE:20240807
DTSTAMP:20260421T173703
CREATED:20240514T202206Z
LAST-MODIFIED:20241025T222732Z
UID:6405-1722902400-1722988799@kamloopsvineyard.com
SUMMARY:Moms Group.  Tuesdays from 9:30 am - 11:30 am.
DESCRIPTION:Mom’s Group meets every Tuesday morning 9:30am to 11:30am\nMoms of young children gather (almost) every Tues morning to grow in friendship and practical support with one another. \nContact Bonnie Bylsma at 250-318-9377 or bonnie@kamloopsvineyard.com for more details and location information.
URL:https://kamloopsvineyard.com/event/moms-group-tuesdays-from-930-am-1130-am-4/2024-08-06/
LOCATION:British Columbia
CATEGORIES:Children,Families,Moms Group
ATTACH;FMTTYPE=image/jpeg:https://kamloopsvineyard.com/wp-content/uploads/2022/10/MomsGroup@1000.jpeg
END:VEVENT
BEGIN:VEVENT
DTSTART;VALUE=DATE:20240811
DTEND;VALUE=DATE:20240812
DTSTAMP:20260421T173703
CREATED:20240626T193106Z
LAST-MODIFIED:20240626T211637Z
UID:6284-1723334400-1723420799@kamloopsvineyard.com
SUMMARY:Vineyard House Church @ the Tombe's. Sunday August 11th @ 10 am.
DESCRIPTION:Kamloops Vineyard House Church\nSunday mornings @ 10 am\n\n\n\n\nHello everyone! Thru this Summer we’re gathering in home.  Continue checking in for more information to be released! If you’re not already receiving a weekly update (Vineyard newsletter called the Vineline) then we encourage you to contact us @ info@kamloopsvineyard.com or call us @ 250-828-1690 and tell us that you want to be included in our weekly updates. Otherwise\, keep checking in on our calendar of events to stay current with information on events taking place through the week.\n\n\nPlease include your full name\, email address and\, optionally\, your telephone information.
URL:https://kamloopsvineyard.com/event/vineyard-house-church-the-tombes-sunday-august-11th-10-am/
LOCATION:Tombe’s Home\, 1266 Pine Grove Rd\, Kamloops\, British Columbia\, V2C 6V6\, Canada
CATEGORIES:Families,In-House Connections,In-Person Worship Service,Sunday In-Person Worship,Vineyard House Church
ATTACH;FMTTYPE=image/jpeg:https://kamloopsvineyard.com/wp-content/uploads/2024/05/KVCHouseChurch_2024@1000.jpeg
END:VEVENT
BEGIN:VEVENT
DTSTART;VALUE=DATE:20240813
DTEND;VALUE=DATE:20240814
DTSTAMP:20260421T173703
CREATED:20240514T202206Z
LAST-MODIFIED:20241025T222734Z
UID:6406-1723507200-1723593599@kamloopsvineyard.com
SUMMARY:Moms Group.  Tuesdays from 9:30 am - 11:30 am.
DESCRIPTION:Mom’s Group meets every Tuesday morning 9:30am to 11:30am\nMoms of young children gather (almost) every Tues morning to grow in friendship and practical support with one another. \nContact Bonnie Bylsma at 250-318-9377 or bonnie@kamloopsvineyard.com for more details and location information.
URL:https://kamloopsvineyard.com/event/moms-group-tuesdays-from-930-am-1130-am-4/2024-08-13/
LOCATION:British Columbia
CATEGORIES:Children,Families,Moms Group
ATTACH;FMTTYPE=image/jpeg:https://kamloopsvineyard.com/wp-content/uploads/2022/10/MomsGroup@1000.jpeg
END:VEVENT
BEGIN:VEVENT
DTSTART;VALUE=DATE:20240818
DTEND;VALUE=DATE:20240819
DTSTAMP:20260421T173703
CREATED:20240626T192432Z
LAST-MODIFIED:20240626T192827Z
UID:6277-1723939200-1724025599@kamloopsvineyard.com
SUMMARY:Vineyard House Church @ the Bylsma's. Sunday August 18th @ 10 am.
DESCRIPTION:Kamloops Vineyard House Church\nSunday mornings @ 10 am\n\n\nHello everyone! Thru this Summer we’re gathering in homes.  Continue checking in for more information to be released! If you’re not already receiving a weekly update (Vineyard newsletter called the Vineline) then we encourage you to contact us @ info@kamloopsvineyard.com or call us @ 250-828-1690 and tell us that you want to be included in our weekly updates. Otherwise\, keep checking in on our calendar of events to stay current with information on events taking place through the week.\n\n\nPlease include your full name\, email address and\, optionally\, your telephone information.
URL:https://kamloopsvineyard.com/event/vineyard-house-church-the-bylsmas-sunday-august-18th-10-am/
LOCATION:Bylsma’s Home\, 2650 Long Lake Rd\, Kamloops\, BC\, Canada
CATEGORIES:Families,In-House Connections,In-Person Worship Service,Sunday In-Person Worship,Vineyard House Church
ATTACH;FMTTYPE=image/jpeg:https://kamloopsvineyard.com/wp-content/uploads/2024/05/KVCHouseChurch_2024@1000.jpeg
END:VEVENT
BEGIN:VEVENT
DTSTART;VALUE=DATE:20240820
DTEND;VALUE=DATE:20240821
DTSTAMP:20260421T173703
CREATED:20240514T202206Z
LAST-MODIFIED:20241025T222736Z
UID:6407-1724112000-1724198399@kamloopsvineyard.com
SUMMARY:Moms Group.  Tuesdays from 9:30 am - 11:30 am.
DESCRIPTION:Mom’s Group meets every Tuesday morning 9:30am to 11:30am\nMoms of young children gather (almost) every Tues morning to grow in friendship and practical support with one another. \nContact Bonnie Bylsma at 250-318-9377 or bonnie@kamloopsvineyard.com for more details and location information.
URL:https://kamloopsvineyard.com/event/moms-group-tuesdays-from-930-am-1130-am-4/2024-08-20/
LOCATION:British Columbia
CATEGORIES:Children,Families,Moms Group
ATTACH;FMTTYPE=image/jpeg:https://kamloopsvineyard.com/wp-content/uploads/2022/10/MomsGroup@1000.jpeg
END:VEVENT
BEGIN:VEVENT
DTSTART;VALUE=DATE:20240825
DTEND;VALUE=DATE:20240826
DTSTAMP:20260421T173703
CREATED:20240626T192341Z
LAST-MODIFIED:20240626T192341Z
UID:6278-1724544000-1724630399@kamloopsvineyard.com
SUMMARY:Vineyard House Church @ the Bylsma's. Sunday August 25th @ 10 am.
DESCRIPTION:Kamloops Vineyard House Church\nSunday mornings @ 10 am\n\n\nHello everyone! Thru this Summer we’ve transitioning we’re gathering in homes.  Continue checking in for more information to be released! If you’re not already receiving a weekly update (Vineyard newsletter called the Vineline) then we encourage you to contact us @ info@kamloopsvineyard.com or call us @ 250-828-1690 and tell us that you want to be included in our weekly updates. Otherwise\, keep checking in on our calendar of events to stay current with information on events taking place through the week.\n\n\nPlease include your full name\, email address and\, optionally\, your telephone information.
URL:https://kamloopsvineyard.com/event/vineyard-house-church-the-bylsmas-sunday-august-25th-10-am/
LOCATION:Bylsma’s Home\, 2650 Long Lake Rd\, Kamloops\, BC\, Canada
CATEGORIES:Families,In-House Connections,In-Person Worship Service,Sunday In-Person Worship,Vineyard House Church
ATTACH;FMTTYPE=image/jpeg:https://kamloopsvineyard.com/wp-content/uploads/2024/05/KVCHouseChurch_2024@1000.jpeg
END:VEVENT
BEGIN:VEVENT
DTSTART;VALUE=DATE:20240827
DTEND;VALUE=DATE:20240828
DTSTAMP:20260421T173703
CREATED:20240514T202206Z
LAST-MODIFIED:20241025T222739Z
UID:6408-1724716800-1724803199@kamloopsvineyard.com
SUMMARY:Moms Group.  Tuesdays from 9:30 am - 11:30 am.
DESCRIPTION:Mom’s Group meets every Tuesday morning 9:30am to 11:30am\nMoms of young children gather (almost) every Tues morning to grow in friendship and practical support with one another. \nContact Bonnie Bylsma at 250-318-9377 or bonnie@kamloopsvineyard.com for more details and location information.
URL:https://kamloopsvineyard.com/event/moms-group-tuesdays-from-930-am-1130-am-4/2024-08-27/
LOCATION:British Columbia
CATEGORIES:Children,Families,Moms Group
ATTACH;FMTTYPE=image/jpeg:https://kamloopsvineyard.com/wp-content/uploads/2022/10/MomsGroup@1000.jpeg
END:VEVENT
END:VCALENDAR