BEGIN:VCALENDAR
VERSION:2.0
PRODID:-//Kamloops Vineyard Church - ECPv6.15.16//NONSGML v1.0//EN
CALSCALE:GREGORIAN
METHOD:PUBLISH
X-ORIGINAL-URL:https://kamloopsvineyard.com
X-WR-CALDESC:Events for Kamloops Vineyard Church
REFRESH-INTERVAL;VALUE=DURATION:PT1H
X-Robots-Tag:noindex
X-PUBLISHED-TTL:PT1H
BEGIN:VTIMEZONE
TZID:America/Vancouver
BEGIN:DAYLIGHT
TZOFFSETFROM:-0800
TZOFFSETTO:-0700
TZNAME:PDT
DTSTART:20240310T100000
END:DAYLIGHT
BEGIN:STANDARD
TZOFFSETFROM:-0700
TZOFFSETTO:-0800
TZNAME:PST
DTSTART:20241103T090000
END:STANDARD
BEGIN:DAYLIGHT
TZOFFSETFROM:-0800
TZOFFSETTO:-0700
TZNAME:PDT
DTSTART:20250309T100000
END:DAYLIGHT
BEGIN:STANDARD
TZOFFSETFROM:-0700
TZOFFSETTO:-0800
TZNAME:PST
DTSTART:20251102T090000
END:STANDARD
BEGIN:DAYLIGHT
TZOFFSETFROM:-0800
TZOFFSETTO:-0700
TZNAME:PDT
DTSTART:20260308T100000
END:DAYLIGHT
BEGIN:STANDARD
TZOFFSETFROM:-0700
TZOFFSETTO:-0800
TZNAME:PST
DTSTART:20261101T090000
END:STANDARD
END:VTIMEZONE
BEGIN:VEVENT
DTSTART;VALUE=DATE:20250201
DTEND;VALUE=DATE:20250202
DTSTAMP:20260421T050359
CREATED:20250130T231938Z
LAST-MODIFIED:20250130T232100Z
UID:6995-1738368000-1738454399@kamloopsvineyard.com
SUMMARY:Vineyard Directors Meeting. Sat Feb 1st @ 9:30 am.
DESCRIPTION:Kamloops Vineyard Directors meet (on average) once every three months. For more information on the Kamloops Vineyard please reach out to lead pastors and directors\, David and Debbie Tombe. \nDavid Tombe\ndavid@kamloopsvineyard.com \nDebbie Tombe\ndebbie@kamloopsvineyard.com
URL:https://kamloopsvineyard.com/event/vineyard-directors-meeting-sat-feb-1st-930-am/
LOCATION:Tombe’s Home\, 1266 Pine Grove Rd\, Kamloops\, British Columbia\, V2C 6V6\, Canada
ATTACH;FMTTYPE=image/jpeg:https://kamloopsvineyard.com/wp-content/uploads/2024/04/Directors@1000.jpeg
END:VEVENT
BEGIN:VEVENT
DTSTART;VALUE=DATE:20250202
DTEND;VALUE=DATE:20250203
DTSTAMP:20260421T050359
CREATED:20250114T202641Z
LAST-MODIFIED:20250129T182133Z
UID:6916-1738454400-1738540799@kamloopsvineyard.com
SUMMARY:Vineyard House Church and Feast Sunday @ the Kleywegt's. Sunday Feb 2nd @ 10 am.
DESCRIPTION:Kamloops Vineyard House Church and Feast Sunday\n\n\nThis Sunday Gord and Teresa are hosting Vineyard House Church and Feast Sunday here at their home in Rose Hill. Celebrations begin at 10 am. Please bring whatever you would like to share. We’re looking forward to connecting with you all! Everyone is welcome!*’ \n“Consider preparing a main meal\, side-dish\, and salad or dessert to share. What comes to mind? Run it by me if you’re not certain!” — Debbie \nClick here for a schedule and directions to get you there! \nHave you got any questions? You can reach out to Debbie\, by emailing debbie@kamloopsvineyard.com. \nHave you got any questions? You can reach out to Debbie Tombe\, by emailing her debbie@kamloopsvineyard.com. \n* Are you new to area\, new to church\, or merely wanting to check things out? By all means we’d love to connect with you\, please reach out to us\, David and Debbie Tombe @ info@kamloopsvineyard.com.
URL:https://kamloopsvineyard.com/event/vineyard-house-church-and-feast-sunday-the-kleywegts-sunday-feb-2nd-10-am/
LOCATION:Kleywegt’s Home\, 1422 Rose Hill Rd\, Kamloops\, BC\, V2E 1L4\, Canada
CATEGORIES:Families,Feast Sunday,House Church,In-House Connections,In-Person Worship Service,Sunday In-Person Worship,Vineyard House Church
ATTACH;FMTTYPE=image/jpeg:https://kamloopsvineyard.com/wp-content/uploads/2025/01/FeastSundays2025@1000.jpeg
END:VEVENT
BEGIN:VEVENT
DTSTART;VALUE=DATE:20250204
DTEND;VALUE=DATE:20250205
DTSTAMP:20260421T050359
CREATED:20241229T191452Z
LAST-MODIFIED:20250205T174028Z
UID:6922-1738627200-1738713599@kamloopsvineyard.com
SUMMARY:IRON Men's Group . Tuesday mornings 6:30 am — 7:30 am @ the Lighthouse.
DESCRIPTION:Proverbs 27:17 — “As iron sharpens iron\, so one man sharpens the countenance of another.” \nThe Lighthouse and Vineyard Partner to host IRON.\nOpen to every man — wherever they are at in their quest for peace in this life. \nJourneying together in life and faith.\nWe were never meant to do it alone. \nCoffee will be on. Be prepared to listen and ‘sometimes’ to share\, to reflect on God’s word and\, quite possibly\, to pray. Bring your bibles (paperback or electronic). \nThe Lighthouse Christian Fellowship\n702 Columbia St\, Kamloops\, BC V2C 2V4 \nFor more information please contact\nBrandon Linse\, kamloopsnazarene@gmail.com\nor David Tombe\, david@kamloopsvineyard.com
URL:https://kamloopsvineyard.com/event/iron-mens-group-tuesday-mornings-630-am-730-am-the-lighthouse-2/2025-02-04/
LOCATION:Lighthouse Christian Fellowship\, 702 Columbia St\, Kamloops\, British Columbia\, V2C 2V4\, Canada
CATEGORIES:Men's Fellowship,Vineyard Life Group
ATTACH;FMTTYPE=image/jpeg:https://kamloopsvineyard.com/wp-content/uploads/2024/06/IRON_BrotherInLifeandFaith@1000.jpeg
END:VEVENT
BEGIN:VEVENT
DTSTART;VALUE=DATE:20250205
DTEND;VALUE=DATE:20250206
DTSTAMP:20260421T050359
CREATED:20241229T191116Z
LAST-MODIFIED:20250205T172107Z
UID:6929-1738713600-1738799999@kamloopsvineyard.com
SUMMARY:Worship. Prayer. @ the Lighthouse. Wednesday Nights @ 7 pm.
DESCRIPTION:The Lighthouse and Vineyard partner for worship and prayer.\nWednesday Evenings.\n7 pm @ the Lighthouse Church\nEVERYONE is invited\n\nPsalm 46:4 — “There is a river whose streams make glad the city of God\, the holy place where the Most High dwells.”\n\nWe’re thrilled to continue our partnership with the Lighthouse church family. IF you have any questions about how you can be involved\, please reach out to pastors Brandon Linse at the Lighthouse or David Tombe at the Vineyard\n\nVenue: The Lighthouse Christian Fellowship\n702 Columbia St\, Kamloops\, BC V2C 2V4
URL:https://kamloopsvineyard.com/event/worship-prayer-the-lighthouse-wednesday-nights-7-pm-2/2025-02-05/
LOCATION:Lighthouse Christian Fellowship\, 702 Columbia St\, Kamloops\, British Columbia\, V2C 2V4\, Canada
CATEGORIES:Prayer,Renewal,Video ONLINE Conferencing,Worship,Worship and Prayer
ATTACH;FMTTYPE=image/jpeg:https://kamloopsvineyard.com/wp-content/uploads/2024/09/WorshipPrayerOct2024@1000.jpeg
END:VEVENT
BEGIN:VEVENT
DTSTART;VALUE=DATE:20250206
DTEND;VALUE=DATE:20250207
DTSTAMP:20260421T050359
CREATED:20250121T183456Z
LAST-MODIFIED:20250130T231724Z
UID:6947-1738800000-1738886399@kamloopsvineyard.com
SUMMARY:Vineyard Elders Meeting. Thurs Feb 6th @ 7 pm.
DESCRIPTION:Kamloops Vineyard Elders meet (on average) once a month. If you have any questions please reach out to lead pastors and elders\, David and Debbie Tombe. \nDavid Tombe\ndavid@kamloopsvineyard.com \nDebbie Tombe\ndebbie@kamloopsvineyard.com
URL:https://kamloopsvineyard.com/event/vineyard-elders-meeting-thurs-jan-23rd-7-pm/
LOCATION:Bylsma’s Home\, 2650 Long Lake Rd\, Kamloops\, BC\, Canada
ATTACH;FMTTYPE=image/jpeg:https://kamloopsvineyard.com/wp-content/uploads/2024/04/Elders@1000.jpeg
END:VEVENT
BEGIN:VEVENT
DTSTART;VALUE=DATE:20250209
DTEND;VALUE=DATE:20250210
DTSTAMP:20260421T050359
CREATED:20250114T201024Z
LAST-MODIFIED:20250114T202950Z
UID:6912-1739059200-1739145599@kamloopsvineyard.com
SUMMARY:Vineyard House Church and Kids' Church @ the Tombe's in Barnhartvale. Sunday Feb 9th @ 10 am.
DESCRIPTION:Kamloops Vineyard House Church\nSunday mornings @ 10 am\nWe meet in various houses and venues week-to-week.\n\n\n\nWe’re fostering a meaningful connectedness with Jesus and one-another throughout the week and House Church gatherings on Sunday mornings. Keep checking in on our calendar of events to stay current with information on events taking place through the week. \n\n\nIF you would like to make more personal connections then you can contact us @ info@kamloopsvineyard.com or call us @ 250-828-1690. \n\n\nAre you receiving weekly emails? If you’re not already receiving a weekly update (Vineyard newsletter called the Vineline) then we encourage you to SUBSCRIBE to receive a Vineyard newsletter that we like to call Vineline.
URL:https://kamloopsvineyard.com/event/vineyard-house-church-the-tombes-in-barnhartvale-sunday-jan-19th-10-am/
LOCATION:Tombe’s Home\, 1266 Pine Grove Rd\, Kamloops\, British Columbia\, V2C 6V6\, Canada
CATEGORIES:Families,House Church,In-House Connections,In-Person Worship Service,Sunday In-Person Worship,Vineyard House Church
ATTACH;FMTTYPE=image/jpeg:https://kamloopsvineyard.com/wp-content/uploads/2024/05/KVCHouseChurch_2024@1000.jpeg
END:VEVENT
BEGIN:VEVENT
DTSTART;VALUE=DATE:20250211
DTEND;VALUE=DATE:20250212
DTSTAMP:20260421T050359
CREATED:20241229T191452Z
LAST-MODIFIED:20250205T174030Z
UID:6923-1739232000-1739318399@kamloopsvineyard.com
SUMMARY:IRON Men's Group . Tuesday mornings 6:30 am — 7:30 am @ the Lighthouse.
DESCRIPTION:Proverbs 27:17 — “As iron sharpens iron\, so one man sharpens the countenance of another.” \nThe Lighthouse and Vineyard Partner to host IRON.\nOpen to every man — wherever they are at in their quest for peace in this life. \nJourneying together in life and faith.\nWe were never meant to do it alone. \nCoffee will be on. Be prepared to listen and ‘sometimes’ to share\, to reflect on God’s word and\, quite possibly\, to pray. Bring your bibles (paperback or electronic). \nThe Lighthouse Christian Fellowship\n702 Columbia St\, Kamloops\, BC V2C 2V4 \nFor more information please contact\nBrandon Linse\, kamloopsnazarene@gmail.com\nor David Tombe\, david@kamloopsvineyard.com
URL:https://kamloopsvineyard.com/event/iron-mens-group-tuesday-mornings-630-am-730-am-the-lighthouse-2/2025-02-11/
LOCATION:Lighthouse Christian Fellowship\, 702 Columbia St\, Kamloops\, British Columbia\, V2C 2V4\, Canada
CATEGORIES:Men's Fellowship,Vineyard Life Group
ATTACH;FMTTYPE=image/jpeg:https://kamloopsvineyard.com/wp-content/uploads/2024/06/IRON_BrotherInLifeandFaith@1000.jpeg
END:VEVENT
BEGIN:VEVENT
DTSTART;VALUE=DATE:20250212
DTEND;VALUE=DATE:20250213
DTSTAMP:20260421T050359
CREATED:20241229T191116Z
LAST-MODIFIED:20250205T172110Z
UID:6930-1739318400-1739404799@kamloopsvineyard.com
SUMMARY:Worship. Prayer. @ the Lighthouse. Wednesday Nights @ 7 pm.
DESCRIPTION:The Lighthouse and Vineyard partner for worship and prayer.\nWednesday Evenings.\n7 pm @ the Lighthouse Church\nEVERYONE is invited\n\nPsalm 46:4 — “There is a river whose streams make glad the city of God\, the holy place where the Most High dwells.”\n\nWe’re thrilled to continue our partnership with the Lighthouse church family. IF you have any questions about how you can be involved\, please reach out to pastors Brandon Linse at the Lighthouse or David Tombe at the Vineyard\n\nVenue: The Lighthouse Christian Fellowship\n702 Columbia St\, Kamloops\, BC V2C 2V4
URL:https://kamloopsvineyard.com/event/worship-prayer-the-lighthouse-wednesday-nights-7-pm-2/2025-02-12/
LOCATION:Lighthouse Christian Fellowship\, 702 Columbia St\, Kamloops\, British Columbia\, V2C 2V4\, Canada
CATEGORIES:Prayer,Renewal,Video ONLINE Conferencing,Worship,Worship and Prayer
ATTACH;FMTTYPE=image/jpeg:https://kamloopsvineyard.com/wp-content/uploads/2024/09/WorshipPrayerOct2024@1000.jpeg
END:VEVENT
BEGIN:VEVENT
DTSTART;VALUE=DATE:20250216
DTEND;VALUE=DATE:20250217
DTSTAMP:20260421T050359
CREATED:20250206T163950Z
LAST-MODIFIED:20250206T165045Z
UID:7132-1739664000-1739750399@kamloopsvineyard.com
SUMMARY:Vineyard House Church @ the Fast's in Dufferin. Sunday Feb 16th @ 10 am.
DESCRIPTION:Kamloops Vineyard House Church\nSunday mornings @ 10 am\nWe meet in various houses and venues week-to-week.\n\n\n\nWe’re fostering a meaningful connectedness with Jesus and one-another throughout the week and House Church gatherings on Sunday mornings. Keep checking in on our calendar of events to stay current with information on events taking place through the week. \n\n\nIF you would like to make more personal connections then you can contact us @ info@kamloopsvineyard.com or call us @ 250-828-1690. \n\n\nAre you receiving weekly emails? If you’re not already receiving a weekly update (Vineyard newsletter called the Vineline) then we encourage you to SUBSCRIBE to receive a Vineyard newsletter that we like to call Vineline.
URL:https://kamloopsvineyard.com/event/vineyard-house-church-the-fasts-sunday-feb-16th-10-am/
LOCATION:Fast’s Home\, 1660 Mt Dufferin Drive\, Kamloops\, British Columbia\, V2E 1A2\, Canada
CATEGORIES:Families,House Church,In-House Connections,In-Person Worship Service,Sunday In-Person Worship,Vineyard House Church
ATTACH;FMTTYPE=image/jpeg:https://kamloopsvineyard.com/wp-content/uploads/2024/05/KVCHouseChurch_2024@1000.jpeg
END:VEVENT
BEGIN:VEVENT
DTSTART;VALUE=DATE:20250218
DTEND;VALUE=DATE:20250219
DTSTAMP:20260421T050359
CREATED:20241229T191452Z
LAST-MODIFIED:20250205T174033Z
UID:6924-1739836800-1739923199@kamloopsvineyard.com
SUMMARY:IRON Men's Group . Tuesday mornings 6:30 am — 7:30 am @ the Lighthouse.
DESCRIPTION:Proverbs 27:17 — “As iron sharpens iron\, so one man sharpens the countenance of another.” \nThe Lighthouse and Vineyard Partner to host IRON.\nOpen to every man — wherever they are at in their quest for peace in this life. \nJourneying together in life and faith.\nWe were never meant to do it alone. \nCoffee will be on. Be prepared to listen and ‘sometimes’ to share\, to reflect on God’s word and\, quite possibly\, to pray. Bring your bibles (paperback or electronic). \nThe Lighthouse Christian Fellowship\n702 Columbia St\, Kamloops\, BC V2C 2V4 \nFor more information please contact\nBrandon Linse\, kamloopsnazarene@gmail.com\nor David Tombe\, david@kamloopsvineyard.com
URL:https://kamloopsvineyard.com/event/iron-mens-group-tuesday-mornings-630-am-730-am-the-lighthouse-2/2025-02-18/
LOCATION:Lighthouse Christian Fellowship\, 702 Columbia St\, Kamloops\, British Columbia\, V2C 2V4\, Canada
CATEGORIES:Men's Fellowship,Vineyard Life Group
ATTACH;FMTTYPE=image/jpeg:https://kamloopsvineyard.com/wp-content/uploads/2024/06/IRON_BrotherInLifeandFaith@1000.jpeg
END:VEVENT
BEGIN:VEVENT
DTSTART;VALUE=DATE:20250219
DTEND;VALUE=DATE:20250220
DTSTAMP:20260421T050359
CREATED:20241229T191116Z
LAST-MODIFIED:20250205T172113Z
UID:6931-1739923200-1740009599@kamloopsvineyard.com
SUMMARY:Worship. Prayer. @ the Lighthouse. Wednesday Nights @ 7 pm.
DESCRIPTION:The Lighthouse and Vineyard partner for worship and prayer.\nWednesday Evenings.\n7 pm @ the Lighthouse Church\nEVERYONE is invited\n\nPsalm 46:4 — “There is a river whose streams make glad the city of God\, the holy place where the Most High dwells.”\n\nWe’re thrilled to continue our partnership with the Lighthouse church family. IF you have any questions about how you can be involved\, please reach out to pastors Brandon Linse at the Lighthouse or David Tombe at the Vineyard\n\nVenue: The Lighthouse Christian Fellowship\n702 Columbia St\, Kamloops\, BC V2C 2V4
URL:https://kamloopsvineyard.com/event/worship-prayer-the-lighthouse-wednesday-nights-7-pm-2/2025-02-19/
LOCATION:Lighthouse Christian Fellowship\, 702 Columbia St\, Kamloops\, British Columbia\, V2C 2V4\, Canada
CATEGORIES:Prayer,Renewal,Video ONLINE Conferencing,Worship,Worship and Prayer
ATTACH;FMTTYPE=image/jpeg:https://kamloopsvineyard.com/wp-content/uploads/2024/09/WorshipPrayerOct2024@1000.jpeg
END:VEVENT
BEGIN:VEVENT
DTSTART;VALUE=DATE:20250222
DTEND;VALUE=DATE:20250223
DTSTAMP:20260421T050359
CREATED:20250107T184026Z
LAST-MODIFIED:20250222T164003Z
UID:6900-1740182400-1740268799@kamloopsvineyard.com
SUMMARY:Men's Night @ Jim Fast's.  Saturday Feb 22nd @ 7:30 pm
DESCRIPTION:‘We’re better together!’\nTypically an evening of random fun\, snacks and conversation. Once a month men are gathering in a home\, around a fire\, or somewhere out in nature. all of it with the intention to build up and encourage one another. \nFor more details contact Monte Campbell at 778-220-3296 or montecampbell@gmail.com\nor Brent Bylsma\, brent@culturecare.ca.
URL:https://kamloopsvineyard.com/event/mens-night-saturday-feb-22nd-730-pm/
LOCATION:Fast’s Home\, 1660 Mt Dufferin Drive\, Kamloops\, British Columbia\, V2E 1A2\, Canada
CATEGORIES:Men's Fellowship,Vineyard Life Group
ATTACH;FMTTYPE=image/jpeg:https://kamloopsvineyard.com/wp-content/uploads/2024/10/MensNight_nodate.jpg
END:VEVENT
BEGIN:VEVENT
DTSTART;VALUE=DATE:20250223
DTEND;VALUE=DATE:20250224
DTSTAMP:20260421T050359
CREATED:20250206T164255Z
LAST-MODIFIED:20250206T165135Z
UID:7134-1740268800-1740355199@kamloopsvineyard.com
SUMMARY:Vineyard House Church @ the Bylsma's in Knutsford. Sunday Feb 23rd @ 10 am.
DESCRIPTION:Kamloops Vineyard House Church\nSunday mornings @ 10 am\nWe meet in various houses and venues week-to-week.\n\n\n\nWe’re fostering a meaningful connectedness with Jesus and one-another throughout the week and House Church gatherings on Sunday mornings. Keep checking in on our calendar of events to stay current with information on events taking place through the week. \n\n\nIF you would like to make more personal connections then you can contact us @ info@kamloopsvineyard.com or call us @ 250-828-1690. \n\n\nAre you receiving weekly emails? If you’re not already receiving a weekly update (Vineyard newsletter called the Vineline) then we encourage you to SUBSCRIBE to receive a Vineyard newsletter that we like to call Vineline.
URL:https://kamloopsvineyard.com/event/vineyard-house-church-the-bylsmas-in-barnhartvale-sunday-feb-23rd-10-am/
LOCATION:Bylsma’s Home\, 2650 Long Lake Rd\, Kamloops\, BC\, Canada
CATEGORIES:Families,House Church,In-House Connections,In-Person Worship Service,Sunday In-Person Worship,Vineyard House Church
ATTACH;FMTTYPE=image/jpeg:https://kamloopsvineyard.com/wp-content/uploads/2024/05/KVCHouseChurch_2024@1000.jpeg
END:VEVENT
BEGIN:VEVENT
DTSTART;VALUE=DATE:20250225
DTEND;VALUE=DATE:20250226
DTSTAMP:20260421T050359
CREATED:20241229T191452Z
LAST-MODIFIED:20250205T174035Z
UID:6925-1740441600-1740527999@kamloopsvineyard.com
SUMMARY:IRON Men's Group . Tuesday mornings 6:30 am — 7:30 am @ the Lighthouse.
DESCRIPTION:Proverbs 27:17 — “As iron sharpens iron\, so one man sharpens the countenance of another.” \nThe Lighthouse and Vineyard Partner to host IRON.\nOpen to every man — wherever they are at in their quest for peace in this life. \nJourneying together in life and faith.\nWe were never meant to do it alone. \nCoffee will be on. Be prepared to listen and ‘sometimes’ to share\, to reflect on God’s word and\, quite possibly\, to pray. Bring your bibles (paperback or electronic). \nThe Lighthouse Christian Fellowship\n702 Columbia St\, Kamloops\, BC V2C 2V4 \nFor more information please contact\nBrandon Linse\, kamloopsnazarene@gmail.com\nor David Tombe\, david@kamloopsvineyard.com
URL:https://kamloopsvineyard.com/event/iron-mens-group-tuesday-mornings-630-am-730-am-the-lighthouse-2/2025-02-25/
LOCATION:Lighthouse Christian Fellowship\, 702 Columbia St\, Kamloops\, British Columbia\, V2C 2V4\, Canada
CATEGORIES:Men's Fellowship,Vineyard Life Group
ATTACH;FMTTYPE=image/jpeg:https://kamloopsvineyard.com/wp-content/uploads/2024/06/IRON_BrotherInLifeandFaith@1000.jpeg
END:VEVENT
BEGIN:VEVENT
DTSTART;VALUE=DATE:20250226
DTEND;VALUE=DATE:20250227
DTSTAMP:20260421T050359
CREATED:20241229T191116Z
LAST-MODIFIED:20250205T172116Z
UID:6932-1740528000-1740614399@kamloopsvineyard.com
SUMMARY:Worship. Prayer. @ the Lighthouse. Wednesday Nights @ 7 pm.
DESCRIPTION:The Lighthouse and Vineyard partner for worship and prayer.\nWednesday Evenings.\n7 pm @ the Lighthouse Church\nEVERYONE is invited\n\nPsalm 46:4 — “There is a river whose streams make glad the city of God\, the holy place where the Most High dwells.”\n\nWe’re thrilled to continue our partnership with the Lighthouse church family. IF you have any questions about how you can be involved\, please reach out to pastors Brandon Linse at the Lighthouse or David Tombe at the Vineyard\n\nVenue: The Lighthouse Christian Fellowship\n702 Columbia St\, Kamloops\, BC V2C 2V4
URL:https://kamloopsvineyard.com/event/worship-prayer-the-lighthouse-wednesday-nights-7-pm-2/2025-02-26/
LOCATION:Lighthouse Christian Fellowship\, 702 Columbia St\, Kamloops\, British Columbia\, V2C 2V4\, Canada
CATEGORIES:Prayer,Renewal,Video ONLINE Conferencing,Worship,Worship and Prayer
ATTACH;FMTTYPE=image/jpeg:https://kamloopsvineyard.com/wp-content/uploads/2024/09/WorshipPrayerOct2024@1000.jpeg
END:VEVENT
END:VCALENDAR