BEGIN:VCALENDAR
VERSION:2.0
PRODID:-//Kamloops Vineyard Church - ECPv6.15.16//NONSGML v1.0//EN
CALSCALE:GREGORIAN
METHOD:PUBLISH
X-WR-CALNAME:Kamloops Vineyard Church
X-ORIGINAL-URL:https://kamloopsvineyard.com
X-WR-CALDESC:Events for Kamloops Vineyard Church
REFRESH-INTERVAL;VALUE=DURATION:PT1H
X-Robots-Tag:noindex
X-PUBLISHED-TTL:PT1H
BEGIN:VTIMEZONE
TZID:America/Vancouver
BEGIN:DAYLIGHT
TZOFFSETFROM:-0800
TZOFFSETTO:-0700
TZNAME:PDT
DTSTART:20240310T100000
END:DAYLIGHT
BEGIN:STANDARD
TZOFFSETFROM:-0700
TZOFFSETTO:-0800
TZNAME:PST
DTSTART:20241103T090000
END:STANDARD
BEGIN:DAYLIGHT
TZOFFSETFROM:-0800
TZOFFSETTO:-0700
TZNAME:PDT
DTSTART:20250309T100000
END:DAYLIGHT
BEGIN:STANDARD
TZOFFSETFROM:-0700
TZOFFSETTO:-0800
TZNAME:PST
DTSTART:20251102T090000
END:STANDARD
BEGIN:DAYLIGHT
TZOFFSETFROM:-0800
TZOFFSETTO:-0700
TZNAME:PDT
DTSTART:20260308T100000
END:DAYLIGHT
BEGIN:STANDARD
TZOFFSETFROM:-0700
TZOFFSETTO:-0800
TZNAME:PST
DTSTART:20261101T090000
END:STANDARD
END:VTIMEZONE
BEGIN:VEVENT
DTSTART;VALUE=DATE:20250401
DTEND;VALUE=DATE:20250402
DTSTAMP:20260421T012934
CREATED:20241229T191452Z
LAST-MODIFIED:20241229T191452Z
UID:7113-1743465600-1743551999@kamloopsvineyard.com
SUMMARY:IRON Men's Group . Tuesday mornings 6:30 am — 7:30 am @ the Lighthouse.
DESCRIPTION:Proverbs 27:17 — “As iron sharpens iron\, so one man sharpens the countenance of another.” \nThe Lighthouse and Vineyard Partner to host IRON.\nOpen to every man — wherever they are at in their quest for peace in this life. \nJourneying together in life and faith.\nWe were never meant to do it alone. \nCoffee will be on. Be prepared to listen and ‘sometimes’ to share\, to reflect on God’s word and\, quite possibly\, to pray. Bring your bibles (paperback or electronic). \nThe Lighthouse Christian Fellowship\n702 Columbia St\, Kamloops\, BC V2C 2V4 \nFor more information please contact\nBrandon Linse\, kamloopsnazarene@gmail.com\nor David Tombe\, david@kamloopsvineyard.com
URL:https://kamloopsvineyard.com/event/iron-mens-group-tuesday-mornings-630-am-730-am-the-lighthouse-2/2025-04-01/
LOCATION:Lighthouse Christian Fellowship\, 702 Columbia St\, Kamloops\, British Columbia\, V2C 2V4\, Canada
CATEGORIES:Men's Fellowship,Vineyard Life Group
ATTACH;FMTTYPE=image/jpeg:https://kamloopsvineyard.com/wp-content/uploads/2024/06/IRON_BrotherInLifeandFaith@1000.jpeg
END:VEVENT
BEGIN:VEVENT
DTSTART;VALUE=DATE:20250402
DTEND;VALUE=DATE:20250403
DTSTAMP:20260421T012934
CREATED:20241229T191116Z
LAST-MODIFIED:20241229T191116Z
UID:7090-1743552000-1743638399@kamloopsvineyard.com
SUMMARY:Worship. Prayer. @ the Lighthouse. Wednesday Nights @ 7 pm.
DESCRIPTION:The Lighthouse and Vineyard partner for worship and prayer.\nWednesday Evenings.\n7 pm @ the Lighthouse Church\nEVERYONE is invited\n\nPsalm 46:4 — “There is a river whose streams make glad the city of God\, the holy place where the Most High dwells.”\n\nWe’re thrilled to continue our partnership with the Lighthouse church family. IF you have any questions about how you can be involved\, please reach out to pastors Brandon Linse at the Lighthouse or David Tombe at the Vineyard\n\nVenue: The Lighthouse Christian Fellowship\n702 Columbia St\, Kamloops\, BC V2C 2V4
URL:https://kamloopsvineyard.com/event/worship-prayer-the-lighthouse-wednesday-nights-7-pm-2/2025-04-02/
LOCATION:Lighthouse Christian Fellowship\, 702 Columbia St\, Kamloops\, British Columbia\, V2C 2V4\, Canada
CATEGORIES:Prayer,Renewal,Video ONLINE Conferencing,Worship,Worship and Prayer
ATTACH;FMTTYPE=image/jpeg:https://kamloopsvineyard.com/wp-content/uploads/2024/09/WorshipPrayerOct2024@1000.jpeg
END:VEVENT
BEGIN:VEVENT
DTSTART;VALUE=DATE:20250406
DTEND;VALUE=DATE:20250407
DTSTAMP:20260421T012934
CREATED:20250301T001849Z
LAST-MODIFIED:20250403T180828Z
UID:7169-1743897600-1743983999@kamloopsvineyard.com
SUMMARY:Vineyard House Church Town Hall and Feast Sunday @ the Tombe's in Barnhartvale. Sunday Apr 6th @ 10 am.
DESCRIPTION:Kamloops Vineyard Town Hall and Feast Sunday\n\n\nCelebrations begin at 10 am. Please bring whatever you would like to share. We’re looking forward to connecting with you all! Everyone is welcome!*’ \n“Consider preparing a main meal\, side-dish\, and salad or dessert to share. What comes to mind? Run it by me if you’re not certain!” — Debbie \nClick here for a schedule and directions to get you there! \nHave you got any questions? You can reach out to Debbie\, by emailing debbie@kamloopsvineyard.com. \nHave you got any questions? You can reach out to Debbie Tombe\, by emailing her debbie@kamloopsvineyard.com. \n* Are you new to area\, new to church\, or merely wanting to check things out? By all means we’d love to connect with you\, please reach out to us\, David and Debbie Tombe @ info@kamloopsvineyard.com.
URL:https://kamloopsvineyard.com/event/vineyard-house-church-and-feast-sunday-the-tombes-in-barnhartvale-sunday-apr-6th-10-am/
LOCATION:Tombe’s Home\, 1266 Pine Grove Rd\, Kamloops\, British Columbia\, V2C 6V6\, Canada
CATEGORIES:Families,Feast Sunday,House Church,In-House Connections,In-Person Worship Service,Sunday In-Person Worship,Vineyard House Church
ATTACH;FMTTYPE=image/jpeg:https://kamloopsvineyard.com/wp-content/uploads/2025/02/TownHallFeastSunday@1000.jpeg
END:VEVENT
BEGIN:VEVENT
DTSTART;VALUE=DATE:20250408
DTEND;VALUE=DATE:20250409
DTSTAMP:20260421T012934
CREATED:20241229T191452Z
LAST-MODIFIED:20241229T191452Z
UID:7114-1744070400-1744156799@kamloopsvineyard.com
SUMMARY:IRON Men's Group . Tuesday mornings 6:30 am — 7:30 am @ the Lighthouse.
DESCRIPTION:Proverbs 27:17 — “As iron sharpens iron\, so one man sharpens the countenance of another.” \nThe Lighthouse and Vineyard Partner to host IRON.\nOpen to every man — wherever they are at in their quest for peace in this life. \nJourneying together in life and faith.\nWe were never meant to do it alone. \nCoffee will be on. Be prepared to listen and ‘sometimes’ to share\, to reflect on God’s word and\, quite possibly\, to pray. Bring your bibles (paperback or electronic). \nThe Lighthouse Christian Fellowship\n702 Columbia St\, Kamloops\, BC V2C 2V4 \nFor more information please contact\nBrandon Linse\, kamloopsnazarene@gmail.com\nor David Tombe\, david@kamloopsvineyard.com
URL:https://kamloopsvineyard.com/event/iron-mens-group-tuesday-mornings-630-am-730-am-the-lighthouse-2/2025-04-08/
LOCATION:Lighthouse Christian Fellowship\, 702 Columbia St\, Kamloops\, British Columbia\, V2C 2V4\, Canada
CATEGORIES:Men's Fellowship,Vineyard Life Group
ATTACH;FMTTYPE=image/jpeg:https://kamloopsvineyard.com/wp-content/uploads/2024/06/IRON_BrotherInLifeandFaith@1000.jpeg
END:VEVENT
BEGIN:VEVENT
DTSTART;VALUE=DATE:20250409
DTEND;VALUE=DATE:20250410
DTSTAMP:20260421T012934
CREATED:20241229T191116Z
LAST-MODIFIED:20241229T191116Z
UID:7091-1744156800-1744243199@kamloopsvineyard.com
SUMMARY:Worship. Prayer. @ the Lighthouse. Wednesday Nights @ 7 pm.
DESCRIPTION:The Lighthouse and Vineyard partner for worship and prayer.\nWednesday Evenings.\n7 pm @ the Lighthouse Church\nEVERYONE is invited\n\nPsalm 46:4 — “There is a river whose streams make glad the city of God\, the holy place where the Most High dwells.”\n\nWe’re thrilled to continue our partnership with the Lighthouse church family. IF you have any questions about how you can be involved\, please reach out to pastors Brandon Linse at the Lighthouse or David Tombe at the Vineyard\n\nVenue: The Lighthouse Christian Fellowship\n702 Columbia St\, Kamloops\, BC V2C 2V4
URL:https://kamloopsvineyard.com/event/worship-prayer-the-lighthouse-wednesday-nights-7-pm-2/2025-04-09/
LOCATION:Lighthouse Christian Fellowship\, 702 Columbia St\, Kamloops\, British Columbia\, V2C 2V4\, Canada
CATEGORIES:Prayer,Renewal,Video ONLINE Conferencing,Worship,Worship and Prayer
ATTACH;FMTTYPE=image/jpeg:https://kamloopsvineyard.com/wp-content/uploads/2024/09/WorshipPrayerOct2024@1000.jpeg
END:VEVENT
BEGIN:VEVENT
DTSTART;VALUE=DATE:20250411
DTEND;VALUE=DATE:20250412
DTSTAMP:20260421T012934
CREATED:20250410T152057Z
LAST-MODIFIED:20250410T152057Z
UID:7224-1744329600-1744415999@kamloopsvineyard.com
SUMMARY:Focus Club Dessert Fundraiser. Friday April 19th @ 7 pm
DESCRIPTION:Focus Club Dessert Fundraiser\nFriday Apr 11 @ 7 pm.\n\nJoin us in this celebration and support of our International Students and Focus Club Ministries. It’s going to be a night of desserts\, fun and testimonies from students and leaders.\n\nAll ages. Event Tickets $10.\nPay for tickets in advance or pay @ the door.\n\nSouthwest Community Church\n700 Hugh Allen Drive\nKamloops BC\n\nFor more information contact Jeff Torans\, 250-819-6814
URL:https://kamloopsvineyard.com/event/focus-club-dessert-fundraiser-friday-april-19th-7-pm-2/
LOCATION:Southwest Community Church\, 700 Hugh Allan Dr\, Kamloops\, BC\, V1S 1N3\, Canada
CATEGORIES:Missions
ATTACH;FMTTYPE=image/jpeg:https://kamloopsvineyard.com/wp-content/uploads/2025/04/FOCUS_DessertNight2024@1000.jpeg
END:VEVENT
BEGIN:VEVENT
DTSTART;VALUE=DATE:20250413
DTEND;VALUE=DATE:20250414
DTSTAMP:20260421T012934
CREATED:20250301T002049Z
LAST-MODIFIED:20250412T173304Z
UID:7173-1744502400-1744588799@kamloopsvineyard.com
SUMMARY:CHANGE IN VENUE. Vineyard House Church moved to the Tombe's in Barnhartvale. Sunday Apr 13th @ 10 am.
DESCRIPTION:Kamloops Vineyard House Church\nSunday mornings @ 10 am\nWe meet in various houses and venues week-to-week.\n\n\n\nWe’re fostering a meaningful connectedness with Jesus and one-another throughout the week and House Church gatherings on Sunday mornings. Keep checking in on our calendar of events to stay current with information on events taking place through the week. \n\n\nIF you would like to make more personal connections then you can contact us @ info@kamloopsvineyard.com or call us @ 250-828-1690. \n\n\nAre you receiving weekly emails? If you’re not already receiving a weekly update (Vineyard newsletter called the Vineline) then we encourage you to SUBSCRIBE to receive a Vineyard newsletter that we like to call Vineline.
URL:https://kamloopsvineyard.com/event/vineyard-house-church-the-bylsmas-in-knutsford-sunday-apr-13th-10-am/
LOCATION:Tombe’s Home\, 1266 Pine Grove Rd\, Kamloops\, British Columbia\, V2C 6V6\, Canada
CATEGORIES:Families,House Church,In-House Connections,In-Person Worship Service,Sunday In-Person Worship,Vineyard House Church
ATTACH;FMTTYPE=image/jpeg:https://kamloopsvineyard.com/wp-content/uploads/2025/02/HouseChurchChangeInVenue@1000.jpeg
END:VEVENT
BEGIN:VEVENT
DTSTART;VALUE=DATE:20250415
DTEND;VALUE=DATE:20250416
DTSTAMP:20260421T012934
CREATED:20241229T191452Z
LAST-MODIFIED:20241229T191452Z
UID:7115-1744675200-1744761599@kamloopsvineyard.com
SUMMARY:IRON Men's Group . Tuesday mornings 6:30 am — 7:30 am @ the Lighthouse.
DESCRIPTION:Proverbs 27:17 — “As iron sharpens iron\, so one man sharpens the countenance of another.” \nThe Lighthouse and Vineyard Partner to host IRON.\nOpen to every man — wherever they are at in their quest for peace in this life. \nJourneying together in life and faith.\nWe were never meant to do it alone. \nCoffee will be on. Be prepared to listen and ‘sometimes’ to share\, to reflect on God’s word and\, quite possibly\, to pray. Bring your bibles (paperback or electronic). \nThe Lighthouse Christian Fellowship\n702 Columbia St\, Kamloops\, BC V2C 2V4 \nFor more information please contact\nBrandon Linse\, kamloopsnazarene@gmail.com\nor David Tombe\, david@kamloopsvineyard.com
URL:https://kamloopsvineyard.com/event/iron-mens-group-tuesday-mornings-630-am-730-am-the-lighthouse-2/2025-04-15/
LOCATION:Lighthouse Christian Fellowship\, 702 Columbia St\, Kamloops\, British Columbia\, V2C 2V4\, Canada
CATEGORIES:Men's Fellowship,Vineyard Life Group
ATTACH;FMTTYPE=image/jpeg:https://kamloopsvineyard.com/wp-content/uploads/2024/06/IRON_BrotherInLifeandFaith@1000.jpeg
END:VEVENT
BEGIN:VEVENT
DTSTART;VALUE=DATE:20250416
DTEND;VALUE=DATE:20250417
DTSTAMP:20260421T012934
CREATED:20241229T191116Z
LAST-MODIFIED:20241229T191116Z
UID:7092-1744761600-1744847999@kamloopsvineyard.com
SUMMARY:Worship. Prayer. @ the Lighthouse. Wednesday Nights @ 7 pm.
DESCRIPTION:The Lighthouse and Vineyard partner for worship and prayer.\nWednesday Evenings.\n7 pm @ the Lighthouse Church\nEVERYONE is invited\n\nPsalm 46:4 — “There is a river whose streams make glad the city of God\, the holy place where the Most High dwells.”\n\nWe’re thrilled to continue our partnership with the Lighthouse church family. IF you have any questions about how you can be involved\, please reach out to pastors Brandon Linse at the Lighthouse or David Tombe at the Vineyard\n\nVenue: The Lighthouse Christian Fellowship\n702 Columbia St\, Kamloops\, BC V2C 2V4
URL:https://kamloopsvineyard.com/event/worship-prayer-the-lighthouse-wednesday-nights-7-pm-2/2025-04-16/
LOCATION:Lighthouse Christian Fellowship\, 702 Columbia St\, Kamloops\, British Columbia\, V2C 2V4\, Canada
CATEGORIES:Prayer,Renewal,Video ONLINE Conferencing,Worship,Worship and Prayer
ATTACH;FMTTYPE=image/jpeg:https://kamloopsvineyard.com/wp-content/uploads/2024/09/WorshipPrayerOct2024@1000.jpeg
END:VEVENT
BEGIN:VEVENT
DTSTART;VALUE=DATE:20250420
DTEND;VALUE=DATE:20250421
DTSTAMP:20260421T012934
CREATED:20250301T002220Z
LAST-MODIFIED:20250301T153347Z
UID:7175-1745107200-1745193599@kamloopsvineyard.com
SUMMARY:Easter Sunday Morning. Shared Worship Service @ the Lighthouse. Apr 20th @ 10:30 am.
DESCRIPTION:Sunday April 20th @ 10:30 AM\nA Shared Easter Sunday Morning Worship Service\nThe Lighthouse and Vineyard Churches @ the Lighthouse\n\nOur partners in the joy of fellowship and in the work of ministry\, The Lighthouse Christian Fellowship\, have opened their doors to join them in a shared Worship Service. Debbie and I encourage you to join us in the worship and celebration of our RISEN SAVIOUR ‘KING JESUS’. \nThe Lighthouse Christian Fellowship (Worship Centre)\n702 Columbia St (Corner of 7th and Columbia)\nKamloops BC
URL:https://kamloopsvineyard.com/event/easter-sunday-morning-shared-worship-service-the-lighthouse-apr-20th-1030-am/
LOCATION:Lighthouse Christian Fellowship\, 702 Columbia St\, Kamloops\, British Columbia\, V2C 2V4\, Canada
CATEGORIES:Easter Sunday,Resurrection Sunday,Special Event
ATTACH;FMTTYPE=image/jpeg:https://kamloopsvineyard.com/wp-content/uploads/2025/02/easter-sunday@1000.jpeg
END:VEVENT
BEGIN:VEVENT
DTSTART;VALUE=DATE:20250422
DTEND;VALUE=DATE:20250423
DTSTAMP:20260421T012934
CREATED:20241229T191452Z
LAST-MODIFIED:20241229T191452Z
UID:7116-1745280000-1745366399@kamloopsvineyard.com
SUMMARY:IRON Men's Group . Tuesday mornings 6:30 am — 7:30 am @ the Lighthouse.
DESCRIPTION:Proverbs 27:17 — “As iron sharpens iron\, so one man sharpens the countenance of another.” \nThe Lighthouse and Vineyard Partner to host IRON.\nOpen to every man — wherever they are at in their quest for peace in this life. \nJourneying together in life and faith.\nWe were never meant to do it alone. \nCoffee will be on. Be prepared to listen and ‘sometimes’ to share\, to reflect on God’s word and\, quite possibly\, to pray. Bring your bibles (paperback or electronic). \nThe Lighthouse Christian Fellowship\n702 Columbia St\, Kamloops\, BC V2C 2V4 \nFor more information please contact\nBrandon Linse\, kamloopsnazarene@gmail.com\nor David Tombe\, david@kamloopsvineyard.com
URL:https://kamloopsvineyard.com/event/iron-mens-group-tuesday-mornings-630-am-730-am-the-lighthouse-2/2025-04-22/
LOCATION:Lighthouse Christian Fellowship\, 702 Columbia St\, Kamloops\, British Columbia\, V2C 2V4\, Canada
CATEGORIES:Men's Fellowship,Vineyard Life Group
ATTACH;FMTTYPE=image/jpeg:https://kamloopsvineyard.com/wp-content/uploads/2024/06/IRON_BrotherInLifeandFaith@1000.jpeg
END:VEVENT
BEGIN:VEVENT
DTSTART;VALUE=DATE:20250423
DTEND;VALUE=DATE:20250424
DTSTAMP:20260421T012934
CREATED:20241229T191116Z
LAST-MODIFIED:20241229T191116Z
UID:7093-1745366400-1745452799@kamloopsvineyard.com
SUMMARY:Worship. Prayer. @ the Lighthouse. Wednesday Nights @ 7 pm.
DESCRIPTION:The Lighthouse and Vineyard partner for worship and prayer.\nWednesday Evenings.\n7 pm @ the Lighthouse Church\nEVERYONE is invited\n\nPsalm 46:4 — “There is a river whose streams make glad the city of God\, the holy place where the Most High dwells.”\n\nWe’re thrilled to continue our partnership with the Lighthouse church family. IF you have any questions about how you can be involved\, please reach out to pastors Brandon Linse at the Lighthouse or David Tombe at the Vineyard\n\nVenue: The Lighthouse Christian Fellowship\n702 Columbia St\, Kamloops\, BC V2C 2V4
URL:https://kamloopsvineyard.com/event/worship-prayer-the-lighthouse-wednesday-nights-7-pm-2/2025-04-23/
LOCATION:Lighthouse Christian Fellowship\, 702 Columbia St\, Kamloops\, British Columbia\, V2C 2V4\, Canada
CATEGORIES:Prayer,Renewal,Video ONLINE Conferencing,Worship,Worship and Prayer
ATTACH;FMTTYPE=image/jpeg:https://kamloopsvineyard.com/wp-content/uploads/2024/09/WorshipPrayerOct2024@1000.jpeg
END:VEVENT
BEGIN:VEVENT
DTSTART;VALUE=DATE:20250426
DTEND;VALUE=DATE:20250427
DTSTAMP:20260421T012934
CREATED:20250323T022138Z
LAST-MODIFIED:20250425T185251Z
UID:6904-1745625600-1745711999@kamloopsvineyard.com
SUMMARY:Men's Outdoor Night.  Saturday Apr 26th beginning @ 4:30 pm. Campfire and Smokies @ Edith Lake (links attached).
DESCRIPTION:‘We’re better together!’\nMonte shares: “I’ll be there at 4:30 and am going to dust off my old fishing gear\, then as the evening progresses we’ll have a fire and smokies.Come and help me fish\, come for the fire\, come for both\, whatever works!” \nFor Google Map directions to Edith Lake click here . . . https://maps.app.goo.gl/trzv5997HaQ27qCN9 \nFor more details contact Monte Campbell at 778-220-3296 or montecampbell@gmail.com\nor Brent Bylsma\, brent@culturecare.ca. \n__ \nVisit facebook for detailed invite . . . https://www.facebook.com/groups/220396031431426/?ref=bookmarks
URL:https://kamloopsvineyard.com/event/mens-night-saturday-apr-26th-730-pm-venue-tba/
LOCATION:Bylsma’s Home\, 2650 Long Lake Rd\, Kamloops\, BC\, Canada
CATEGORIES:Men's Fellowship,Vineyard Life Group
ATTACH;FMTTYPE=image/jpeg:https://kamloopsvineyard.com/wp-content/uploads/2024/10/MensNight_nodate.jpg
END:VEVENT
BEGIN:VEVENT
DTSTART;VALUE=DATE:20250427
DTEND;VALUE=DATE:20250428
DTSTAMP:20260421T012934
CREATED:20250301T153603Z
LAST-MODIFIED:20250306T182006Z
UID:7179-1745712000-1745798399@kamloopsvineyard.com
SUMMARY:Vineyard House Church @ the Kleywegt's in Rose Hill. Sunday Apr 27th @ 10 am.
DESCRIPTION:Kamloops Vineyard House Church\nSunday mornings @ 10 am\nWe meet in various houses and venues week-to-week.\n\n\n\nWe’re fostering a meaningful connectedness with Jesus and one-another throughout the week and House Church gatherings on Sunday mornings. Keep checking in on our calendar of events to stay current with information on events taking place through the week. \n\n\nIF you would like to make more personal connections then you can contact us @ info@kamloopsvineyard.com or call us @ 250-828-1690. \n\n\nAre you receiving weekly emails? If you’re not already receiving a weekly update (Vineyard newsletter called the Vineline) then we encourage you to SUBSCRIBE to receive a Vineyard newsletter that we like to call Vineline.
URL:https://kamloopsvineyard.com/event/vineyard-house-church-tbd-sunday-apr-27th-10-am/
LOCATION:Kleywegt’s Home\, 1422 Rose Hill Rd\, Kamloops\, BC\, V2E 1L4\, Canada
CATEGORIES:Families,House Church,In-House Connections,In-Person Worship Service,Sunday In-Person Worship,Vineyard House Church
ATTACH;FMTTYPE=image/jpeg:https://kamloopsvineyard.com/wp-content/uploads/2024/05/KVCHouseChurch_2024@1000.jpeg
END:VEVENT
BEGIN:VEVENT
DTSTART;VALUE=DATE:20250429
DTEND;VALUE=DATE:20250430
DTSTAMP:20260421T012934
CREATED:20241229T191452Z
LAST-MODIFIED:20241229T191452Z
UID:7117-1745884800-1745971199@kamloopsvineyard.com
SUMMARY:IRON Men's Group . Tuesday mornings 6:30 am — 7:30 am @ the Lighthouse.
DESCRIPTION:Proverbs 27:17 — “As iron sharpens iron\, so one man sharpens the countenance of another.” \nThe Lighthouse and Vineyard Partner to host IRON.\nOpen to every man — wherever they are at in their quest for peace in this life. \nJourneying together in life and faith.\nWe were never meant to do it alone. \nCoffee will be on. Be prepared to listen and ‘sometimes’ to share\, to reflect on God’s word and\, quite possibly\, to pray. Bring your bibles (paperback or electronic). \nThe Lighthouse Christian Fellowship\n702 Columbia St\, Kamloops\, BC V2C 2V4 \nFor more information please contact\nBrandon Linse\, kamloopsnazarene@gmail.com\nor David Tombe\, david@kamloopsvineyard.com
URL:https://kamloopsvineyard.com/event/iron-mens-group-tuesday-mornings-630-am-730-am-the-lighthouse-2/2025-04-29/
LOCATION:Lighthouse Christian Fellowship\, 702 Columbia St\, Kamloops\, British Columbia\, V2C 2V4\, Canada
CATEGORIES:Men's Fellowship,Vineyard Life Group
ATTACH;FMTTYPE=image/jpeg:https://kamloopsvineyard.com/wp-content/uploads/2024/06/IRON_BrotherInLifeandFaith@1000.jpeg
END:VEVENT
BEGIN:VEVENT
DTSTART;VALUE=DATE:20250430
DTEND;VALUE=DATE:20250501
DTSTAMP:20260421T012934
CREATED:20241229T191116Z
LAST-MODIFIED:20241229T191116Z
UID:7094-1745971200-1746057599@kamloopsvineyard.com
SUMMARY:Worship. Prayer. @ the Lighthouse. Wednesday Nights @ 7 pm.
DESCRIPTION:The Lighthouse and Vineyard partner for worship and prayer.\nWednesday Evenings.\n7 pm @ the Lighthouse Church\nEVERYONE is invited\n\nPsalm 46:4 — “There is a river whose streams make glad the city of God\, the holy place where the Most High dwells.”\n\nWe’re thrilled to continue our partnership with the Lighthouse church family. IF you have any questions about how you can be involved\, please reach out to pastors Brandon Linse at the Lighthouse or David Tombe at the Vineyard\n\nVenue: The Lighthouse Christian Fellowship\n702 Columbia St\, Kamloops\, BC V2C 2V4
URL:https://kamloopsvineyard.com/event/worship-prayer-the-lighthouse-wednesday-nights-7-pm-2/2025-04-30/
LOCATION:Lighthouse Christian Fellowship\, 702 Columbia St\, Kamloops\, British Columbia\, V2C 2V4\, Canada
CATEGORIES:Prayer,Renewal,Video ONLINE Conferencing,Worship,Worship and Prayer
ATTACH;FMTTYPE=image/jpeg:https://kamloopsvineyard.com/wp-content/uploads/2024/09/WorshipPrayerOct2024@1000.jpeg
END:VEVENT
END:VCALENDAR