BEGIN:VCALENDAR
VERSION:2.0
PRODID:-//Kamloops Vineyard Church - ECPv6.15.16//NONSGML v1.0//EN
CALSCALE:GREGORIAN
METHOD:PUBLISH
X-WR-CALNAME:Kamloops Vineyard Church
X-ORIGINAL-URL:https://kamloopsvineyard.com
X-WR-CALDESC:Events for Kamloops Vineyard Church
REFRESH-INTERVAL;VALUE=DURATION:PT1H
X-Robots-Tag:noindex
X-PUBLISHED-TTL:PT1H
BEGIN:VTIMEZONE
TZID:America/Vancouver
BEGIN:DAYLIGHT
TZOFFSETFROM:-0800
TZOFFSETTO:-0700
TZNAME:PDT
DTSTART:20250309T100000
END:DAYLIGHT
BEGIN:STANDARD
TZOFFSETFROM:-0700
TZOFFSETTO:-0800
TZNAME:PST
DTSTART:20251102T090000
END:STANDARD
BEGIN:DAYLIGHT
TZOFFSETFROM:-0800
TZOFFSETTO:-0700
TZNAME:PDT
DTSTART:20260308T100000
END:DAYLIGHT
BEGIN:STANDARD
TZOFFSETFROM:-0700
TZOFFSETTO:-0800
TZNAME:PST
DTSTART:20261101T090000
END:STANDARD
BEGIN:DAYLIGHT
TZOFFSETFROM:-0800
TZOFFSETTO:-0700
TZNAME:PDT
DTSTART:20270314T100000
END:DAYLIGHT
BEGIN:STANDARD
TZOFFSETFROM:-0700
TZOFFSETTO:-0800
TZNAME:PST
DTSTART:20271107T090000
END:STANDARD
END:VTIMEZONE
BEGIN:VEVENT
DTSTART;VALUE=DATE:20260104
DTEND;VALUE=DATE:20260105
DTSTAMP:20260420T074856
CREATED:20251211T193803Z
LAST-MODIFIED:20251211T193803Z
UID:8037-1767484800-1767571199@kamloopsvineyard.com
SUMMARY:Vineyard House Church and Feast Sunday @ the Tombe's (Barnhartvale). Sunday Jan 4th @ 10 am.
DESCRIPTION:Kamloops Vineyard House Church and Feast Sunday\nDebbie is preparing a main soup dish\, enough for everyone! — ‘Cheesy Cauliflower Potato Soup’\n\nCelebrations begin at 10 am. Please bring whatever you would like to share. We’re looking forward to connecting with you all! Everyone is welcome!*’ \n“Consider preparing a side-dish\, salad\, buns\, crackers or a dessert to share. What comes to mind? Run it by me if you’re not certain!” — Debbie \nHave you got any questions? You can reach out to Debbie\, by emailing info@kamloopsvineyard.com. \n* Are you new to area\, new to church\, or merely wanting to check things out? By all means we’d love to connect with you\, please reach out to us\, David and Debbie Tombe @ info@kamloopsvineyard.com.
URL:https://kamloopsvineyard.com/event/vineyard-house-church-and-feast-sunday-the-tombes-barnhartvale-sunday-jan-4th-10-am/
LOCATION:Tombe’s Home\, 1266 Pine Grove Rd\, Kamloops\, British Columbia\, V2C 6V6\, Canada
CATEGORIES:Families,Feast Sunday,House Church,In-House Connections,In-Person Worship Service,Sunday In-Person Worship,Vineyard House Church
ATTACH;FMTTYPE=image/jpeg:https://kamloopsvineyard.com/wp-content/uploads/2025/01/FeastSundays2025@1000.jpeg
END:VEVENT
BEGIN:VEVENT
DTSTART;VALUE=DATE:20260106
DTEND;VALUE=DATE:20260107
DTSTAMP:20260420T074856
CREATED:20251219T173351Z
LAST-MODIFIED:20251219T173351Z
UID:8048-1767657600-1767743999@kamloopsvineyard.com
SUMMARY:IRON Men's Tableside Gathering (North Shore). Tuesday morning Jan 6th 6:30—7:30 am.
DESCRIPTION:We were never meant to do life and faith alone.\nJourneying together. \nHey guys\, we’re beginning to gather in coffee shops on the North Shore. Keep checking our schedule to confirm venues and times. \nProverbs 27:17 — “As iron sharpens iron\, so one man sharpens the countenance of another.” \nFor more information please contact\nMonte Campbell\, montecampbell@gmail.com\nor David Tombe\, david@kamloopsvineyard.com
URL:https://kamloopsvineyard.com/event/iron-mens-tableside-gathering-north-shore-tuesday-morning-jan-6th-630-730-am/
LOCATION:Starbucks (Tranquille)\, 1208 Tranquille Rd\, Kamloops\, BC\, V2B 3K2\, Canada
CATEGORIES:Men's Fellowship,Vineyard Life Group
ATTACH;FMTTYPE=image/jpeg:https://kamloopsvineyard.com/wp-content/uploads/2025/09/IRON-TABLESIDE-Sept-2025@1000.jpeg
END:VEVENT
BEGIN:VEVENT
DTSTART;VALUE=DATE:20260109
DTEND;VALUE=DATE:20260110
DTSTAMP:20260420T074856
CREATED:20251211T194754Z
LAST-MODIFIED:20251212T161103Z
UID:8039-1767916800-1768003199@kamloopsvineyard.com
SUMMARY:House Church Prayer @ the Tombe's (Barnhartvale). Friday Jan 9th @ 10 am.
DESCRIPTION:We meet every other Friday @ 10:00 am.\nCheck out the website to confirm the schedule and venue.\nDebbie shares\, ‘… we’re being intentional to gather and pray for whatever Father puts on our heart.’\n\nIf you would like to know more about gathering with us to pray please contact Debbie Tombe\, debbie@kamloopsvineyard.com.
URL:https://kamloopsvineyard.com/event/house-church-prayer-the-tombes-barnhartvale-friday-jan-9th-10-am/
LOCATION:Tombe’s Home\, 1266 Pine Grove Rd\, Kamloops\, British Columbia\, V2C 6V6\, Canada
CATEGORIES:House Church,In-House Connections,Prayer
ATTACH;FMTTYPE=image/jpeg:https://kamloopsvineyard.com/wp-content/uploads/2025/08/HouseChurchPrayer@1000.jpeg
END:VEVENT
BEGIN:VEVENT
DTSTART;VALUE=DATE:20260111
DTEND;VALUE=DATE:20260112
DTSTAMP:20260420T074856
CREATED:20260106T215557Z
LAST-MODIFIED:20260106T215729Z
UID:8066-1768089600-1768175999@kamloopsvineyard.com
SUMMARY:Vineyard House Church @ the Fast's (Dufferin). Sunday Jan 11th @ 10 am.
DESCRIPTION:Kamloops Vineyard House Church\nBe sure to check the online schedule.\nVenues and schedules may vary.\n\n\n\nWe’re fostering a meaningful connectedness with Jesus and one-another throughout the week and House Church gatherings on Sunday mornings. Keep checking in on our calendar of events to stay current with information on events taking place through the week. \n\n\nIF you would like to make more personal connections then you can contact us @ info@kamloopsvineyard.com or call us @ 250-202-5686.
URL:https://kamloopsvineyard.com/event/vineyard-house-church-the-fasts-dufferin-sunday-jan-11th-10-am/
LOCATION:Fast’s Home\, 1660 Mt Dufferin Drive\, Kamloops\, British Columbia\, V2E 1A2\, Canada
CATEGORIES:Families,Feast Sunday,House Church,In-House Connections,In-Person Worship Service,Sunday In-Person Worship,Vineyard House Church
ATTACH;FMTTYPE=image/jpeg:https://kamloopsvineyard.com/wp-content/uploads/2024/05/KVCHouseChurch_2024@1000.jpeg
END:VEVENT
BEGIN:VEVENT
DTSTART;VALUE=DATE:20260113
DTEND;VALUE=DATE:20260114
DTSTAMP:20260420T074856
CREATED:20251219T173655Z
LAST-MODIFIED:20251219T173655Z
UID:8052-1768262400-1768348799@kamloopsvineyard.com
SUMMARY:IRON Men's Tableside Gathering (North Shore). Tuesday morning Jan 13th 6:30—7:30 am.
DESCRIPTION:We were never meant to do life and faith alone.\nJourneying together. \nHey guys\, we’re beginning to gather in coffee shops on the North Shore. Keep checking our schedule to confirm venues and times. \nProverbs 27:17 — “As iron sharpens iron\, so one man sharpens the countenance of another.” \nFor more information please contact\nMonte Campbell\, montecampbell@gmail.com\nor David Tombe\, david@kamloopsvineyard.com
URL:https://kamloopsvineyard.com/event/iron-mens-tableside-gathering-north-shore-tuesday-morning-jan-13th-630-730-am/
LOCATION:Starbucks (Tranquille)\, 1208 Tranquille Rd\, Kamloops\, BC\, V2B 3K2\, Canada
CATEGORIES:Men's Fellowship,Vineyard Life Group
ATTACH;FMTTYPE=image/jpeg:https://kamloopsvineyard.com/wp-content/uploads/2025/09/IRON-TABLESIDE-Sept-2025@1000.jpeg
END:VEVENT
BEGIN:VEVENT
DTSTART;VALUE=DATE:20260118
DTEND;VALUE=DATE:20260119
DTSTAMP:20260420T074856
CREATED:20251219T174014Z
LAST-MODIFIED:20260114T233406Z
UID:8054-1768694400-1768780799@kamloopsvineyard.com
SUMMARY:Vineyard House Church @ the Tombe's (Barnhartvale). Sunday Jan 18th @ 10 am.
DESCRIPTION:Kamloops Vineyard House Church\nBe sure to check the online schedule.\nVenues and schedules may vary.\n\n\n\nWe’re fostering a meaningful connectedness with Jesus and one-another throughout the week and House Church gatherings on Sunday mornings. Keep checking in on our calendar of events to stay current with information on events taking place through the week. \n\n\nIF you would like to make more personal connections then you can contact us @ info@kamloopsvineyard.com or call us @ 250-202-5686.
URL:https://kamloopsvineyard.com/event/vineyard-house-church-and-feast-sunday-sunday-jan-18th-10-am/
LOCATION:Tombe’s Home\, 1266 Pine Grove Rd\, Kamloops\, British Columbia\, V2C 6V6\, Canada
CATEGORIES:Families,Feast Sunday,House Church,In-House Connections,In-Person Worship Service,Sunday In-Person Worship,Vineyard House Church
ATTACH;FMTTYPE=image/jpeg:https://kamloopsvineyard.com/wp-content/uploads/2024/05/KVCHouseChurch_2024@1000.jpeg
END:VEVENT
BEGIN:VEVENT
DTSTART;VALUE=DATE:20260120
DTEND;VALUE=DATE:20260121
DTSTAMP:20260420T074856
CREATED:20251219T175355Z
LAST-MODIFIED:20251219T175355Z
UID:8058-1768867200-1768953599@kamloopsvineyard.com
SUMMARY:IRON Men's Tableside Gathering (North Shore). Tuesday morning Jan 20th 6:30—7:30 am.
DESCRIPTION:We were never meant to do life and faith alone.\nJourneying together. \nHey guys\, we’re beginning to gather in coffee shops on the North Shore. Keep checking our schedule to confirm venues and times. \nProverbs 27:17 — “As iron sharpens iron\, so one man sharpens the countenance of another.” \nFor more information please contact\nMonte Campbell\, montecampbell@gmail.com\nor David Tombe\, david@kamloopsvineyard.com
URL:https://kamloopsvineyard.com/event/iron-mens-tableside-gathering-north-shore-tuesday-morning-jan-20th-630-730-am/
LOCATION:Starbucks (Tranquille)\, 1208 Tranquille Rd\, Kamloops\, BC\, V2B 3K2\, Canada
CATEGORIES:Men's Fellowship,Vineyard Life Group
ATTACH;FMTTYPE=image/jpeg:https://kamloopsvineyard.com/wp-content/uploads/2025/09/IRON-TABLESIDE-Sept-2025@1000.jpeg
END:VEVENT
BEGIN:VEVENT
DTSTART;VALUE=DATE:20260121
DTEND;VALUE=DATE:20260131
DTSTAMP:20260420T074856
CREATED:20251219T173112Z
LAST-MODIFIED:20260115T010045Z
UID:8043-1768953600-1769817599@kamloopsvineyard.com
SUMMARY:Vineyard Canada National Fast. Online Gathering. Jan 21st - 30th 7am - 7:45 am PT
DESCRIPTION:As we step into January 2026 we are coming together as a Canadian Vineyard Family to engage in a rhythm of corporate fasting and prayer. This year as we head into a season of transition with our National Team\, our prayer focus will be influenced and shaped by some of the significant upcoming shifts that will impact the way we operate into the future as a family. \nIt seemed prudent to carry forward last year’s theme – “A People of the Way” into the ‘26 calendar – “A People of the Way – the Journey Continues.” \nA few overarching threads from 2025 that we sense the Lord highlighting for us to stay attentive to in 2026; \n\n\nWalk don’t run – the Lord’s timing & pacing is perfect we are to lean into trust \n\n\nGod’s ways are not ours – Isaiah 55:8-9 need to be led by the Spirit’s wisdom and understanding \n\n\nStaying rooted John 15 & attentive to our roots  Psalm 1-  our values drive our posture – & we are called to be a people of the Way of Jesus \n\n\nDesire fruit that remains\, the invitation to remain faithful to the main and the plain of journeying with Jesus \n\n\nThe reminder that warfare is real & we struggle not against flesh & blood – (Ephesians 6:12) We are called to lean into Godly wisdom\, character\, discernment & humility to avoid the enemies’ schemes. \n\n\nDavid Ruis’ January reflection drawn from Acts 13:1-3 helps to clarify the posture we are leaning into throughout this time of fasting & prayer. \n“Now in the church at Antioch there were prophets and teachers: Barnabas\, Simeon called Niger\, Lucius of Cyrene\, Manaen (who had been brought up with Herod the tetrarch) and Saul. While they were worshiping the Lord and fasting\, the Holy Spirit said\, “Set apart for me Barnabas and Saul for the work to which I have called them.” So after they had fasted and prayed\, they placed their hands on them and sent them off. \nThe Acts narrative will provide our template for our 10 day rhythm this year and Hebrews 11 will be our supporting text. \nDownload 10 day fast outline HERE \nEach morning David and Anita will host this online devo  on Zoom. \nThese gatherings will begin promptly at 7AM PST for 45 mins \nFor more information and links to join the virtual connections please contact David or Debbie Tombe. \ndebbie@kamloopsvineyard.com\ndavid@kamloopsvineyard.com
URL:https://kamloopsvineyard.com/event/vineyard-canada-national-fast-2024-online-zoom-calls-7am/2026-01-21/
LOCATION:British Columbia
CATEGORIES:Prayer,Streaming LIVE,Streaming ONLINE,Vineyard Canada Gathering
ATTACH;FMTTYPE=image/jpeg:https://kamloopsvineyard.com/wp-content/uploads/2025/12/National-Fast-January-2025.jpg
END:VEVENT
BEGIN:VEVENT
DTSTART;VALUE=DATE:20260124
DTEND;VALUE=DATE:20260125
DTSTAMP:20260420T074856
CREATED:20260122T002726Z
LAST-MODIFIED:20260122T002743Z
UID:8170-1769212800-1769299199@kamloopsvineyard.com
SUMMARY:Men's Night @ the Bylsma's (Knutsford).  Saturday Jan 24th @ 7:30 pm.
DESCRIPTION:‘We’re better together!’\nTypically an evening of random fun\, snacks and conversation. Once a month men are gathering in a home\, around a fire\, or somewhere out in nature. all of it with the intention to build up and encourage one another. \nFor more details contact Monte Campbell at 778-220-3296 or montecampbell@gmail.com
URL:https://kamloopsvineyard.com/event/mens-night-the-bylsmas-knutsford-saturday-jan-24th-730-pm/
LOCATION:Bylsma’s Home\, 2650 Long Lake Rd\, Kamloops\, BC\, Canada
CATEGORIES:Men's Fellowship,Vineyard Life Group
ATTACH;FMTTYPE=image/jpeg:https://kamloopsvineyard.com/wp-content/uploads/2024/10/MensNight_nodate.jpg
END:VEVENT
BEGIN:VEVENT
DTSTART;VALUE=DATE:20260125
DTEND;VALUE=DATE:20260126
DTSTAMP:20260420T074856
CREATED:20251219T174209Z
LAST-MODIFIED:20260119T170834Z
UID:8056-1769299200-1769385599@kamloopsvineyard.com
SUMMARY:Vineyard House Church @ the Tombe's. Sunday Jan 25th @ 10 am.
DESCRIPTION:Kamloops Vineyard House Church\nBe sure to check the online schedule.\nVenues and schedules may vary.\n\n\n\nWe’re fostering a meaningful connectedness with Jesus and one-another throughout the week and House Church gatherings on Sunday mornings. Keep checking in on our calendar of events to stay current with information on events taking place through the week. \n\n\nIF you would like to make more personal connections then you can contact us @ info@kamloopsvineyard.com or call us @ 250-202-5686.
URL:https://kamloopsvineyard.com/event/vineyard-house-church-and-feast-sunday-sunday-jan-25th-10-am/
LOCATION:Tombe’s Home\, 1266 Pine Grove Rd\, Kamloops\, British Columbia\, V2C 6V6\, Canada
CATEGORIES:Families,Feast Sunday,House Church,In-House Connections,In-Person Worship Service,Sunday In-Person Worship,Vineyard House Church
ATTACH;FMTTYPE=image/jpeg:https://kamloopsvineyard.com/wp-content/uploads/2024/05/KVCHouseChurch_2024@1000.jpeg
END:VEVENT
BEGIN:VEVENT
DTSTART;VALUE=DATE:20260127
DTEND;VALUE=DATE:20260128
DTSTAMP:20260420T074856
CREATED:20251219T175449Z
LAST-MODIFIED:20251219T175531Z
UID:8060-1769472000-1769558399@kamloopsvineyard.com
SUMMARY:IRON Men's Tableside Gathering (North Shore). Tuesday morning Jan 27th 6:30—7:30 am.
DESCRIPTION:We were never meant to do life and faith alone.\nJourneying together. \nHey guys\, we’re beginning to gather in coffee shops on the North Shore. Keep checking our schedule to confirm venues and times. \nProverbs 27:17 — “As iron sharpens iron\, so one man sharpens the countenance of another.” \nFor more information please contact\nMonte Campbell\, montecampbell@gmail.com\nor David Tombe\, david@kamloopsvineyard.com
URL:https://kamloopsvineyard.com/event/iron-mens-tableside-gathering-north-shore-tuesday-morning-jan-27th-630-730-am/
LOCATION:Starbucks (Tranquille)\, 1208 Tranquille Rd\, Kamloops\, BC\, V2B 3K2\, Canada
CATEGORIES:Men's Fellowship,Vineyard Life Group
ATTACH;FMTTYPE=image/jpeg:https://kamloopsvineyard.com/wp-content/uploads/2025/09/IRON-TABLESIDE-Sept-2025@1000.jpeg
END:VEVENT
BEGIN:VEVENT
DTSTART;VALUE=DATE:20260130
DTEND;VALUE=DATE:20260131
DTSTAMP:20260420T074856
CREATED:20260120T190152Z
LAST-MODIFIED:20260120T190415Z
UID:8087-1769731200-1769817599@kamloopsvineyard.com
SUMMARY:House Church Prayer @ the Tombe's (Barnhartvale). Friday Jan 30th @ 10 am.
DESCRIPTION:Typically we meet every other Friday @ 10:00 am\n… regardless\, confirm our times online!\n\nCheck out the website to confirm the schedule and venue. Debbie shares\, ‘… we’re being intentional to gather and pray for whatever Father puts on our heart.’\n\nIf you would like to know more about gathering with us to pray please contact Debbie Tombe\, debbie@kamloopsvineyard.com.
URL:https://kamloopsvineyard.com/event/house-church-prayer-the-tombes-barnhartvale-friday-jan-30th-10-am/
LOCATION:Tombe’s Home\, 1266 Pine Grove Rd\, Kamloops\, British Columbia\, V2C 6V6\, Canada
CATEGORIES:House Church,In-House Connections,Prayer
ATTACH;FMTTYPE=image/jpeg:https://kamloopsvineyard.com/wp-content/uploads/2025/08/HouseChurchPrayer@1000.jpeg
END:VEVENT
BEGIN:VEVENT
DTSTART;VALUE=DATE:20260131
DTEND;VALUE=DATE:20260201
DTSTAMP:20260420T074856
CREATED:20260127T190202Z
LAST-MODIFIED:20260127T190202Z
UID:8173-1769817600-1769903999@kamloopsvineyard.com
SUMMARY:Vineyard Directors Meeting. Sat Jan 31st @ 9:30 am.
DESCRIPTION:Kamloops Vineyard Directors meet (on average) once every three months. For more information on the Kamloops Vineyard please reach out to lead pastors and directors\, David and Debbie Tombe. \nDavid Tombe\ndavid@kamloopsvineyard.com \nDebbie Tombe\ndebbie@kamloopsvineyard.com
URL:https://kamloopsvineyard.com/event/vineyard-directors-meeting-sat-jan-31st-930-am/
LOCATION:Tombe’s Home\, 1266 Pine Grove Rd\, Kamloops\, British Columbia\, V2C 6V6\, Canada
ATTACH;FMTTYPE=image/jpeg:https://kamloopsvineyard.com/wp-content/uploads/2024/04/Directors@1000.jpeg
END:VEVENT
END:VCALENDAR