BEGIN:VCALENDAR
VERSION:2.0
PRODID:-//Kamloops Vineyard Church - ECPv6.15.16//NONSGML v1.0//EN
CALSCALE:GREGORIAN
METHOD:PUBLISH
X-ORIGINAL-URL:https://kamloopsvineyard.com
X-WR-CALDESC:Events for Kamloops Vineyard Church
REFRESH-INTERVAL;VALUE=DURATION:PT1H
X-Robots-Tag:noindex
X-PUBLISHED-TTL:PT1H
BEGIN:VTIMEZONE
TZID:America/Vancouver
BEGIN:DAYLIGHT
TZOFFSETFROM:-0800
TZOFFSETTO:-0700
TZNAME:PDT
DTSTART:20250309T100000
END:DAYLIGHT
BEGIN:STANDARD
TZOFFSETFROM:-0700
TZOFFSETTO:-0800
TZNAME:PST
DTSTART:20251102T090000
END:STANDARD
BEGIN:DAYLIGHT
TZOFFSETFROM:-0800
TZOFFSETTO:-0700
TZNAME:PDT
DTSTART:20260308T100000
END:DAYLIGHT
BEGIN:STANDARD
TZOFFSETFROM:-0700
TZOFFSETTO:-0800
TZNAME:PST
DTSTART:20261101T090000
END:STANDARD
BEGIN:DAYLIGHT
TZOFFSETFROM:-0800
TZOFFSETTO:-0700
TZNAME:PDT
DTSTART:20270314T100000
END:DAYLIGHT
BEGIN:STANDARD
TZOFFSETFROM:-0700
TZOFFSETTO:-0800
TZNAME:PST
DTSTART:20271107T090000
END:STANDARD
END:VTIMEZONE
BEGIN:VEVENT
DTSTART;VALUE=DATE:20260602
DTEND;VALUE=DATE:20260603
DTSTAMP:20260420T055340
CREATED:20260415T005944Z
LAST-MODIFIED:20260415T005944Z
UID:8341-1780358400-1780444799@kamloopsvineyard.com
SUMMARY:IRON Men's Tableside Gathering (North Shore). Tuesday morning June 2nd. 6:30—7:30 am.
DESCRIPTION:We were never meant to do life and faith alone.\nJourneying together. \nHey guys\, we’re beginning to gather in coffee shops on the North Shore. Keep checking our schedule to confirm venues and times. \nProverbs 27:17 — “As iron sharpens iron\, so one man sharpens the countenance of another.” \nFor more information please contact\nMonte Campbell\, montecampbell@gmail.com\nor David Tombe\, david@kamloopsvineyard.com
URL:https://kamloopsvineyard.com/event/iron-mens-tableside-gathering-north-shore-tuesday-morning-june-2nd-630-730-am/
LOCATION:Starbucks (Tranquille)\, 1208 Tranquille Rd\, Kamloops\, BC\, V2B 3K2\, Canada
CATEGORIES:Men's Fellowship,Vineyard Life Group
ATTACH;FMTTYPE=image/jpeg:https://kamloopsvineyard.com/wp-content/uploads/2025/09/IRON-TABLESIDE-Sept-2025@1000.jpeg
END:VEVENT
BEGIN:VEVENT
DTSTART;VALUE=DATE:20260607
DTEND;VALUE=DATE:20260608
DTSTAMP:20260420T055340
CREATED:20260415T004136Z
LAST-MODIFIED:20260415T004136Z
UID:8332-1780790400-1780876799@kamloopsvineyard.com
SUMMARY:Vineyard House Church and Feast Sunday @ TBD. Sunday June 7th @ 10 am.
DESCRIPTION:Kamloops Vineyard House Church\nBe sure to check the online schedule.\nVenues and schedules may vary.\n\n\n\nWe’re fostering a meaningful connectedness with Jesus and one-another throughout the week and House Church gatherings on Sunday mornings. Keep checking in on our calendar of events to stay current with information on events taking place through the week. \n\n\nIF you would like to make more personal connections then you can contact us @ info@kamloopsvineyard.com or call us @ 250-202-5686.
URL:https://kamloopsvineyard.com/event/vineyard-house-church-and-feast-sunday-tbd-sunday-june-7th-10-am/
LOCATION:Tombe’s Home\, 1266 Pine Grove Rd\, Kamloops\, British Columbia\, V2C 6V6\, Canada
CATEGORIES:Families,Feast Sunday,House Church,In-House Connections,In-Person Worship Service,Sunday In-Person Worship,Vineyard House Church
ATTACH;FMTTYPE=image/jpeg:https://kamloopsvineyard.com/wp-content/uploads/2025/01/FeastSundays2025@1000.jpeg
END:VEVENT
BEGIN:VEVENT
DTSTART;VALUE=DATE:20260609
DTEND;VALUE=DATE:20260610
DTSTAMP:20260420T055340
CREATED:20260415T010033Z
LAST-MODIFIED:20260415T010033Z
UID:8343-1780963200-1781049599@kamloopsvineyard.com
SUMMARY:IRON Men's Tableside Gathering (North Shore). Tuesday morning June 9th. 6:30—7:30 am.
DESCRIPTION:We were never meant to do life and faith alone.\nJourneying together. \nHey guys\, we’re beginning to gather in coffee shops on the North Shore. Keep checking our schedule to confirm venues and times. \nProverbs 27:17 — “As iron sharpens iron\, so one man sharpens the countenance of another.” \nFor more information please contact\nMonte Campbell\, montecampbell@gmail.com\nor David Tombe\, david@kamloopsvineyard.com
URL:https://kamloopsvineyard.com/event/iron-mens-tableside-gathering-north-shore-tuesday-morning-june-9th-630-730-am/
LOCATION:Starbucks (Tranquille)\, 1208 Tranquille Rd\, Kamloops\, BC\, V2B 3K2\, Canada
CATEGORIES:Men's Fellowship,Vineyard Life Group
ATTACH;FMTTYPE=image/jpeg:https://kamloopsvineyard.com/wp-content/uploads/2025/09/IRON-TABLESIDE-Sept-2025@1000.jpeg
END:VEVENT
BEGIN:VEVENT
DTSTART;VALUE=DATE:20260614
DTEND;VALUE=DATE:20260615
DTSTAMP:20260420T055340
CREATED:20260415T003436Z
LAST-MODIFIED:20260415T003436Z
UID:8328-1781395200-1781481599@kamloopsvineyard.com
SUMMARY:Vineyard House Church @ TBD. Sunday June 14th @ 10 am.
DESCRIPTION:Kamloops Vineyard House Church\nBe sure to check the online schedule.\nVenues and schedules may vary.\n\n\n\nWe’re fostering a meaningful connectedness with Jesus and one-another throughout the week and House Church gatherings on Sunday mornings. Keep checking in on our calendar of events to stay current with information on events taking place through the week. \n\n\nIF you would like to make more personal connections then you can contact us @ info@kamloopsvineyard.com or call us @ 250-202-5686.
URL:https://kamloopsvineyard.com/event/vineyard-house-church-tbd-sunday-june-14th-10-am/
LOCATION:British Columbia
CATEGORIES:Families,Feast Sunday,House Church,In-House Connections,In-Person Worship Service,Sunday In-Person Worship,Vineyard House Church
ATTACH;FMTTYPE=image/jpeg:https://kamloopsvineyard.com/wp-content/uploads/2024/05/KVCHouseChurch_2024@1000.jpeg
END:VEVENT
BEGIN:VEVENT
DTSTART;VALUE=DATE:20260616
DTEND;VALUE=DATE:20260617
DTSTAMP:20260420T055340
CREATED:20260415T010120Z
LAST-MODIFIED:20260415T010120Z
UID:8345-1781568000-1781654399@kamloopsvineyard.com
SUMMARY:IRON Men's Tableside Gathering (North Shore). Tuesday morning June 16th. 6:30—7:30 am.
DESCRIPTION:We were never meant to do life and faith alone.\nJourneying together. \nHey guys\, we’re beginning to gather in coffee shops on the North Shore. Keep checking our schedule to confirm venues and times. \nProverbs 27:17 — “As iron sharpens iron\, so one man sharpens the countenance of another.” \nFor more information please contact\nMonte Campbell\, montecampbell@gmail.com\nor David Tombe\, david@kamloopsvineyard.com
URL:https://kamloopsvineyard.com/event/iron-mens-tableside-gathering-north-shore-tuesday-morning-june-16th-630-730-am/
LOCATION:Starbucks (Tranquille)\, 1208 Tranquille Rd\, Kamloops\, BC\, V2B 3K2\, Canada
CATEGORIES:Men's Fellowship,Vineyard Life Group
ATTACH;FMTTYPE=image/jpeg:https://kamloopsvineyard.com/wp-content/uploads/2025/09/IRON-TABLESIDE-Sept-2025@1000.jpeg
END:VEVENT
BEGIN:VEVENT
DTSTART;VALUE=DATE:20260621
DTEND;VALUE=DATE:20260622
DTSTAMP:20260420T055340
CREATED:20260415T003516Z
LAST-MODIFIED:20260415T003516Z
UID:8330-1782000000-1782086399@kamloopsvineyard.com
SUMMARY:Vineyard House Church @ TBD. Sunday June 21st @ 10 am.
DESCRIPTION:Kamloops Vineyard House Church\nBe sure to check the online schedule.\nVenues and schedules may vary.\n\n\n\nWe’re fostering a meaningful connectedness with Jesus and one-another throughout the week and House Church gatherings on Sunday mornings. Keep checking in on our calendar of events to stay current with information on events taking place through the week. \n\n\nIF you would like to make more personal connections then you can contact us @ info@kamloopsvineyard.com or call us @ 250-202-5686.
URL:https://kamloopsvineyard.com/event/vineyard-house-church-tbd-sunday-june-21st-10-am/
LOCATION:British Columbia
CATEGORIES:Families,Feast Sunday,House Church,In-House Connections,In-Person Worship Service,Sunday In-Person Worship,Vineyard House Church
ATTACH;FMTTYPE=image/jpeg:https://kamloopsvineyard.com/wp-content/uploads/2024/05/KVCHouseChurch_2024@1000.jpeg
END:VEVENT
BEGIN:VEVENT
DTSTART;VALUE=DATE:20260623
DTEND;VALUE=DATE:20260624
DTSTAMP:20260420T055340
CREATED:20260415T010213Z
LAST-MODIFIED:20260415T010213Z
UID:8347-1782172800-1782259199@kamloopsvineyard.com
SUMMARY:IRON Men's Tableside Gathering (North Shore). Tuesday morning June 23rd. 6:30—7:30 am.
DESCRIPTION:We were never meant to do life and faith alone.\nJourneying together. \nHey guys\, we’re beginning to gather in coffee shops on the North Shore. Keep checking our schedule to confirm venues and times. \nProverbs 27:17 — “As iron sharpens iron\, so one man sharpens the countenance of another.” \nFor more information please contact\nMonte Campbell\, montecampbell@gmail.com\nor David Tombe\, david@kamloopsvineyard.com
URL:https://kamloopsvineyard.com/event/iron-mens-tableside-gathering-north-shore-tuesday-morning-june-23rd-630-730-am/
LOCATION:Starbucks (Tranquille)\, 1208 Tranquille Rd\, Kamloops\, BC\, V2B 3K2\, Canada
CATEGORIES:Men's Fellowship,Vineyard Life Group
ATTACH;FMTTYPE=image/jpeg:https://kamloopsvineyard.com/wp-content/uploads/2025/09/IRON-TABLESIDE-Sept-2025@1000.jpeg
END:VEVENT
BEGIN:VEVENT
DTSTART;VALUE=DATE:20260628
DTEND;VALUE=DATE:20260629
DTSTAMP:20260420T055340
CREATED:20260408T205924Z
LAST-MODIFIED:20260408T210031Z
UID:7331-1782604800-1782691199@kamloopsvineyard.com
SUMMARY:Vineyard Party-In-Knutsford @ the Bylsma's Country Home. Sunday June 28th @ 10 am.
DESCRIPTION:Vineyard House Church ‘Party-In-Knutsford’\nSunday June 28th @ 10 am\nIt’s our annual outdoor celebration!\n \nHey Vineyard family. \nWe’re excited to share that the Bylsma’s our hosting our annual outdoor celebration. \nAre you planning to join us!! Invite your family and friends.\nOver the weeks to come we’ll be posting a list of things you might want to bring with you. \nDebbie and David Tombe\, info@kamloopsvineyard.com
URL:https://kamloopsvineyard.com/event/vineyard-party-in-knutsford-the-bylsmas-country-home-sunday-june-28th-10-am/
LOCATION:Bylsma’s Home\, 2650 Long Lake Rd\, Kamloops\, BC\, Canada
CATEGORIES:Outdoor Gathering,Outdoor Service,Party-In-The-Park,Sunday In-Person Family Service
ATTACH;FMTTYPE=image/jpeg:https://kamloopsvineyard.com/wp-content/uploads/2026/04/PartyInKnutsford_2026@1000.jpeg
END:VEVENT
BEGIN:VEVENT
DTSTART;VALUE=DATE:20260630
DTEND;VALUE=DATE:20260701
DTSTAMP:20260420T055340
CREATED:20260415T010259Z
LAST-MODIFIED:20260415T010259Z
UID:8349-1782777600-1782863999@kamloopsvineyard.com
SUMMARY:IRON Men's Tableside Gathering (North Shore). Tuesday morning June 30th. 6:30—7:30 am.
DESCRIPTION:We were never meant to do life and faith alone.\nJourneying together. \nHey guys\, we’re beginning to gather in coffee shops on the North Shore. Keep checking our schedule to confirm venues and times. \nProverbs 27:17 — “As iron sharpens iron\, so one man sharpens the countenance of another.” \nFor more information please contact\nMonte Campbell\, montecampbell@gmail.com\nor David Tombe\, david@kamloopsvineyard.com
URL:https://kamloopsvineyard.com/event/iron-mens-tableside-gathering-north-shore-tuesday-morning-june-30th-630-730-am/
LOCATION:Starbucks (Tranquille)\, 1208 Tranquille Rd\, Kamloops\, BC\, V2B 3K2\, Canada
CATEGORIES:Men's Fellowship,Vineyard Life Group
ATTACH;FMTTYPE=image/jpeg:https://kamloopsvineyard.com/wp-content/uploads/2025/09/IRON-TABLESIDE-Sept-2025@1000.jpeg
END:VEVENT
END:VCALENDAR