BEGIN:VCALENDAR
VERSION:2.0
PRODID:-//Kamloops Vineyard Church - ECPv6.15.16//NONSGML v1.0//EN
CALSCALE:GREGORIAN
METHOD:PUBLISH
X-ORIGINAL-URL:https://kamloopsvineyard.com
X-WR-CALDESC:Events for Kamloops Vineyard Church
REFRESH-INTERVAL;VALUE=DURATION:PT1H
X-Robots-Tag:noindex
X-PUBLISHED-TTL:PT1H
BEGIN:VTIMEZONE
TZID:America/Vancouver
BEGIN:DAYLIGHT
TZOFFSETFROM:-0800
TZOFFSETTO:-0700
TZNAME:PDT
DTSTART:20250309T100000
END:DAYLIGHT
BEGIN:STANDARD
TZOFFSETFROM:-0700
TZOFFSETTO:-0800
TZNAME:PST
DTSTART:20251102T090000
END:STANDARD
BEGIN:DAYLIGHT
TZOFFSETFROM:-0800
TZOFFSETTO:-0700
TZNAME:PDT
DTSTART:20260308T100000
END:DAYLIGHT
BEGIN:STANDARD
TZOFFSETFROM:-0700
TZOFFSETTO:-0800
TZNAME:PST
DTSTART:20261101T090000
END:STANDARD
BEGIN:DAYLIGHT
TZOFFSETFROM:-0800
TZOFFSETTO:-0700
TZNAME:PDT
DTSTART:20270314T100000
END:DAYLIGHT
BEGIN:STANDARD
TZOFFSETFROM:-0700
TZOFFSETTO:-0800
TZNAME:PST
DTSTART:20271107T090000
END:STANDARD
END:VTIMEZONE
BEGIN:VEVENT
DTSTART;VALUE=DATE:20260420
DTEND;VALUE=DATE:20260423
DTSTAMP:20260420T020121
CREATED:20260316T210455Z
LAST-MODIFIED:20260414T232745Z
UID:8240-1776643200-1776902399@kamloopsvineyard.com
SUMMARY:Western Regional Vineyard Pastors Retreat 2026. Rockridge BC. April 20th - 22nd.
DESCRIPTION:By special invite the Western Regional Vineyard brings together regional pastors and leaders for a short-but-sweet retreat to rest\, replenish\, and encourage one another. If you’d like to know more about the Vineyard click on the follow link\, Seeking the Way of Jesus.
URL:https://kamloopsvineyard.com/event/western-regional-vineyard-pastors-retreat-2026-rockridge-bc-april-20th-22nd/
LOCATION:British Columbia
ATTACH;FMTTYPE=image/jpeg:https://kamloopsvineyard.com/wp-content/uploads/2026/03/rockridge_pic@1000.jpg
END:VEVENT
BEGIN:VEVENT
DTSTART;VALUE=DATE:20260421
DTEND;VALUE=DATE:20260422
DTSTAMP:20260420T020121
CREATED:20260318T002328Z
LAST-MODIFIED:20260318T002429Z
UID:8252-1776729600-1776815999@kamloopsvineyard.com
SUMMARY:IRON Men's Tableside Gathering (North Shore). Tuesday morning Apr 21st. 6:30—7:30 am.
DESCRIPTION:We were never meant to do life and faith alone.\nJourneying together. \nHey guys\, we’re beginning to gather in coffee shops on the North Shore. Keep checking our schedule to confirm venues and times. \nProverbs 27:17 — “As iron sharpens iron\, so one man sharpens the countenance of another.” \nFor more information please contact\nMonte Campbell\, montecampbell@gmail.com\nor David Tombe\, david@kamloopsvineyard.com
URL:https://kamloopsvineyard.com/event/iron-mens-tableside-gathering-north-shore-tuesday-morning-apr-21st-630-730-am/
LOCATION:Starbucks (Tranquille)\, 1208 Tranquille Rd\, Kamloops\, BC\, V2B 3K2\, Canada
CATEGORIES:Men's Fellowship,Vineyard Life Group
ATTACH;FMTTYPE=image/jpeg:https://kamloopsvineyard.com/wp-content/uploads/2025/09/IRON-TABLESIDE-Sept-2025@1000.jpeg
END:VEVENT
BEGIN:VEVENT
DTSTART;VALUE=DATE:20260425
DTEND;VALUE=DATE:20260426
DTSTAMP:20260420T020121
CREATED:20260414T232521Z
LAST-MODIFIED:20260414T232613Z
UID:8293-1777075200-1777161599@kamloopsvineyard.com
SUMMARY:Men's Night @ TBD.  Saturday Apr 25th @ 7:30 pm.
DESCRIPTION:‘We’re better together!’\nTypically an evening of random fun\, snacks and conversation. Once a month men are gathering in a home\, around a fire\, or somewhere out in nature. all of it with the intention to build up and encourage one another. \nFor more details contact Monte Campbell at 778-220-3296 or montecampbell@gmail.com
URL:https://kamloopsvineyard.com/event/change-in-venue-mens-night-tbd-saturday-apr-25th-730-pm/
LOCATION:British Columbia
CATEGORIES:Men's Fellowship,Vineyard Life Group
ATTACH;FMTTYPE=image/jpeg:https://kamloopsvineyard.com/wp-content/uploads/2024/10/MensNight_nodate.jpg
END:VEVENT
BEGIN:VEVENT
DTSTART;VALUE=DATE:20260426
DTEND;VALUE=DATE:20260427
DTSTAMP:20260420T020121
CREATED:20260318T003638Z
LAST-MODIFIED:20260417T213900Z
UID:8263-1777161600-1777247999@kamloopsvineyard.com
SUMMARY:Vineyard House Church @ the Fast's (Mt Dufferin). Sunday Apr 26th @ 10 am.
DESCRIPTION:Kamloops Vineyard House Church\nBe sure to check the online schedule.\nVenues and schedules may vary.\n\n\n\nWe’re fostering a meaningful connectedness with Jesus and one-another throughout the week and House Church gatherings on Sunday mornings. Keep checking in on our calendar of events to stay current with information on events taking place through the week. \n\n\nIF you would like to make more personal connections then you can contact us @ info@kamloopsvineyard.com or call us @ 250-202-5686.
URL:https://kamloopsvineyard.com/event/vineyard-house-church-the-fasts-sunday-apr-26th-10-am/
LOCATION:Fast’s Home\, 1660 Mt Dufferin Drive\, Kamloops\, British Columbia\, V2E 1A2\, Canada
CATEGORIES:Families,Feast Sunday,House Church,In-House Connections,In-Person Worship Service,Sunday In-Person Worship,Vineyard House Church
ATTACH;FMTTYPE=image/jpeg:https://kamloopsvineyard.com/wp-content/uploads/2024/05/KVCHouseChurch_2024@1000.jpeg
END:VEVENT
BEGIN:VEVENT
DTSTART;VALUE=DATE:20260428
DTEND;VALUE=DATE:20260429
DTSTAMP:20260420T020121
CREATED:20260318T002507Z
LAST-MODIFIED:20260318T002507Z
UID:8255-1777334400-1777420799@kamloopsvineyard.com
SUMMARY:IRON Men's Tableside Gathering (North Shore). Tuesday morning Apr 28th. 6:30—7:30 am.
DESCRIPTION:We were never meant to do life and faith alone.\nJourneying together. \nHey guys\, we’re beginning to gather in coffee shops on the North Shore. Keep checking our schedule to confirm venues and times. \nProverbs 27:17 — “As iron sharpens iron\, so one man sharpens the countenance of another.” \nFor more information please contact\nMonte Campbell\, montecampbell@gmail.com\nor David Tombe\, david@kamloopsvineyard.com
URL:https://kamloopsvineyard.com/event/iron-mens-tableside-gathering-north-shore-tuesday-morning-apr-28th-630-730-am/
LOCATION:Starbucks (Tranquille)\, 1208 Tranquille Rd\, Kamloops\, BC\, V2B 3K2\, Canada
CATEGORIES:Men's Fellowship,Vineyard Life Group
ATTACH;FMTTYPE=image/jpeg:https://kamloopsvineyard.com/wp-content/uploads/2025/09/IRON-TABLESIDE-Sept-2025@1000.jpeg
END:VEVENT
END:VCALENDAR