BEGIN:VCALENDAR
VERSION:2.0
PRODID:-//Kamloops Vineyard Church - ECPv6.15.16//NONSGML v1.0//EN
CALSCALE:GREGORIAN
METHOD:PUBLISH
X-ORIGINAL-URL:https://kamloopsvineyard.com
X-WR-CALDESC:Events for Kamloops Vineyard Church
REFRESH-INTERVAL;VALUE=DURATION:PT1H
X-Robots-Tag:noindex
X-PUBLISHED-TTL:PT1H
BEGIN:VTIMEZONE
TZID:America/Vancouver
BEGIN:DAYLIGHT
TZOFFSETFROM:-0800
TZOFFSETTO:-0700
TZNAME:PDT
DTSTART:20210314T100000
END:DAYLIGHT
BEGIN:STANDARD
TZOFFSETFROM:-0700
TZOFFSETTO:-0800
TZNAME:PST
DTSTART:20211107T090000
END:STANDARD
BEGIN:DAYLIGHT
TZOFFSETFROM:-0800
TZOFFSETTO:-0700
TZNAME:PDT
DTSTART:20220313T100000
END:DAYLIGHT
BEGIN:STANDARD
TZOFFSETFROM:-0700
TZOFFSETTO:-0800
TZNAME:PST
DTSTART:20221106T090000
END:STANDARD
BEGIN:DAYLIGHT
TZOFFSETFROM:-0800
TZOFFSETTO:-0700
TZNAME:PDT
DTSTART:20230312T100000
END:DAYLIGHT
BEGIN:STANDARD
TZOFFSETFROM:-0700
TZOFFSETTO:-0800
TZNAME:PST
DTSTART:20231105T090000
END:STANDARD
END:VTIMEZONE
BEGIN:VEVENT
DTSTART;VALUE=DATE:20220720
DTEND;VALUE=DATE:20220724
DTSTAMP:20260421T011653
CREATED:20220223T224534Z
LAST-MODIFIED:20220511T225338Z
UID:3436-1658275200-1658620799@kamloopsvineyard.com
SUMMARY:Vineyard Canada. National Celebration. July 20th to 23rd.
DESCRIPTION:Calgary Alberta July 20-23\, 2022 “Just Jesus” We are so excited to be gathering together again this summer. \nThe Celebration will begin the evening of July 20th and end at 12pm on Saturday July 23rd. There will be morning\, afternoon and evening sessions on the Thursday and Friday. \nEvery four years our Canadian Vineyard Family comes together to celebrate the life we share as followers of Jesus and His way. This July we will be gathering in Calgary Alberta. As we look over the years since our last National Celebration\, we are keenly aware that Jesus the Master gardener has been at work in this Canadian Vineyard garden. It has been a revealing and pruning time for us all\, a season of roots being established and reestablished and robust strength being added to our weakness. \nFor more information\, ticket purchases and updates please visit things posted to ‘Eventbrite’ by clicking here.
URL:https://kamloopsvineyard.com/event/vineyard-canada-national-celebration-july-20th-23rd/
LOCATION:Journey Chuch\, 10307 Eamon Road Northwest\, Calgary\, Alberta\, T3G 5H2\, Canada
CATEGORIES:Special Event,Vineyard Canada Gathering
ATTACH;FMTTYPE=image/jpeg:https://kamloopsvineyard.com/wp-content/uploads/2022/02/VC_NationalCelebration2022_original.jpeg
END:VEVENT
END:VCALENDAR