BEGIN:VCALENDAR
VERSION:2.0
PRODID:-//Kamloops Vineyard Church - ECPv6.15.16//NONSGML v1.0//EN
CALSCALE:GREGORIAN
METHOD:PUBLISH
X-WR-CALNAME:Kamloops Vineyard Church
X-ORIGINAL-URL:https://kamloopsvineyard.com
X-WR-CALDESC:Events for Kamloops Vineyard Church
REFRESH-INTERVAL;VALUE=DURATION:PT1H
X-Robots-Tag:noindex
X-PUBLISHED-TTL:PT1H
BEGIN:VTIMEZONE
TZID:America/Vancouver
BEGIN:DAYLIGHT
TZOFFSETFROM:-0800
TZOFFSETTO:-0700
TZNAME:PDT
DTSTART:20200308T100000
END:DAYLIGHT
BEGIN:STANDARD
TZOFFSETFROM:-0700
TZOFFSETTO:-0800
TZNAME:PST
DTSTART:20201101T090000
END:STANDARD
BEGIN:DAYLIGHT
TZOFFSETFROM:-0800
TZOFFSETTO:-0700
TZNAME:PDT
DTSTART:20210314T100000
END:DAYLIGHT
BEGIN:STANDARD
TZOFFSETFROM:-0700
TZOFFSETTO:-0800
TZNAME:PST
DTSTART:20211107T090000
END:STANDARD
BEGIN:DAYLIGHT
TZOFFSETFROM:-0800
TZOFFSETTO:-0700
TZNAME:PDT
DTSTART:20220313T100000
END:DAYLIGHT
BEGIN:STANDARD
TZOFFSETFROM:-0700
TZOFFSETTO:-0800
TZNAME:PST
DTSTART:20221106T090000
END:STANDARD
BEGIN:DAYLIGHT
TZOFFSETFROM:-0800
TZOFFSETTO:-0700
TZNAME:PDT
DTSTART:20230312T100000
END:DAYLIGHT
BEGIN:STANDARD
TZOFFSETFROM:-0700
TZOFFSETTO:-0800
TZNAME:PST
DTSTART:20231105T090000
END:STANDARD
BEGIN:DAYLIGHT
TZOFFSETFROM:-0800
TZOFFSETTO:-0700
TZNAME:PDT
DTSTART:20240310T100000
END:DAYLIGHT
BEGIN:STANDARD
TZOFFSETFROM:-0700
TZOFFSETTO:-0800
TZNAME:PST
DTSTART:20241103T090000
END:STANDARD
END:VTIMEZONE
BEGIN:VEVENT
DTSTART;VALUE=DATE:20230618
DTEND;VALUE=DATE:20230619
DTSTAMP:20260421T130902
CREATED:20230614T182615Z
LAST-MODIFIED:20230614T182755Z
UID:4716-1687046400-1687132799@kamloopsvineyard.com
SUMMARY:Fathers' Day @ the Beach. Paul Lake Provincial Park. Sunday June 18th @ 11 am.
DESCRIPTION:Sunday June 18th @ 11 am\nFathers’ Day @ the Beach\nPaul Lake Provincial Park\nFamily Home Group Celebration\nEveryone is welcome!!\nBring your own lunch and everything you and the kids need to safely play on the beach and in the water!!!\nIce-Cream Cake to be served in celebration of our Dads.
URL:https://kamloopsvineyard.com/event/fathers-day-the-beach-paul-lake-provincial-park-sunday-june-18th-11-am/
LOCATION:Paul Lake Provincial Park\, British Columbia\, V0E 3E0\, Canada
ATTACH;FMTTYPE=image/jpeg:https://kamloopsvineyard.com/wp-content/uploads/2023/06/FathersDay@theBeach_Jun1823@1000.jpeg
END:VEVENT
BEGIN:VEVENT
DTSTART;TZID=America/Vancouver:20210620T110000
DTEND;TZID=America/Vancouver:20210620T130000
DTSTAMP:20260421T130902
CREATED:20210611T190833Z
LAST-MODIFIED:20210617T220548Z
UID:2621-1624186800-1624194000@kamloopsvineyard.com
SUMMARY:Father's Day Lakeside Picnic @ Paul Lake Provincial Park
DESCRIPTION:Hello Vineyard friends and families\, \nWe’re setting aside our Vineyard Outdoors Sunday Worship Service in Knutsford to enjoy a full morning and afternoon as friends and families at the Paul Lake Provincial Park on Sunday June 20th @ 11 am. \nCan we encourage you to register you and your household in advance? Please click here. \nWhat should you bring? \nIt’s going to play out as a simple and laid back connection of people at the beach. Everyone is encouraged to supply their own food\, chairs\, blankets\, suntents\, sunhats\, sunglasses\, sunscreen\, swimsuits\, floatation toys safety devices\, Kayak’s\, towels\, change-of-clothing\, musical instruments; anything you might need to enjoy a full day at the lake’s sandy beach and grasside picnic area. \nDebbie is going to prepare a cake to help us celebrate and honour our Father’s. \nFor ‘googlemap directions’ to the Paul Lakeside Beach\, click here. For information on the Paul Lake Provincial Park please go to the BC Parks website by clicking here. \n– – – \nMasks are a requirement where people outside of your household are maintaining close proximation to one another. \nYou are encouraged to exercise 2 meters of distancing and avoid extended congregation with people outside of your household or five-person associations. \nIF you or anyone from your household is presenting with FLU-LIKE conditions please remain at home and consider getting tested for COVID-19\, and especially if symptoms persist. Click this link for some helpful guidance. \n– – – \nContact people: \nConnie Smith\, connie@kamloopsvineyard.com\nDebbie Tombe\, debbie@kamloopsvineyard.com
URL:https://kamloopsvineyard.com/event/fathers-day-lakeside-picnic-paul-lake-provincial-park/
LOCATION:Paul Lake Provincial Park\, British Columbia\, V0E 3E0\, Canada
CATEGORIES:Informal,Outdoor Gathering
ATTACH;FMTTYPE=image/jpeg:https://kamloopsvineyard.com/wp-content/uploads/2021/06/FathersDayLakesidePicnic@1000.jpeg
END:VEVENT
END:VCALENDAR