BEGIN:VCALENDAR
VERSION:2.0
PRODID:-//Kamloops Vineyard Church - ECPv6.15.16//NONSGML v1.0//EN
CALSCALE:GREGORIAN
METHOD:PUBLISH
X-ORIGINAL-URL:https://kamloopsvineyard.com
X-WR-CALDESC:Events for Kamloops Vineyard Church
REFRESH-INTERVAL;VALUE=DURATION:PT1H
X-Robots-Tag:noindex
X-PUBLISHED-TTL:PT1H
BEGIN:VTIMEZONE
TZID:America/Vancouver
BEGIN:DAYLIGHT
TZOFFSETFROM:-0800
TZOFFSETTO:-0700
TZNAME:PDT
DTSTART:20200308T100000
END:DAYLIGHT
BEGIN:STANDARD
TZOFFSETFROM:-0700
TZOFFSETTO:-0800
TZNAME:PST
DTSTART:20201101T090000
END:STANDARD
BEGIN:DAYLIGHT
TZOFFSETFROM:-0800
TZOFFSETTO:-0700
TZNAME:PDT
DTSTART:20210314T100000
END:DAYLIGHT
BEGIN:STANDARD
TZOFFSETFROM:-0700
TZOFFSETTO:-0800
TZNAME:PST
DTSTART:20211107T090000
END:STANDARD
BEGIN:DAYLIGHT
TZOFFSETFROM:-0800
TZOFFSETTO:-0700
TZNAME:PDT
DTSTART:20220313T100000
END:DAYLIGHT
BEGIN:STANDARD
TZOFFSETFROM:-0700
TZOFFSETTO:-0800
TZNAME:PST
DTSTART:20221106T090000
END:STANDARD
END:VTIMEZONE
BEGIN:VEVENT
DTSTART;VALUE=DATE:20211226
DTEND;VALUE=DATE:20211227
DTSTAMP:20260421T161134
CREATED:20211209T200658Z
LAST-MODIFIED:20211226T183940Z
UID:3261-1640476800-1640563199@kamloopsvineyard.com
SUMMARY:Online Worship Gathering with David and Anita Ruis. Sunday Dec 26th @ 10 am.
DESCRIPTION:Boxing Day Sunday Dec 26th @ 10 am.\n \nVineyard Canada’s National Directors\, David and Anita Ruis\, are creating a simple worship\, reflection\, and prayer service to share with our Canadian churches on Sunday December 26th. Lending their pastoral strength and wisdom to our Vineyard family\, the Ruis’s are going to reflect on the past year and orient us toward the year ahead. \nKamloops Vineyard Streaming\nYouTube
URL:https://kamloopsvineyard.com/event/vineyard-canada-national-worship-gathering-dec-26th/
LOCATION:Kamloops Vineyard Streaming\, Canada
CATEGORIES:Streaming ONLINE,Vineyard Canada Gathering
ATTACH;FMTTYPE=image/png:https://kamloopsvineyard.com/wp-content/uploads/2021/12/VC_NationalWorshipGathering_Dec26@1000.png
END:VEVENT
BEGIN:VEVENT
DTSTART;TZID=America/Vancouver:20210718T100000
DTEND;TZID=America/Vancouver:20210718T120000
DTSTAMP:20260421T161134
CREATED:20210701T190035Z
LAST-MODIFIED:20210716T171542Z
UID:2753-1626602400-1626609600@kamloopsvineyard.com
SUMMARY:the Missional Discourse No 3. Streaming LIVE. Sunday July 18th @ 10 am.
DESCRIPTION:We’re Streaming LIVE from Barnhartvale.\nSunday July 18th @ 10 am.\n \nThis Sunday David hosts a LIVE conversation with elders and leaders Allan Clarkson and Connie Smith\, and missional leader Merve Fedrau. The third instalment\,  in our mini-series\, ‘the Missional Discourse’\, we want to talk about the measure of grace afforded our Vineyard family to present JESUS’ mercy and compassion beyond our church walls. \nThe Kingdom of God is closer than you think! \n– – – \nSunday Services Stream Online through\nVineyard Facebook Public\nVineyard Facebook Groups\nVineyard Youtube
URL:https://kamloopsvineyard.com/event/the-missional-discourse-no-3-streaming-live-sunday-july-18th-10-am/
LOCATION:Kamloops Vineyard Streaming\, Canada
CATEGORIES:Streaming LIVE,Streaming ONLINE
ATTACH;FMTTYPE=image/jpeg:https://kamloopsvineyard.com/wp-content/uploads/2021/07/theMissionalDiscourseSeries@1000.jpeg
END:VEVENT
BEGIN:VEVENT
DTSTART;TZID=America/Vancouver:20210704T100000
DTEND;TZID=America/Vancouver:20210704T103000
DTSTAMP:20260421T161134
CREATED:20210630T202122Z
LAST-MODIFIED:20210701T140955Z
UID:2688-1625392800-1625394600@kamloopsvineyard.com
SUMMARY:Streamed Testimony and Message from Todd Rutowski\, Vineyard Canada. Sunday July 4th @ 10 am.
DESCRIPTION:‘From a Goat Hole to God’s Shalom’ . . . with Todd Rutowski\n \nDebbie and I are pleased to offer this timely message\, created especially for this season\, AND for all of us as individuals and the community of faith. My guttural response to Todd’s message: ‘Our Father is saving and restoring our whole person’. Whatever your priorities through this Summer season\, make a determined effort to listen to this critically important message! \nKamloops Vineyard Facebook Public\nKamloops Vineyard Facebook Group\nKamloops Vineyard YouTube \nTodd Rutowski — \n“Our health matters. As a society\, whether it is our emotional\, physical\, mental or spiritual health\, we are beginning to recognize that there is a need for greater peace in our lives. Shalom is the Hebrew word for peace\, well – being\, and wholeness. As God\, by His Spirit\, works his shalom into our lives we become healthier people. Recognizing and cooperating with the process of God’s shalom moves us towards greater wholeness. At times healing requires hurt. When we are vulnerable and face our brokenness\, in the context of spiritual community\, the community becomes healthier and we become healthier. Join us as we follow the way of Jesus in becoming more like him.” \nIsaiah 41:10 (NLT)\n\nDon’t be afraid\, for I am with you.\nDon’t be discouraged\, for I am your God.\nI will strengthen you and help you.\nI will hold you up with my victorious right hand. \nTodd Rutowski\nLeadership and Community Health\nVineyard Canada | vineyard.ca
URL:https://kamloopsvineyard.com/event/important-steamed-message-from-todd-rutowski-vineyard-canada-sunday-july-4th-10-am/
LOCATION:Kamloops Vineyard Streaming\, Canada
CATEGORIES:Streaming ONLINE
ATTACH;FMTTYPE=image/png:https://kamloopsvineyard.com/wp-content/uploads/2021/06/VC_GoatHoletoShalom.png
END:VEVENT
END:VCALENDAR